Workbook
Name _ftnref1: Appendix!#REF!
Name _ftnref1: Glossary!$D$12
Name Alice_Alc1: OFFSET([2]Alice_1!$U$14,0,0,COUNTA([2]Alice_1!$U$14:$U$1001),1)
Name Alice_Alc2: OFFSET([2]Alice_1!$V$14,0,0,COUNTA([2]Alice_1!$V$14:$V$1001),1)
Name Alice_Alc3: OFFSET([2]Alice_1!$W$14,0,0,COUNTA([2]Alice_1!$W$14:$W$1001),1)
Name Alice_Axis: OFFSET([2]Alice_1!$B$14,0,0,COUNTA([2]Alice_1!$C$14:$C$1001),2)
Name Alice_Damage: OFFSET([2]Alice_1!$N$14,0,0,COUNTA([2]Alice_1!$N$14:$N$1001),1)
Name Alice_Prop: OFFSET([2]Alice_1!$Q$14,0,0,COUNTA([2]Alice_1!$Q$14:$Q$1001),1)
Name Alice_Theft: OFFSET([2]Alice_1!$M$14,0,0,COUNTA([2]Alice_1!$M$14:$M$1001),1)
Name Bal_Damage: OFFSET([2]NT_Balance_1!$N$14,0,0,COUNTA([2]NT_Balance_1!$N$14:$N$1001),1)
Name Bal_Prop: OFFSET([2]NT_Balance_1!$Q$14,0,0,COUNTA([2]NT_Balance_1!$Q$14:$Q$1001),1)
Name Bal_Theft: OFFSET([2]NT_Balance_1!$M$14,0,0,COUNTA([2]NT_Balance_1!$M$14:$M$1001),1)
Name Darwin_Axis: OFFSET([2]Darwin_1!$B$14,0,0,COUNTA([2]Darwin_1!$C$14:$C$1001),2)
Name Darwin_Prop: OFFSET([2]Darwin_1!$Q$14,0,0,COUNTA([2]Darwin_1!$Q$14:$Q$1001),1)
Name Nhu_Prop: OFFSET([2]Nhulunbuy_1!$Q$14,0,0,COUNTA([2]Nhulunbuy_1!$Q$14:$Q$1001),1)
Name no: '[3]Explanatory Notes'!#REF!
Name NT_Alc1: OFFSET([2]NT_1!$U$14,0,0,COUNTA([2]NT_1!$U$14:$U$1002),1)
Name NT_Alc2: OFFSET([2]NT_1!$V$14,0,0,COUNTA([2]NT_1!$V$14:$V$1002),1)
Name NT_Alc3: OFFSET([2]NT_1!$W$14,0,0,COUNTA([2]NT_1!$W$14:$W$1002),1)
Name NT_Axis: OFFSET([2]NT_1!$B$14,0,0,COUNTA([2]NT_1!$C$14:$C$1002),2)
Name NT_CBreakins: OFFSET([2]NT_1!$K$14,0,0,COUNTA([2]NT_1!$K$14:$K$1002),1)
Name NT_DV: OFFSET([2]NT_1!$R$14,0,0,COUNTA([2]NT_1!$R$14:$R$1002),1)
Name NT_HBreakins: OFFSET([2]NT_1!$J$14,0,0,COUNTA([2]NT_1!$J$14:$J$1002),1)
Name NT_NonDV: OFFSET([2]NT_1!$S$14,0,0,COUNTA([2]NT_1!$S$14:$S$1002),1)
Name NT_Prop: OFFSET([2]NT_1!$Q$14,0,0,COUNTA([2]NT_1!$Q$14:$Q$1002),1)
Name Palm_Assaults: OFFSET([2]Palmerston_1!$T$14,0,0,COUNTA([2]Palmerston_1!$T$14:$T$1001),1)
Name Palm_Damage: OFFSET([2]Palmerston_1!$N$14,0,0,COUNTA([2]Palmerston_1!$N$14:$N$1001),1)
Name Palm_Theft: OFFSET([2]Palmerston_1!$M$14,0,0,COUNTA([2]Palmerston_1!$M$14:$M$1001),1)
Name scope: '[3]Explanatory Notes'!#REF!
Name scope: '[3]Explanatory Notes'!#REF!
Name scope: '[3]Explanatory Notes'!#REF!
Name scope: '[3]Explanatory Notes'!#REF!
Name scope: '[3]Explanatory Notes'!#REF!
Name scope: '[3]Explanatory Notes'!#REF!
Name table1: [3]Contents!#REF!
Name table1: [3]Contents!#REF!
Name table1: [3]Contents!#REF!
Name table1: [3]Contents!#REF!
Name table1: [3]Contents!#REF!
Name table1: [3]Contents!#REF!

Sheet Contents
A2: Northern Territory Crime Statistics
A3: ="Data through " &[1]Quarterly!$A$1 -> Data through April 2022
B5: Contents
B6: Tables
B7: 1 | C7: ="Offences against the person and against property by month, "&[1]Monthly!$A$1 -> Offences against the person and against property by month, February 2020 to April 2022
B8: 2 | C8: ="Assault offences by domestic violence and alcohol involvement, by month, "&[1]A_Monthly!$A$1 -> Assault offences by domestic violence and alcohol involvement, by month, February 2020 to April 2022
B9: 3 | C9: Yearly offences against the person and against property and offence rates per 100,000 population, 6 most recent years
B10: 4 | C10: Yearly assault offences and offence rates per 100,000 population by domestic violence and alcohol involvement, 6 most recent years
B11: Glossary
B12: Appendix
B15: Additional information is available at: | G15: https://justice.nt.gov.au/statistics-and-strategy
B16: For enquiries about these statistics, contact the Criminal Justice Research and Statistics Unit, Department of the Attorney-General and Justice: | O16: ResearchStatistics.AGD@nt.gov.au
B17: Provisional Data
B18: 1 | C18: Data for the most recent three months (shown as shaded) should be treated as provisional. Numbers of offences in these months may increase by 5-10% for the NT and by a larger percentage in regions, as investigations and data entry are completed over the next several months.
B19: Explanatory Notes
B20: 1 | C20: These statistics were prepared by the Criminal Justice Research and Statistics Unit based in the Northern Territory Department of the Attorney-General and Justice for use by Government agencies, other organisations, researchers and members of the public.
B21: 2 | C21: ="The information used to prepare these statistics was recorded by the Northern Territory Police in the Police Real-time On-line Management Information System and extracted on " & DAY([1]Yearly!$E$1) & " " & TEXT(MONTH([1]Yearly!$E$1)*29,"mmmm") & " " & YEAR([1]Yearly!$E$1) &" . The system is frequently updated as new information comes to light. Therefore these statistics may differ slightly from those produced at an earlier or later date. " -> The information used to prepare these statistics was recorded by the Northern Territory Police in the Police Real-time On-line Management Information System and extracted on 1 June 2022 . The system is frequently updated as new information comes to light. Therefore these statistics may differ slightly from those produced at an earlier or later date.
B22: 3 | C22: ="The suggested citation for this information is: Northern Territory Crime Statistics, data through " &[1]Quarterly!$A$1& ". Department of the Attorney-General and Justice, " & TEXT(MONTH([1]Yearly!$E$1)*29,"mmmm")& " " &YEAR([1]Yearly!$E$1) &"." -> The suggested citation for this information is: Northern Territory Crime Statistics, data through April 2022. Department of the Attorney-General and Justice, June 2022.
B23: 4 | C23: These data represent offences. Offence statistics may not be comparable with those published by other jurisdictions as offence definitions have not been standardised.
B24: 5 | C24: Offences are classified using the Australian and New Zealand Standard Offence Classification (ANZSOC) 2011. The Northern Territory Police divide category 0711 (Unlawful entry) into offences against residential properties (House break-ins) and against other properties (Commercial break-ins). Each of these is divided into actual and attempted break-ins.
B25: 6 | C25: Offence rates are calculated using the NT Estimated Resident Population data from the Australian Bureau of Statistics (Australian Demographic Statistics, cat. 3101.0, with regional splits based on Regional Population Growth, Australia, cat. 3218.0). The offence rates should be considered indicative only. Population estimates used are shown in the Appendix.
B26: 7 | C26: Involvement of domestic violence and/or alcohol in the offence is determined by the NT Police at the time of the offence. In some situations it is not possible to determine whether alcohol is involved in an offence.
B27: 8 | C27: The Northern Territory has a small population and certain offences show strong seasonal impacts. Therefore, the crime statistics can fluctuate considerably between months, particularly at a regional level. These fluctuations should not, of themselves, be interpreted as changing trends in crime. The crime statistics are also subject to influence from changes in legislation, public behaviour in reporting crime and Police operations. Care should be used in attributing annual changes to a particular cause.

Sheet Table 1
A1: 1
E3: Northern Territory Crime Statistics
E4: ="Data through " &[1]Quarterly!$A$1 -> Data through April 2022
C5: =[1]Current!$E$2 -> P1 | D5: =[1]Current!$F$2 -> P2 | E5: Number of offences | F5: =[1]Monthly!E$4 -> Feb-20 | G5: =[1]Monthly!F$4 -> Mar-20 | H5: =[1]Monthly!G$4 -> Apr-20 | I5: =[1]Monthly!H$4 -> May-20 | J5: =[1]Monthly!I$4 -> Jun-20 | K5: =[1]Monthly!J$4 -> Jul-20 | L5: =[1]Monthly!K$4 -> Aug-20 | M5: =[1]Monthly!L$4 -> Sep-20 | ... AF5: =[1]Monthly!AE$4 -> Apr-22
C6: =C44+C82+C120+C158+C196+C234+C272 -> 3 | D6: =D44+D82+D120+D158+D196+D234+D272 -> 5 | E6: 0111 Murder | F6: =F44+F82+F120+F158+F196+F234+F272 -> 0 | G6: =G44+G82+G120+G158+G196+G234+G272 -> 0 | H6: =H44+H82+H120+H158+H196+H234+H272 -> 1 | I6: =I44+I82+I120+I158+I196+I234+I272 -> 1 | J6: =J44+J82+J120+J158+J196+J234+J272 -> 1 | K6: =K44+K82+K120+K158+K196+K234+K272 -> 0 | L6: =L44+L82+L120+L158+L196+L234+L272 -> 0 | M6: =M44+M82+M120+M158+M196+M234+M272 -> 0 | ... AF6: =AF44+AF82+AF120+AF158+AF196+AF234+AF272 -> 1
C7: =C45+C83+C121+C159+C197+C235+C273 -> 2 | D7: =D45+D83+D121+D159+D197+D235+D273 -> 4 | E7: 0121 Attempted murder | F7: =F45+F83+F121+F159+F197+F235+F273 -> 0 | G7: =G45+G83+G121+G159+G197+G235+G273 -> 0 | H7: =H45+H83+H121+H159+H197+H235+H273 -> 0 | I7: =I45+I83+I121+I159+I197+I235+I273 -> 0 | J7: =J45+J83+J121+J159+J197+J235+J273 -> 1 | K7: =K45+K83+K121+K159+K197+K235+K273 -> 0 | L7: =L45+L83+L121+L159+L197+L235+L273 -> 0 | M7: =M45+M83+M121+M159+M197+M235+M273 -> 1 | ... AF7: =AF45+AF83+AF121+AF159+AF197+AF235+AF273 -> 0
C8: =C46+C84+C122+C160+C198+C236+C274 -> 2 | D8: =D46+D84+D122+D160+D198+D236+D274 -> 4 | E8: 0131 Manslaughter | F8: =F46+F84+F122+F160+F198+F236+F274 -> 0 | G8: =G46+G84+G122+G160+G198+G236+G274 -> 0 | H8: =H46+H84+H122+H160+H198+H236+H274 -> 1 | I8: =I46+I84+I122+I160+I198+I236+I274 -> 0 | J8: =J46+J84+J122+J160+J198+J236+J274 -> 0 | K8: =K46+K84+K122+K160+K198+K236+K274 -> 1 | L8: =L46+L84+L122+L160+L198+L236+L274 -> 0 | M8: =M46+M84+M122+M160+M198+M236+M274 -> 0 | ... AF8: =AF46+AF84+AF122+AF160+AF198+AF236+AF274 -> 1
C9: =C47+C85+C123+C161+C199+C237+C275 -> 1 | D9: =D47+D85+D123+D161+D199+D237+D275 -> 8 | E9: 0132 Driving causing death | F9: =F47+F85+F123+F161+F199+F237+F275 -> 0 | G9: =G47+G85+G123+G161+G199+G237+G275 -> 0 | H9: =H47+H85+H123+H161+H199+H237+H275 -> 0 | I9: =I47+I85+I123+I161+I199+I237+I275 -> 0 | J9: =J47+J85+J123+J161+J199+J237+J275 -> 0 | K9: =K47+K85+K123+K161+K199+K237+K275 -> 0 | L9: =L47+L85+L123+L161+L199+L237+L275 -> 0 | M9: =M47+M85+M123+M161+M199+M237+M275 -> 0 | ... AF9: =AF47+AF85+AF123+AF161+AF199+AF237+AF275 -> 1
C10: =C48+C86+C124+C162+C200+C238+C276 -> 8 | D10: =D48+D86+D124+D162+D200+D238+D276 -> 21 | E10: 01 Homicide and related offences | F10: =SUM(F6:F9) -> 0 | G10: =SUM(G6:G9) -> 0 | H10: =SUM(H6:H9) -> 2 | I10: =SUM(I6:I9) -> 1 | J10: =SUM(J6:J9) -> 2 | K10: =SUM(K6:K9) -> 1 | L10: =SUM(L6:L9) -> 0 | M10: =SUM(M6:M9) -> 1 | ... AF10: =SUM(AF6:AF9) -> 3
C11: =C49+C87+C125+C163+C201+C239+C277 -> 7422 | D11: =D49+D87+D125+D163+D201+D239+D277 -> 7438 | E11: 021 Assault | F11: =F49+F87+F125+F163+F201+F239+F277 -> 625 | G11: =G49+G87+G125+G163+G201+G239+G277 -> 654 | H11: =H49+H87+H125+H163+H201+H239+H277 -> 483 | I11: =I49+I87+I125+I163+I201+I239+I277 -> 496 | J11: =J49+J87+J125+J163+J201+J239+J277 -> 565 | K11: =K49+K87+K125+K163+K201+K239+K277 -> 643 | L11: =L49+L87+L125+L163+L201+L239+L277 -> 709 | M11: =M49+M87+M125+M163+M201+M239+M277 -> 785 | ... AF11: =AF49+AF87+AF125+AF163+AF201+AF239+AF277 -> 752
C12: =C50+C88+C126+C164+C202+C240+C278 -> 35 | D12: =D50+D88+D126+D164+D202+D240+D278 -> 18 | E12: 029 Acts intended to cause injury - other | F12: =F50+F88+F126+F164+F202+F240+F278 -> 3 | G12: =G50+G88+G126+G164+G202+G240+G278 -> 0 | H12: =H50+H88+H126+H164+H202+H240+H278 -> 4 | I12: =I50+I88+I126+I164+I202+I240+I278 -> 2 | J12: =J50+J88+J126+J164+J202+J240+J278 -> 3 | K12: =K50+K88+K126+K164+K202+K240+K278 -> 3 | L12: =L50+L88+L126+L164+L202+L240+L278 -> 4 | M12: =M50+M88+M126+M164+M202+M240+M278 -> 4 | ... AF12: =AF50+AF88+AF126+AF164+AF202+AF240+AF278 -> 2
C13: =C51+C89+C127+C165+C203+C241+C279 -> 7457 | D13: =D51+D89+D127+D165+D203+D241+D279 -> 7456 | E13: 02 Acts intended to cause injury | F13: =SUM(F11:F12) -> 628 | G13: =SUM(G11:G12) -> 654 | H13: =SUM(H11:H12) -> 487 | I13: =SUM(I11:I12) -> 498 | J13: =SUM(J11:J12) -> 568 | K13: =SUM(K11:K12) -> 646 | L13: =SUM(L11:L12) -> 713 | M13: =SUM(M11:M12) -> 789 | ... AF13: =SUM(AF11:AF12) -> 754
C14: =C52+C90+C128+C166+C204+C242+C280 -> 334 | D14: =D52+D90+D128+D166+D204+D242+D280 -> 276 | E14: 031 Sexual assault | F14: =F52+F90+F128+F166+F204+F242+F280 -> 26 | G14: =G52+G90+G128+G166+G204+G242+G280 -> 24 | H14: =H52+H90+H128+H166+H204+H242+H280 -> 24 | I14: =I52+I90+I128+I166+I204+I242+I280 -> 33 | J14: =J52+J90+J128+J166+J204+J242+J280 -> 36 | K14: =K52+K90+K128+K166+K204+K242+K280 -> 36 | L14: =L52+L90+L128+L166+L204+L242+L280 -> 33 | M14: =M52+M90+M128+M166+M204+M242+M280 -> 38 | ... AF14: =AF52+AF90+AF128+AF166+AF204+AF242+AF280 -> 36
C15: =C53+C91+C129+C167+C205+C243+C281 -> 99 | D15: =D53+D91+D129+D167+D205+D243+D281 -> 73 | E15: 032 Non-assaultive sexual offences | F15: =F53+F91+F129+F167+F205+F243+F281 -> 5 | G15: =G53+G91+G129+G167+G205+G243+G281 -> 4 | H15: =H53+H91+H129+H167+H205+H243+H281 -> 6 | I15: =I53+I91+I129+I167+I205+I243+I281 -> 3 | J15: =J53+J91+J129+J167+J205+J243+J281 -> 14 | K15: =K53+K91+K129+K167+K205+K243+K281 -> 9 | L15: =L53+L91+L129+L167+L205+L243+L281 -> 7 | M15: =M53+M91+M129+M167+M205+M243+M281 -> 7 | ... AF15: =AF53+AF91+AF129+AF167+AF205+AF243+AF281 -> 7
C16: =C54+C92+C130+C168+C206+C244+C282 -> 433 | D16: =D54+D92+D130+D168+D206+D244+D282 -> 349 | E16: 03 Sexual assault and related offences | F16: =SUM(F14:F15) -> 31 | G16: =SUM(G14:G15) -> 28 | H16: =SUM(H14:H15) -> 30 | I16: =SUM(I14:I15) -> 36 | J16: =SUM(J14:J15) -> 50 | K16: =SUM(K14:K15) -> 45 | L16: =SUM(L14:L15) -> 40 | M16: =SUM(M14:M15) -> 45 | ... AF16: =SUM(AF14:AF15) -> 43
C17: =C55+C93+C131+C169+C207+C245+C283 -> 125 | D17: =D55+D93+D131+D169+D207+D245+D283 -> 119 | E17: 049 Other dangerous or negligent acts endangering persons | F17: =F55+F93+F131+F169+F207+F245+F283 -> 8 | G17: =G55+G93+G131+G169+G207+G245+G283 -> 10 | H17: =H55+H93+H131+H169+H207+H245+H283 -> 8 | I17: =I55+I93+I131+I169+I207+I245+I283 -> 4 | J17: =J55+J93+J131+J169+J207+J245+J283 -> 8 | K17: =K55+K93+K131+K169+K207+K245+K283 -> 7 | L17: =L55+L93+L131+L169+L207+L245+L283 -> 10 | M17: =M55+M93+M131+M169+M207+M245+M283 -> 4 | ... AF17: =AF55+AF93+AF131+AF169+AF207+AF245+AF283 -> 12
C18: =C56+C94+C132+C170+C208+C246+C284 -> 1 | D18: =D56+D94+D132+D170+D208+D246+D284 -> 2 | E18: 0511 Abduction and kidnapping | F18: =F56+F94+F132+F170+F208+F246+F284 -> 0 | G18: =G56+G94+G132+G170+G208+G246+G284 -> 0 | H18: =H56+H94+H132+H170+H208+H246+H284 -> 0 | I18: =I56+I94+I132+I170+I208+I246+I284 -> 0 | J18: =J56+J94+J132+J170+J208+J246+J284 -> 0 | K18: =K56+K94+K132+K170+K208+K246+K284 -> 1 | L18: =L56+L94+L132+L170+L208+L246+L284 -> 0 | M18: =M56+M94+M132+M170+M208+M246+M284 -> 0 | ... AF18: =AF56+AF94+AF132+AF170+AF208+AF246+AF284 -> 0
C19: =C57+C95+C133+C171+C209+C247+C285 -> 37 | D19: =D57+D95+D133+D171+D209+D247+D285 -> 38 | E19: 0521 Deprivation of liberty/false imprisonment | F19: =F57+F95+F133+F171+F209+F247+F285 -> 9 | G19: =G57+G95+G133+G171+G209+G247+G285 -> 6 | H19: =H57+H95+H133+H171+H209+H247+H285 -> 4 | I19: =I57+I95+I133+I171+I209+I247+I285 -> 0 | J19: =J57+J95+J133+J171+J209+J247+J285 -> 4 | K19: =K57+K95+K133+K171+K209+K247+K285 -> 3 | L19: =L57+L95+L133+L171+L209+L247+L285 -> 2 | M19: =M57+M95+M133+M171+M209+M247+M285 -> 5 | ... AF19: =AF57+AF95+AF133+AF171+AF209+AF247+AF285 -> 0
C20: =C58+C96+C134+C172+C210+C248+C286 -> 57 | D20: =D58+D96+D134+D172+D210+D248+D286 -> 61 | E20: 0531 Harassment and private nuisance | F20: =F58+F96+F134+F172+F210+F248+F286 -> 6 | G20: =G58+G96+G134+G172+G210+G248+G286 -> 4 | H20: =H58+H96+H134+H172+H210+H248+H286 -> 11 | I20: =I58+I96+I134+I172+I210+I248+I286 -> 4 | J20: =J58+J96+J134+J172+J210+J248+J286 -> 8 | K20: =K58+K96+K134+K172+K210+K248+K286 -> 4 | L20: =L58+L96+L134+L172+L210+L248+L286 -> 13 | M20: =M58+M96+M134+M172+M210+M248+M286 -> 7 | ... AF20: =AF58+AF96+AF134+AF172+AF210+AF248+AF286 -> 6
C21: =C59+C97+C135+C173+C211+C249+C287 -> 213 | D21: =D59+D97+D135+D173+D211+D249+D287 -> 260 | E21: 0532 Threatening behaviour | F21: =F59+F97+F135+F173+F211+F249+F287 -> 26 | G21: =G59+G97+G135+G173+G211+G249+G287 -> 29 | H21: =H59+H97+H135+H173+H211+H249+H287 -> 15 | I21: =I59+I97+I135+I173+I211+I249+I287 -> 15 | J21: =J59+J97+J135+J173+J211+J249+J287 -> 26 | K21: =K59+K97+K135+K173+K211+K249+K287 -> 20 | L21: =L59+L97+L135+L173+L211+L249+L287 -> 18 | M21: =M59+M97+M135+M173+M211+M249+M287 -> 26 | ... AF21: =AF59+AF97+AF135+AF173+AF211+AF249+AF287 -> 26
C22: =C60+C98+C136+C174+C212+C250+C288 -> 308 | D22: =D60+D98+D136+D174+D212+D250+D288 -> 361 | E22: 05 Abduction, harassment and other offences | F22: =SUM(F18:F21) -> 41 | G22: =SUM(G18:G21) -> 39 | H22: =SUM(H18:H21) -> 30 | I22: =SUM(I18:I21) -> 19 | J22: =SUM(J18:J21) -> 38 | K22: =SUM(K18:K21) -> 28 | L22: =SUM(L18:L21) -> 33 | M22: =SUM(M18:M21) -> 38 | ... AF22: =SUM(AF18:AF21) -> 32
C23: =C61+C99+C137+C175+C213+C251+C289 -> 147 | D23: =D61+D99+D137+D175+D213+D251+D289 -> 209 | E23: 061 Robbery | F23: =F61+F99+F137+F175+F213+F251+F289 -> 22 | G23: =G61+G99+G137+G175+G213+G251+G289 -> 25 | H23: =H61+H99+H137+H175+H213+H251+H289 -> 8 | I23: =I61+I99+I137+I175+I213+I251+I289 -> 4 | J23: =J61+J99+J137+J175+J213+J251+J289 -> 10 | K23: =K61+K99+K137+K175+K213+K251+K289 -> 14 | L23: =L61+L99+L137+L175+L213+L251+L289 -> 9 | M23: =M61+M99+M137+M175+M213+M251+M289 -> 9 | ... AF23: =AF61+AF99+AF137+AF175+AF213+AF251+AF289 -> 20
C24: =C62+C100+C138+C176+C214+C252+C290 -> 3 | D24: =D62+D100+D138+D176+D214+D252+D290 -> 1 | E24: 0621 Blackmail and extortion | F24: =F62+F100+F138+F176+F214+F252+F290 -> 0 | G24: =G62+G100+G138+G176+G214+G252+G290 -> 1 | H24: =H62+H100+H138+H176+H214+H252+H290 -> 0 | I24: =I62+I100+I138+I176+I214+I252+I290 -> 0 | J24: =J62+J100+J138+J176+J214+J252+J290 -> 1 | K24: =K62+K100+K138+K176+K214+K252+K290 -> 0 | L24: =L62+L100+L138+L176+L214+L252+L290 -> 0 | M24: =M62+M100+M138+M176+M214+M252+M290 -> 0 | ... AF24: =AF62+AF100+AF138+AF176+AF214+AF252+AF290 -> 0
C25: =C63+C101+C139+C177+C215+C253+C291 -> 150 | D25: =D63+D101+D139+D177+D215+D253+D291 -> 210 | E25: 06 Robbery, extortion and related offences | F25: =SUM(F23:F24) -> 22 | G25: =SUM(G23:G24) -> 26 | H25: =SUM(H23:H24) -> 8 | I25: =SUM(I23:I24) -> 4 | J25: =SUM(J23:J24) -> 11 | K25: =SUM(K23:K24) -> 14 | L25: =SUM(L23:L24) -> 9 | M25: =SUM(M23:M24) -> 9 | ... AF25: =SUM(AF23:AF24) -> 20
C26: =C64+C102+C140+C178+C216+C254+C292 -> 8481 | D26: =D64+D102+D140+D178+D216+D254+D292 -> 8516 | E26: Total offences against the person | F26: =F10+F13+F16+F17+F22+F25 -> 730 | G26: =G10+G13+G16+G17+G22+G25 -> 757 | H26: =H10+H13+H16+H17+H22+H25 -> 565 | I26: =I10+I13+I16+I17+I22+I25 -> 562 | J26: =J10+J13+J16+J17+J22+J25 -> 677 | K26: =K10+K13+K16+K17+K22+K25 -> 741 | L26: =L10+L13+L16+L17+L22+L25 -> 805 | M26: =M10+M13+M16+M17+M22+M25 -> 886 | ... AF26: =AF10+AF13+AF16+AF17+AF22+AF25 -> 864
C27: =C65+C103+C141+C179+C217+C255+C293 -> 1594 | D27: =D65+D103+D141+D179+D217+D255+D293 -> 2210 | E27: House break-ins, actual | F27: =F65+F103+F141+F179+F217+F255+F293 -> 242 | G27: =G65+G103+G141+G179+G217+G255+G293 -> 240 | H27: =H65+H103+H141+H179+H217+H255+H293 -> 121 | I27: =I65+I103+I141+I179+I217+I255+I293 -> 80 | J27: =J65+J103+J141+J179+J217+J255+J293 -> 60 | K27: =K65+K103+K141+K179+K217+K255+K293 -> 63 | L27: =L65+L103+L141+L179+L217+L255+L293 -> 51 | M27: =M65+M103+M141+M179+M217+M255+M293 -> 123 | ... AF27: =AF65+AF103+AF141+AF179+AF217+AF255+AF293 -> 228
C28: =C66+C104+C142+C180+C218+C256+C294 -> 257 | D28: =D66+D104+D142+D180+D218+D256+D294 -> 365 | E28: House break-ins, attempted | F28: =F66+F104+F142+F180+F218+F256+F294 -> 38 | G28: =G66+G104+G142+G180+G218+G256+G294 -> 45 | H28: =H66+H104+H142+H180+H218+H256+H294 -> 24 | I28: =I66+I104+I142+I180+I218+I256+I294 -> 18 | J28: =J66+J104+J142+J180+J218+J256+J294 -> 10 | K28: =K66+K104+K142+K180+K218+K256+K294 -> 10 | L28: =L66+L104+L142+L180+L218+L256+L294 -> 18 | M28: =M66+M104+M142+M180+M218+M256+M294 -> 22 | ... AF28: =AF66+AF104+AF142+AF180+AF218+AF256+AF294 -> 45
C29: =C67+C105+C143+C181+C219+C257+C295 -> 1851 | D29: =D67+D105+D143+D181+D219+D257+D295 -> 2575 | E29: 0711 House break-ins | F29: =SUM(F27:F28) -> 280 | G29: =SUM(G27:G28) -> 285 | H29: =SUM(H27:H28) -> 145 | I29: =SUM(I27:I28) -> 98 | J29: =SUM(J27:J28) -> 70 | K29: =SUM(K27:K28) -> 73 | L29: =SUM(L27:L28) -> 69 | M29: =SUM(M27:M28) -> 145 | ... AF29: =SUM(AF27:AF28) -> 273
C30: =C68+C106+C144+C182+C220+C258+C296 -> 1315 | D30: =D68+D106+D144+D182+D220+D258+D296 -> 2054 | E30: Commercial break-ins, actual | F30: =F68+F106+F144+F182+F220+F258+F296 -> 211 | G30: =G68+G106+G144+G182+G220+G258+G296 -> 197 | H30: =H68+H106+H144+H182+H220+H258+H296 -> 97 | I30: =I68+I106+I144+I182+I220+I258+I296 -> 64 | J30: =J68+J106+J144+J182+J220+J258+J296 -> 51 | K30: =K68+K106+K144+K182+K220+K258+K296 -> 39 | L30: =L68+L106+L144+L182+L220+L258+L296 -> 81 | M30: =M68+M106+M144+M182+M220+M258+M296 -> 104 | ... AF30: =AF68+AF106+AF144+AF182+AF220+AF258+AF296 -> 304
C31: =C69+C107+C145+C183+C221+C259+C297 -> 184 | D31: =D69+D107+D145+D183+D221+D259+D297 -> 295 | E31: Commercial break-ins, attempted | F31: =F69+F107+F145+F183+F221+F259+F297 -> 19 | G31: =G69+G107+G145+G183+G221+G259+G297 -> 23 | H31: =H69+H107+H145+H183+H221+H259+H297 -> 12 | I31: =I69+I107+I145+I183+I221+I259+I297 -> 11 | J31: =J69+J107+J145+J183+J221+J259+J297 -> 12 | K31: =K69+K107+K145+K183+K221+K259+K297 -> 5 | L31: =L69+L107+L145+L183+L221+L259+L297 -> 10 | M31: =M69+M107+M145+M183+M221+M259+M297 -> 10 | ... AF31: =AF69+AF107+AF145+AF183+AF221+AF259+AF297 -> 41
C32: =C70+C108+C146+C184+C222+C260+C298 -> 1499 | D32: =D70+D108+D146+D184+D222+D260+D298 -> 2349 | E32: 0711 Commercial break-ins | F32: =SUM(F30:F31) -> 230 | G32: =SUM(G30:G31) -> 220 | H32: =SUM(H30:H31) -> 109 | I32: =SUM(I30:I31) -> 75 | J32: =SUM(J30:J31) -> 63 | K32: =SUM(K30:K31) -> 44 | L32: =SUM(L30:L31) -> 91 | M32: =SUM(M30:M31) -> 114 | ... AF32: =SUM(AF30:AF31) -> 345
C33: =C71+C109+C147+C185+C223+C261+C299 -> 562 | D33: =D71+D109+D147+D185+D223+D261+D299 -> 838 | E33: 0812 Illegal use of a motor vehicle | F33: =F71+F109+F147+F185+F223+F261+F299 -> 71 | G33: =G71+G109+G147+G185+G223+G261+G299 -> 56 | H33: =H71+H109+H147+H185+H223+H261+H299 -> 36 | I33: =I71+I109+I147+I185+I223+I261+I299 -> 43 | J33: =J71+J109+J147+J185+J223+J261+J299 -> 27 | K33: =K71+K109+K147+K185+K223+K261+K299 -> 18 | L33: =L71+L109+L147+L185+L223+L261+L299 -> 25 | M33: =M71+M109+M147+M185+M223+M261+M299 -> 62 | ... AF33: =AF71+AF109+AF147+AF185+AF223+AF261+AF299 -> 99
C34: =C72+C110+C148+C186+C224+C262+C300 -> 569 | D34: =D72+D110+D148+D186+D224+D262+D300 -> 615 | E34: 0813 Theft of motor vehicle parts or contents | F34: =F72+F110+F148+F186+F224+F262+F300 -> 107 | G34: =G72+G110+G148+G186+G224+G262+G300 -> 124 | H34: =H72+H110+H148+H186+H224+H262+H300 -> 65 | I34: =I72+I110+I148+I186+I224+I262+I300 -> 41 | J34: =J72+J110+J148+J186+J224+J262+J300 -> 26 | K34: =K72+K110+K148+K186+K224+K262+K300 -> 29 | L34: =L72+L110+L148+L186+L224+L262+L300 -> 30 | M34: =M72+M110+M148+M186+M224+M262+M300 -> 45 | ... AF34: =AF72+AF110+AF148+AF186+AF224+AF262+AF300 -> 45
C35: =C73+C111+C149+C187+C225+C263+C301 -> 1131 | D35: =D73+D111+D149+D187+D225+D263+D301 -> 1453 | E35: 081 Motor vehicle theft and related offences | F35: =SUM(F33:F34) -> 178 | G35: =SUM(G33:G34) -> 180 | H35: =SUM(H33:H34) -> 101 | I35: =SUM(I33:I34) -> 84 | J35: =SUM(J33:J34) -> 53 | K35: =SUM(K33:K34) -> 47 | L35: =SUM(L33:L34) -> 55 | M35: =SUM(M33:M34) -> 107 | ... AF35: =SUM(AF33:AF34) -> 144
C36: =C74+C112+C150+C188+C226+C264+C302 -> 5660 | D36: =D74+D112+D150+D188+D226+D264+D302 -> 6796 | E36: 08* Theft and related offences (other than MV) | F36: =F74+F112+F150+F188+F226+F264+F302 -> 749 | G36: =G74+G112+G150+G188+G226+G264+G302 -> 753 | H36: =H74+H112+H150+H188+H226+H264+H302 -> 404 | I36: =I74+I112+I150+I188+I226+I264+I302 -> 331 | J36: =J74+J112+J150+J188+J226+J264+J302 -> 317 | K36: =K74+K112+K150+K188+K226+K264+K302 -> 297 | L36: =L74+L112+L150+L188+L226+L264+L302 -> 346 | M36: =M74+M112+M150+M188+M226+M264+M302 -> 415 | ... AF36: =AF74+AF112+AF150+AF188+AF226+AF264+AF302 -> 694
C37: =C75+C113+C151+C189+C227+C265+C303 -> 6744 | D37: =D75+D113+D151+D189+D227+D265+D303 -> 7637 | E37: 12 Property damage offences | F37: =F75+F113+F151+F189+F227+F265+F303 -> 781 | G37: =G75+G113+G151+G189+G227+G265+G303 -> 796 | H37: =H75+H113+H151+H189+H227+H265+H303 -> 458 | I37: =I75+I113+I151+I189+I227+I265+I303 -> 421 | J37: =J75+J113+J151+J189+J227+J265+J303 -> 451 | K37: =K75+K113+K151+K189+K227+K265+K303 -> 486 | L37: =L75+L113+L151+L189+L227+L265+L303 -> 528 | M37: =M75+M113+M151+M189+M227+M265+M303 -> 628 | ... AF37: =AF75+AF113+AF151+AF189+AF227+AF265+AF303 -> 945
C38: =C76+C114+C152+C190+C228+C266+C304 -> 16885 | D38: =D76+D114+D152+D190+D228+D266+D304 -> 20810 | E38: Total property offences | F38: =F29+F32+F35+F36+F37 -> 2218 | G38: =G29+G32+G35+G36+G37 -> 2234 | H38: =H29+H32+H35+H36+H37 -> 1217 | I38: =I29+I32+I35+I36+I37 -> 1009 | J38: =J29+J32+J35+J36+J37 -> 954 | K38: =K29+K32+K35+K36+K37 -> 947 | L38: =L29+L32+L35+L36+L37 -> 1089 | M38: =M29+M32+M35+M36+M37 -> 1409 | ... AF38: =AF29+AF32+AF35+AF36+AF37 -> 2401
E39: ="Data extracted from PROMIS on " & [1]Yearly!$E$1 -> Data extracted from PROMIS on 01/06/2022
E40: Shaded months should be treated as provisional
E41: Darwin Crime Statistics
E42: =$E$4 -> Data through April 2022
C43: =[1]Current!$E$2 -> P1 | D43: =[1]Current!$F$2 -> P2 | E43: Number of offences | F43: =$F$5 -> Feb-20 | G43: =$G$5 -> Mar-20 | H43: =$H$5 -> Apr-20 | I43: =$I$5 -> May-20 | J43: =$J$5 -> Jun-20 | K43: =$K$5 -> Jul-20 | L43: =$L$5 -> Aug-20 | M43: =$M$5 -> Sep-20 | N43: =$N$5 -> Oct-20 | O43: =$O$5 -> Nov-20 | P43: =$P$5 -> Dec-20 | Q43: =$Q$5 -> Jan-21 | R43: =$R$5 -> Feb-21 | S43: =$S$5 -> Mar-21 | T43: =$T$5 -> Apr-21 | U43: =$U$5 -> May-21 | V43: =$V$5 -> Jun-21 | W43: =$W$5 -> Jul-21 | X43: =$X$5 -> Aug-21 | Y43: =$Y$5 -> Sep-21 | Z43: =$Z$5 -> Oct-21 | AA43: =$AA$5 -> Nov-21 | AB43: =$AB$5 -> Dec-21 | AC43: =$AC$5 -> Jan-22 | AD43: =$AD$5 -> Feb-22 | AE43: =$AE$5 -> Mar-22 | AF43: =$AF$5 -> Apr-22
A44: 11 | B44: 1 | C44: {=IF(ISERROR(INDEX([1]Current!E$2:E$180,MATCH($A44&$B44,[1]Current!$C$2:$C$180&[1]Current!$D$2:$D$180,0))),0,(INDEX([1]Current!E$2:E$180,MATCH($A44&$B44,[1]Current!$C$2:$C$180&[1]Current!$D$2:$D$180,0))))} -> 1 | D44: {=IF(ISERROR(INDEX([1]Current!F$2:F$180,MATCH($A44&$B44,[1]Current!$C$2:$C$180&[1]Current!$D$2:$D$180,0))),0,(INDEX([1]Current!F$2:F$180,MATCH($A44&$B44,[1]Current!$C$2:$C$180&[1]Current!$D$2:$D$180,0))))} -> 3 | E44: 0111 Murder | F44: {=IF(ISERROR(INDEX([1]Monthly!E$2:E$180,MATCH($A44&$B44,[1]Monthly!$C$2:$C$180&[1]Monthly!$D$2:$D$180,0))),0,(INDEX([1]Monthly!E$2:E$180,MATCH($A44&$B44,[1]Monthly!$C$2:$C$180&[1]Monthly!$D$2:$D$180,0))))} -> 0 | G44: {=IF(ISERROR(INDEX([1]Monthly!F$2:F$180,MATCH($A44&$B44,[1]Monthly!$C$2:$C$180&[1]Monthly!$D$2:$D$180,0))),0,(INDEX([1]Monthly!F$2:F$180,MATCH($A44&$B44,[1]Monthly!$C$2:$C$180&[1]Monthly!$D$2:$D$180,0))))} -> 0 | H44: {=IF(ISERROR(INDEX([1]Monthly!G$2:G$180,MATCH($A44&$B44,[1]Monthly!$C$2:$C$180&[1]Monthly!$D$2:$D$180,0))),0,(INDEX([1]Monthly!G$2:G$180,MATCH($A44&$B44,[1]Monthly!$C$2:$C$180&[1]Monthly!$D$2:$D$180,0))))} -> 0 | I44: {=IF(ISERROR(INDEX([1]Monthly!H$2:H$180,MATCH($A44&$B44,[1]Monthly!$C$2:$C$180&[1]Monthly!$D$2:$D$180,0))),0,(INDEX([1]Monthly!H$2:H$180,MATCH($A44&$B44,[1]Monthly!$C$2:$C$180&[1]Monthly!$D$2:$D$180,0))))} -> 1 | J44: {=IF(ISERROR(INDEX([1]Monthly!I$2:I$180,MATCH($A44&$B44,[1]Monthly!$C$2:$C$180&[1]Monthly!$D$2:$D$180,0))),0,(INDEX([1]Monthly!I$2:I$180,MATCH($A44&$B44,[1]Monthly!$C$2:$C$180&[1]Monthly!$D$2:$D$180,0))))} -> 0 | K44: {=IF(ISERROR(INDEX([1]Monthly!J$2:J$180,MATCH($A44&$B44,[1]Monthly!$C$2:$C$180&[1]Monthly!$D$2:$D$180,0))),0,(INDEX([1]Monthly!J$2:J$180,MATCH($A44&$B44,[1]Monthly!$C$2:$C$180&[1]Monthly!$D$2:$D$180,0))))} -> 0 | L44: {=IF(ISERROR(INDEX([1]Monthly!K$2:K$180,MATCH($A44&$B44,[1]Monthly!$C$2:$C$180&[1]Monthly!$D$2:$D$180,0))),0,(INDEX([1]Monthly!K$2:K$180,MATCH($A44&$B44,[1]Monthly!$C$2:$C$180&[1]Monthly!$D$2:$D$180,0))))} -> 0 | M44: {=IF(ISERROR(INDEX([1]Monthly!L$2:L$180,MATCH($A44&$B44,[1]Monthly!$C$2:$C$180&[1]Monthly!$D$2:$D$180,0))),0,(INDEX([1]Monthly!L$2:L$180,MATCH($A44&$B44,[1]Monthly!$C$2:$C$180&[1]Monthly!$D$2:$D$180,0))))} -> 0 | ... AF44: {=IF(ISERROR(INDEX([1]Monthly!AE$2:AE$180,MATCH($A44&$B44,[1]Monthly!$C$2:$C$180&[1]Monthly!$D$2:$D$180,0))),0,(INDEX([1]Monthly!AE$2:AE$180,MATCH($A44&$B44,[1]Monthly!$C$2:$C$180&[1]Monthly!$D$2:$D$180,0))))} -> 1
A45: 11 | B45: 2 | C45: {=IF(ISERROR(INDEX([1]Current!E$2:E$180,MATCH($A45&$B45,[1]Current!$C$2:$C$180&[1]Current!$D$2:$D$180,0))),0,(INDEX([1]Current!E$2:E$180,MATCH($A45&$B45,[1]Current!$C$2:$C$180&[1]Current!$D$2:$D$180,0))))} -> 0 | D45: {=IF(ISERROR(INDEX([1]Current!F$2:F$180,MATCH($A45&$B45,[1]Current!$C$2:$C$180&[1]Current!$D$2:$D$180,0))),0,(INDEX([1]Current!F$2:F$180,MATCH($A45&$B45,[1]Current!$C$2:$C$180&[1]Current!$D$2:$D$180,0))))} -> 3 | E45: 0121 Attempted murder | F45: {=IF(ISERROR(INDEX([1]Monthly!E$2:E$180,MATCH($A45&$B45,[1]Monthly!$C$2:$C$180&[1]Monthly!$D$2:$D$180,0))),0,(INDEX([1]Monthly!E$2:E$180,MATCH($A45&$B45,[1]Monthly!$C$2:$C$180&[1]Monthly!$D$2:$D$180,0))))} -> 0 | G45: {=IF(ISERROR(INDEX([1]Monthly!F$2:F$180,MATCH($A45&$B45,[1]Monthly!$C$2:$C$180&[1]Monthly!$D$2:$D$180,0))),0,(INDEX([1]Monthly!F$2:F$180,MATCH($A45&$B45,[1]Monthly!$C$2:$C$180&[1]Monthly!$D$2:$D$180,0))))} -> 0 | H45: {=IF(ISERROR(INDEX([1]Monthly!G$2:G$180,MATCH($A45&$B45,[1]Monthly!$C$2:$C$180&[1]Monthly!$D$2:$D$180,0))),0,(INDEX([1]Monthly!G$2:G$180,MATCH($A45&$B45,[1]Monthly!$C$2:$C$180&[1]Monthly!$D$2:$D$180,0))))} -> 0 | I45: {=IF(ISERROR(INDEX([1]Monthly!H$2:H$180,MATCH($A45&$B45,[1]Monthly!$C$2:$C$180&[1]Monthly!$D$2:$D$180,0))),0,(INDEX([1]Monthly!H$2:H$180,MATCH($A45&$B45,[1]Monthly!$C$2:$C$180&[1]Monthly!$D$2:$D$180,0))))} -> 0 | J45: {=IF(ISERROR(INDEX([1]Monthly!I$2:I$180,MATCH($A45&$B45,[1]Monthly!$C$2:$C$180&[1]Monthly!$D$2:$D$180,0))),0,(INDEX([1]Monthly!I$2:I$180,MATCH($A45&$B45,[1]Monthly!$C$2:$C$180&[1]Monthly!$D$2:$D$180,0))))} -> 1 | K45: {=IF(ISERROR(INDEX([1]Monthly!J$2:J$180,MATCH($A45&$B45,[1]Monthly!$C$2:$C$180&[1]Monthly!$D$2:$D$180,0))),0,(INDEX([1]Monthly!J$2:J$180,MATCH($A45&$B45,[1]Monthly!$C$2:$C$180&[1]Monthly!$D$2:$D$180,0))))} -> 0 | L45: {=IF(ISERROR(INDEX([1]Monthly!K$2:K$180,MATCH($A45&$B45,[1]Monthly!$C$2:$C$180&[1]Monthly!$D$2:$D$180,0))),0,(INDEX([1]Monthly!K$2:K$180,MATCH($A45&$B45,[1]Monthly!$C$2:$C$180&[1]Monthly!$D$2:$D$180,0))))} -> 0 | M45: {=IF(ISERROR(INDEX([1]Monthly!L$2:L$180,MATCH($A45&$B45,[1]Monthly!$C$2:$C$180&[1]Monthly!$D$2:$D$180,0))),0,(INDEX([1]Monthly!L$2:L$180,MATCH($A45&$B45,[1]Monthly!$C$2:$C$180&[1]Monthly!$D$2:$D$180,0))))} -> 0 | ... AF45: {=IF(ISERROR(INDEX([1]Monthly!AE$2:AE$180,MATCH($A45&$B45,[1]Monthly!$C$2:$C$180&[1]Monthly!$D$2:$D$180,0))),0,(INDEX([1]Monthly!AE$2:AE$180,MATCH($A45&$B45,[1]Monthly!$C$2:$C$180&[1]Monthly!$D$2:$D$180,0))))} -> 0
A46: 11 | B46: 4 | C46: {=IF(ISERROR(INDEX([1]Current!E$2:E$180,MATCH($A46&$B46,[1]Current!$C$2:$C$180&[1]Current!$D$2:$D$180,0))),0,(INDEX([1]Current!E$2:E$180,MATCH($A46&$B46,[1]Current!$C$2:$C$180&[1]Current!$D$2:$D$180,0))))} -> 0 | D46: {=IF(ISERROR(INDEX([1]Current!F$2:F$180,MATCH($A46&$B46,[1]Current!$C$2:$C$180&[1]Current!$D$2:$D$180,0))),0,(INDEX([1]Current!F$2:F$180,MATCH($A46&$B46,[1]Current!$C$2:$C$180&[1]Current!$D$2:$D$180,0))))} -> 1 | E46: 0131 Manslaughter | F46: {=IF(ISERROR(INDEX([1]Monthly!E$2:E$180,MATCH($A46&$B46,[1]Monthly!$C$2:$C$180&[1]Monthly!$D$2:$D$180,0))),0,(INDEX([1]Monthly!E$2:E$180,MATCH($A46&$B46,[1]Monthly!$C$2:$C$180&[1]Monthly!$D$2:$D$180,0))))} -> 0 | G46: {=IF(ISERROR(INDEX([1]Monthly!F$2:F$180,MATCH($A46&$B46,[1]Monthly!$C$2:$C$180&[1]Monthly!$D$2:$D$180,0))),0,(INDEX([1]Monthly!F$2:F$180,MATCH($A46&$B46,[1]Monthly!$C$2:$C$180&[1]Monthly!$D$2:$D$180,0))))} -> 0 | H46: {=IF(ISERROR(INDEX([1]Monthly!G$2:G$180,MATCH($A46&$B46,[1]Monthly!$C$2:$C$180&[1]Monthly!$D$2:$D$180,0))),0,(INDEX([1]Monthly!G$2:G$180,MATCH($A46&$B46,[1]Monthly!$C$2:$C$180&[1]Monthly!$D$2:$D$180,0))))} -> 1 | I46: {=IF(ISERROR(INDEX([1]Monthly!H$2:H$180,MATCH($A46&$B46,[1]Monthly!$C$2:$C$180&[1]Monthly!$D$2:$D$180,0))),0,(INDEX([1]Monthly!H$2:H$180,MATCH($A46&$B46,[1]Monthly!$C$2:$C$180&[1]Monthly!$D$2:$D$180,0))))} -> 0 | J46: {=IF(ISERROR(INDEX([1]Monthly!I$2:I$180,MATCH($A46&$B46,[1]Monthly!$C$2:$C$180&[1]Monthly!$D$2:$D$180,0))),0,(INDEX([1]Monthly!I$2:I$180,MATCH($A46&$B46,[1]Monthly!$C$2:$C$180&[1]Monthly!$D$2:$D$180,0))))} -> 0 | K46: {=IF(ISERROR(INDEX([1]Monthly!J$2:J$180,MATCH($A46&$B46,[1]Monthly!$C$2:$C$180&[1]Monthly!$D$2:$D$180,0))),0,(INDEX([1]Monthly!J$2:J$180,MATCH($A46&$B46,[1]Monthly!$C$2:$C$180&[1]Monthly!$D$2:$D$180,0))))} -> 0 | L46: {=IF(ISERROR(INDEX([1]Monthly!K$2:K$180,MATCH($A46&$B46,[1]Monthly!$C$2:$C$180&[1]Monthly!$D$2:$D$180,0))),0,(INDEX([1]Monthly!K$2:K$180,MATCH($A46&$B46,[1]Monthly!$C$2:$C$180&[1]Monthly!$D$2:$D$180,0))))} -> 0 | M46: {=IF(ISERROR(INDEX([1]Monthly!L$2:L$180,MATCH($A46&$B46,[1]Monthly!$C$2:$C$180&[1]Monthly!$D$2:$D$180,0))),0,(INDEX([1]Monthly!L$2:L$180,MATCH($A46&$B46,[1]Monthly!$C$2:$C$180&[1]Monthly!$D$2:$D$180,0))))} -> 0 | ... AF46: {=IF(ISERROR(INDEX([1]Monthly!AE$2:AE$180,MATCH($A46&$B46,[1]Monthly!$C$2:$C$180&[1]Monthly!$D$2:$D$180,0))),0,(INDEX([1]Monthly!AE$2:AE$180,MATCH($A46&$B46,[1]Monthly!$C$2:$C$180&[1]Monthly!$D$2:$D$180,0))))} -> 0
A47: 11 | B47: 5 | C47: {=IF(ISERROR(INDEX([1]Current!E$2:E$180,MATCH($A47&$B47,[1]Current!$C$2:$C$180&[1]Current!$D$2:$D$180,0))),0,(INDEX([1]Current!E$2:E$180,MATCH($A47&$B47,[1]Current!$C$2:$C$180&[1]Current!$D$2:$D$180,0))))} -> 0 | D47: {=IF(ISERROR(INDEX([1]Current!F$2:F$180,MATCH($A47&$B47,[1]Current!$C$2:$C$180&[1]Current!$D$2:$D$180,0))),0,(INDEX([1]Current!F$2:F$180,MATCH($A47&$B47,[1]Current!$C$2:$C$180&[1]Current!$D$2:$D$180,0))))} -> 4 | E47: 0132 Driving causing death | F47: {=IF(ISERROR(INDEX([1]Monthly!E$2:E$180,MATCH($A47&$B47,[1]Monthly!$C$2:$C$180&[1]Monthly!$D$2:$D$180,0))),0,(INDEX([1]Monthly!E$2:E$180,MATCH($A47&$B47,[1]Monthly!$C$2:$C$180&[1]Monthly!$D$2:$D$180,0))))} -> 0 | G47: {=IF(ISERROR(INDEX([1]Monthly!F$2:F$180,MATCH($A47&$B47,[1]Monthly!$C$2:$C$180&[1]Monthly!$D$2:$D$180,0))),0,(INDEX([1]Monthly!F$2:F$180,MATCH($A47&$B47,[1]Monthly!$C$2:$C$180&[1]Monthly!$D$2:$D$180,0))))} -> 0 | H47: {=IF(ISERROR(INDEX([1]Monthly!G$2:G$180,MATCH($A47&$B47,[1]Monthly!$C$2:$C$180&[1]Monthly!$D$2:$D$180,0))),0,(INDEX([1]Monthly!G$2:G$180,MATCH($A47&$B47,[1]Monthly!$C$2:$C$180&[1]Monthly!$D$2:$D$180,0))))} -> 0 | I47: {=IF(ISERROR(INDEX([1]Monthly!H$2:H$180,MATCH($A47&$B47,[1]Monthly!$C$2:$C$180&[1]Monthly!$D$2:$D$180,0))),0,(INDEX([1]Monthly!H$2:H$180,MATCH($A47&$B47,[1]Monthly!$C$2:$C$180&[1]Monthly!$D$2:$D$180,0))))} -> 0 | J47: {=IF(ISERROR(INDEX([1]Monthly!I$2:I$180,MATCH($A47&$B47,[1]Monthly!$C$2:$C$180&[1]Monthly!$D$2:$D$180,0))),0,(INDEX([1]Monthly!I$2:I$180,MATCH($A47&$B47,[1]Monthly!$C$2:$C$180&[1]Monthly!$D$2:$D$180,0))))} -> 0 | K47: {=IF(ISERROR(INDEX([1]Monthly!J$2:J$180,MATCH($A47&$B47,[1]Monthly!$C$2:$C$180&[1]Monthly!$D$2:$D$180,0))),0,(INDEX([1]Monthly!J$2:J$180,MATCH($A47&$B47,[1]Monthly!$C$2:$C$180&[1]Monthly!$D$2:$D$180,0))))} -> 0 | L47: {=IF(ISERROR(INDEX([1]Monthly!K$2:K$180,MATCH($A47&$B47,[1]Monthly!$C$2:$C$180&[1]Monthly!$D$2:$D$180,0))),0,(INDEX([1]Monthly!K$2:K$180,MATCH($A47&$B47,[1]Monthly!$C$2:$C$180&[1]Monthly!$D$2:$D$180,0))))} -> 0 | M47: {=IF(ISERROR(INDEX([1]Monthly!L$2:L$180,MATCH($A47&$B47,[1]Monthly!$C$2:$C$180&[1]Monthly!$D$2:$D$180,0))),0,(INDEX([1]Monthly!L$2:L$180,MATCH($A47&$B47,[1]Monthly!$C$2:$C$180&[1]Monthly!$D$2:$D$180,0))))} -> 0 | ... AF47: {=IF(ISERROR(INDEX([1]Monthly!AE$2:AE$180,MATCH($A47&$B47,[1]Monthly!$C$2:$C$180&[1]Monthly!$D$2:$D$180,0))),0,(INDEX([1]Monthly!AE$2:AE$180,MATCH($A47&$B47,[1]Monthly!$C$2:$C$180&[1]Monthly!$D$2:$D$180,0))))} -> 0
C48: =SUM(C44:C47) -> 1 | D48: =SUM(D44:D47) -> 11 | E48: 01 Homicide and related offences | F48: =SUM(F44:F47) -> 0 | G48: =SUM(G44:G47) -> 0 | H48: =SUM(H44:H47) -> 1 | I48: =SUM(I44:I47) -> 1 | J48: =SUM(J44:J47) -> 1 | K48: =SUM(K44:K47) -> 0 | L48: =SUM(L44:L47) -> 0 | M48: =SUM(M44:M47) -> 0 | ... AF48: =SUM(AF44:AF47) -> 1
A49: 11 | B49: 6 | C49: {=IF(ISERROR(INDEX([1]Current!E$2:E$180,MATCH($A49&$B49,[1]Current!$C$2:$C$180&[1]Current!$D$2:$D$180,0))),0,(INDEX([1]Current!E$2:E$180,MATCH($A49&$B49,[1]Current!$C$2:$C$180&[1]Current!$D$2:$D$180,0))))} -> 2033 | D49: {=IF(ISERROR(INDEX([1]Current!F$2:F$180,MATCH($A49&$B49,[1]Current!$C$2:$C$180&[1]Current!$D$2:$D$180,0))),0,(INDEX([1]Current!F$2:F$180,MATCH($A49&$B49,[1]Current!$C$2:$C$180&[1]Current!$D$2:$D$180,0))))} -> 2040 | E49: 021 Assault | F49: {=IF(ISERROR(INDEX([1]Monthly!E$2:E$180,MATCH($A49&$B49,[1]Monthly!$C$2:$C$180&[1]Monthly!$D$2:$D$180,0))),0,(INDEX([1]Monthly!E$2:E$180,MATCH($A49&$B49,[1]Monthly!$C$2:$C$180&[1]Monthly!$D$2:$D$180,0))))} -> 141 | G49: {=IF(ISERROR(INDEX([1]Monthly!F$2:F$180,MATCH($A49&$B49,[1]Monthly!$C$2:$C$180&[1]Monthly!$D$2:$D$180,0))),0,(INDEX([1]Monthly!F$2:F$180,MATCH($A49&$B49,[1]Monthly!$C$2:$C$180&[1]Monthly!$D$2:$D$180,0))))} -> 166 | H49: {=IF(ISERROR(INDEX([1]Monthly!G$2:G$180,MATCH($A49&$B49,[1]Monthly!$C$2:$C$180&[1]Monthly!$D$2:$D$180,0))),0,(INDEX([1]Monthly!G$2:G$180,MATCH($A49&$B49,[1]Monthly!$C$2:$C$180&[1]Monthly!$D$2:$D$180,0))))} -> 144 | I49: {=IF(ISERROR(INDEX([1]Monthly!H$2:H$180,MATCH($A49&$B49,[1]Monthly!$C$2:$C$180&[1]Monthly!$D$2:$D$180,0))),0,(INDEX([1]Monthly!H$2:H$180,MATCH($A49&$B49,[1]Monthly!$C$2:$C$180&[1]Monthly!$D$2:$D$180,0))))} -> 118 | J49: {=IF(ISERROR(INDEX([1]Monthly!I$2:I$180,MATCH($A49&$B49,[1]Monthly!$C$2:$C$180&[1]Monthly!$D$2:$D$180,0))),0,(INDEX([1]Monthly!I$2:I$180,MATCH($A49&$B49,[1]Monthly!$C$2:$C$180&[1]Monthly!$D$2:$D$180,0))))} -> 166 | K49: {=IF(ISERROR(INDEX([1]Monthly!J$2:J$180,MATCH($A49&$B49,[1]Monthly!$C$2:$C$180&[1]Monthly!$D$2:$D$180,0))),0,(INDEX([1]Monthly!J$2:J$180,MATCH($A49&$B49,[1]Monthly!$C$2:$C$180&[1]Monthly!$D$2:$D$180,0))))} -> 179 | L49: {=IF(ISERROR(INDEX([1]Monthly!K$2:K$180,MATCH($A49&$B49,[1]Monthly!$C$2:$C$180&[1]Monthly!$D$2:$D$180,0))),0,(INDEX([1]Monthly!K$2:K$180,MATCH($A49&$B49,[1]Monthly!$C$2:$C$180&[1]Monthly!$D$2:$D$180,0))))} -> 169 | M49: {=IF(ISERROR(INDEX([1]Monthly!L$2:L$180,MATCH($A49&$B49,[1]Monthly!$C$2:$C$180&[1]Monthly!$D$2:$D$180,0))),0,(INDEX([1]Monthly!L$2:L$180,MATCH($A49&$B49,[1]Monthly!$C$2:$C$180&[1]Monthly!$D$2:$D$180,0))))} -> 203 | ... AF49: {=IF(ISERROR(INDEX([1]Monthly!AE$2:AE$180,MATCH($A49&$B49,[1]Monthly!$C$2:$C$180&[1]Monthly!$D$2:$D$180,0))),0,(INDEX([1]Monthly!AE$2:AE$180,MATCH($A49&$B49,[1]Monthly!$C$2:$C$180&[1]Monthly!$D$2:$D$180,0))))} -> 181
A50: 11 | B50: 7 | C50: {=IF(ISERROR(INDEX([1]Current!E$2:E$180,MATCH($A50&$B50,[1]Current!$C$2:$C$180&[1]Current!$D$2:$D$180,0))),0,(INDEX([1]Current!E$2:E$180,MATCH($A50&$B50,[1]Current!$C$2:$C$180&[1]Current!$D$2:$D$180,0))))} -> 11 | D50: {=IF(ISERROR(INDEX([1]Current!F$2:F$180,MATCH($A50&$B50,[1]Current!$C$2:$C$180&[1]Current!$D$2:$D$180,0))),0,(INDEX([1]Current!F$2:F$180,MATCH($A50&$B50,[1]Current!$C$2:$C$180&[1]Current!$D$2:$D$180,0))))} -> 3 | E50: 029 Acts intended to cause injury - other | F50: {=IF(ISERROR(INDEX([1]Monthly!E$2:E$180,MATCH($A50&$B50,[1]Monthly!$C$2:$C$180&[1]Monthly!$D$2:$D$180,0))),0,(INDEX([1]Monthly!E$2:E$180,MATCH($A50&$B50,[1]Monthly!$C$2:$C$180&[1]Monthly!$D$2:$D$180,0))))} -> 1 | G50: {=IF(ISERROR(INDEX([1]Monthly!F$2:F$180,MATCH($A50&$B50,[1]Monthly!$C$2:$C$180&[1]Monthly!$D$2:$D$180,0))),0,(INDEX([1]Monthly!F$2:F$180,MATCH($A50&$B50,[1]Monthly!$C$2:$C$180&[1]Monthly!$D$2:$D$180,0))))} -> 0 | H50: {=IF(ISERROR(INDEX([1]Monthly!G$2:G$180,MATCH($A50&$B50,[1]Monthly!$C$2:$C$180&[1]Monthly!$D$2:$D$180,0))),0,(INDEX([1]Monthly!G$2:G$180,MATCH($A50&$B50,[1]Monthly!$C$2:$C$180&[1]Monthly!$D$2:$D$180,0))))} -> 1 | I50: {=IF(ISERROR(INDEX([1]Monthly!H$2:H$180,MATCH($A50&$B50,[1]Monthly!$C$2:$C$180&[1]Monthly!$D$2:$D$180,0))),0,(INDEX([1]Monthly!H$2:H$180,MATCH($A50&$B50,[1]Monthly!$C$2:$C$180&[1]Monthly!$D$2:$D$180,0))))} -> 1 | J50: {=IF(ISERROR(INDEX([1]Monthly!I$2:I$180,MATCH($A50&$B50,[1]Monthly!$C$2:$C$180&[1]Monthly!$D$2:$D$180,0))),0,(INDEX([1]Monthly!I$2:I$180,MATCH($A50&$B50,[1]Monthly!$C$2:$C$180&[1]Monthly!$D$2:$D$180,0))))} -> 1 | K50: {=IF(ISERROR(INDEX([1]Monthly!J$2:J$180,MATCH($A50&$B50,[1]Monthly!$C$2:$C$180&[1]Monthly!$D$2:$D$180,0))),0,(INDEX([1]Monthly!J$2:J$180,MATCH($A50&$B50,[1]Monthly!$C$2:$C$180&[1]Monthly!$D$2:$D$180,0))))} -> 2 | L50: {=IF(ISERROR(INDEX([1]Monthly!K$2:K$180,MATCH($A50&$B50,[1]Monthly!$C$2:$C$180&[1]Monthly!$D$2:$D$180,0))),0,(INDEX([1]Monthly!K$2:K$180,MATCH($A50&$B50,[1]Monthly!$C$2:$C$180&[1]Monthly!$D$2:$D$180,0))))} -> 2 | M50: {=IF(ISERROR(INDEX([1]Monthly!L$2:L$180,MATCH($A50&$B50,[1]Monthly!$C$2:$C$180&[1]Monthly!$D$2:$D$180,0))),0,(INDEX([1]Monthly!L$2:L$180,MATCH($A50&$B50,[1]Monthly!$C$2:$C$180&[1]Monthly!$D$2:$D$180,0))))} -> 0 | ... AF50: {=IF(ISERROR(INDEX([1]Monthly!AE$2:AE$180,MATCH($A50&$B50,[1]Monthly!$C$2:$C$180&[1]Monthly!$D$2:$D$180,0))),0,(INDEX([1]Monthly!AE$2:AE$180,MATCH($A50&$B50,[1]Monthly!$C$2:$C$180&[1]Monthly!$D$2:$D$180,0))))} -> 2
C51: =SUM(C49:C50) -> 2044 | D51: =SUM(D49:D50) -> 2043 | E51: 02 Acts intended to cause injury | F51: =SUM(F49:F50) -> 142 | G51: =SUM(G49:G50) -> 166 | H51: =SUM(H49:H50) -> 145 | I51: =SUM(I49:I50) -> 119 | J51: =SUM(J49:J50) -> 167 | K51: =SUM(K49:K50) -> 181 | L51: =SUM(L49:L50) -> 171 | M51: =SUM(M49:M50) -> 203 | ... AF51: =SUM(AF49:AF50) -> 183
A52: 11 | B52: 8 | C52: {=IF(ISERROR(INDEX([1]Current!E$2:E$180,MATCH($A52&$B52,[1]Current!$C$2:$C$180&[1]Current!$D$2:$D$180,0))),0,(INDEX([1]Current!E$2:E$180,MATCH($A52&$B52,[1]Current!$C$2:$C$180&[1]Current!$D$2:$D$180,0))))} -> 105 | D52: {=IF(ISERROR(INDEX([1]Current!F$2:F$180,MATCH($A52&$B52,[1]Current!$C$2:$C$180&[1]Current!$D$2:$D$180,0))),0,(INDEX([1]Current!F$2:F$180,MATCH($A52&$B52,[1]Current!$C$2:$C$180&[1]Current!$D$2:$D$180,0))))} -> 92 | E52: 031 Sexual assault | F52: {=IF(ISERROR(INDEX([1]Monthly!E$2:E$180,MATCH($A52&$B52,[1]Monthly!$C$2:$C$180&[1]Monthly!$D$2:$D$180,0))),0,(INDEX([1]Monthly!E$2:E$180,MATCH($A52&$B52,[1]Monthly!$C$2:$C$180&[1]Monthly!$D$2:$D$180,0))))} -> 9 | G52: {=IF(ISERROR(INDEX([1]Monthly!F$2:F$180,MATCH($A52&$B52,[1]Monthly!$C$2:$C$180&[1]Monthly!$D$2:$D$180,0))),0,(INDEX([1]Monthly!F$2:F$180,MATCH($A52&$B52,[1]Monthly!$C$2:$C$180&[1]Monthly!$D$2:$D$180,0))))} -> 10 | H52: {=IF(ISERROR(INDEX([1]Monthly!G$2:G$180,MATCH($A52&$B52,[1]Monthly!$C$2:$C$180&[1]Monthly!$D$2:$D$180,0))),0,(INDEX([1]Monthly!G$2:G$180,MATCH($A52&$B52,[1]Monthly!$C$2:$C$180&[1]Monthly!$D$2:$D$180,0))))} -> 6 | I52: {=IF(ISERROR(INDEX([1]Monthly!H$2:H$180,MATCH($A52&$B52,[1]Monthly!$C$2:$C$180&[1]Monthly!$D$2:$D$180,0))),0,(INDEX([1]Monthly!H$2:H$180,MATCH($A52&$B52,[1]Monthly!$C$2:$C$180&[1]Monthly!$D$2:$D$180,0))))} -> 14 | J52: {=IF(ISERROR(INDEX([1]Monthly!I$2:I$180,MATCH($A52&$B52,[1]Monthly!$C$2:$C$180&[1]Monthly!$D$2:$D$180,0))),0,(INDEX([1]Monthly!I$2:I$180,MATCH($A52&$B52,[1]Monthly!$C$2:$C$180&[1]Monthly!$D$2:$D$180,0))))} -> 11 | K52: {=IF(ISERROR(INDEX([1]Monthly!J$2:J$180,MATCH($A52&$B52,[1]Monthly!$C$2:$C$180&[1]Monthly!$D$2:$D$180,0))),0,(INDEX([1]Monthly!J$2:J$180,MATCH($A52&$B52,[1]Monthly!$C$2:$C$180&[1]Monthly!$D$2:$D$180,0))))} -> 16 | L52: {=IF(ISERROR(INDEX([1]Monthly!K$2:K$180,MATCH($A52&$B52,[1]Monthly!$C$2:$C$180&[1]Monthly!$D$2:$D$180,0))),0,(INDEX([1]Monthly!K$2:K$180,MATCH($A52&$B52,[1]Monthly!$C$2:$C$180&[1]Monthly!$D$2:$D$180,0))))} -> 7 | M52: {=IF(ISERROR(INDEX([1]Monthly!L$2:L$180,MATCH($A52&$B52,[1]Monthly!$C$2:$C$180&[1]Monthly!$D$2:$D$180,0))),0,(INDEX([1]Monthly!L$2:L$180,MATCH($A52&$B52,[1]Monthly!$C$2:$C$180&[1]Monthly!$D$2:$D$180,0))))} -> 6 | ... AF52: {=IF(ISERROR(INDEX([1]Monthly!AE$2:AE$180,MATCH($A52&$B52,[1]Monthly!$C$2:$C$180&[1]Monthly!$D$2:$D$180,0))),0,(INDEX([1]Monthly!AE$2:AE$180,MATCH($A52&$B52,[1]Monthly!$C$2:$C$180&[1]Monthly!$D$2:$D$180,0))))} -> 15
A53: 11 | B53: 9 | C53: {=IF(ISERROR(INDEX([1]Current!E$2:E$180,MATCH($A53&$B53,[1]Current!$C$2:$C$180&[1]Current!$D$2:$D$180,0))),0,(INDEX([1]Current!E$2:E$180,MATCH($A53&$B53,[1]Current!$C$2:$C$180&[1]Current!$D$2:$D$180,0))))} -> 27 | D53: {=IF(ISERROR(INDEX([1]Current!F$2:F$180,MATCH($A53&$B53,[1]Current!$C$2:$C$180&[1]Current!$D$2:$D$180,0))),0,(INDEX([1]Current!F$2:F$180,MATCH($A53&$B53,[1]Current!$C$2:$C$180&[1]Current!$D$2:$D$180,0))))} -> 14 | E53: 032 Non-assaultive sexual offences | F53: {=IF(ISERROR(INDEX([1]Monthly!E$2:E$180,MATCH($A53&$B53,[1]Monthly!$C$2:$C$180&[1]Monthly!$D$2:$D$180,0))),0,(INDEX([1]Monthly!E$2:E$180,MATCH($A53&$B53,[1]Monthly!$C$2:$C$180&[1]Monthly!$D$2:$D$180,0))))} -> 4 | G53: {=IF(ISERROR(INDEX([1]Monthly!F$2:F$180,MATCH($A53&$B53,[1]Monthly!$C$2:$C$180&[1]Monthly!$D$2:$D$180,0))),0,(INDEX([1]Monthly!F$2:F$180,MATCH($A53&$B53,[1]Monthly!$C$2:$C$180&[1]Monthly!$D$2:$D$180,0))))} -> 1 | H53: {=IF(ISERROR(INDEX([1]Monthly!G$2:G$180,MATCH($A53&$B53,[1]Monthly!$C$2:$C$180&[1]Monthly!$D$2:$D$180,0))),0,(INDEX([1]Monthly!G$2:G$180,MATCH($A53&$B53,[1]Monthly!$C$2:$C$180&[1]Monthly!$D$2:$D$180,0))))} -> 2 | I53: {=IF(ISERROR(INDEX([1]Monthly!H$2:H$180,MATCH($A53&$B53,[1]Monthly!$C$2:$C$180&[1]Monthly!$D$2:$D$180,0))),0,(INDEX([1]Monthly!H$2:H$180,MATCH($A53&$B53,[1]Monthly!$C$2:$C$180&[1]Monthly!$D$2:$D$180,0))))} -> 3 | J53: {=IF(ISERROR(INDEX([1]Monthly!I$2:I$180,MATCH($A53&$B53,[1]Monthly!$C$2:$C$180&[1]Monthly!$D$2:$D$180,0))),0,(INDEX([1]Monthly!I$2:I$180,MATCH($A53&$B53,[1]Monthly!$C$2:$C$180&[1]Monthly!$D$2:$D$180,0))))} -> 6 | K53: {=IF(ISERROR(INDEX([1]Monthly!J$2:J$180,MATCH($A53&$B53,[1]Monthly!$C$2:$C$180&[1]Monthly!$D$2:$D$180,0))),0,(INDEX([1]Monthly!J$2:J$180,MATCH($A53&$B53,[1]Monthly!$C$2:$C$180&[1]Monthly!$D$2:$D$180,0))))} -> 5 | L53: {=IF(ISERROR(INDEX([1]Monthly!K$2:K$180,MATCH($A53&$B53,[1]Monthly!$C$2:$C$180&[1]Monthly!$D$2:$D$180,0))),0,(INDEX([1]Monthly!K$2:K$180,MATCH($A53&$B53,[1]Monthly!$C$2:$C$180&[1]Monthly!$D$2:$D$180,0))))} -> 0 | M53: {=IF(ISERROR(INDEX([1]Monthly!L$2:L$180,MATCH($A53&$B53,[1]Monthly!$C$2:$C$180&[1]Monthly!$D$2:$D$180,0))),0,(INDEX([1]Monthly!L$2:L$180,MATCH($A53&$B53,[1]Monthly!$C$2:$C$180&[1]Monthly!$D$2:$D$180,0))))} -> 1 | ... AF53: {=IF(ISERROR(INDEX([1]Monthly!AE$2:AE$180,MATCH($A53&$B53,[1]Monthly!$C$2:$C$180&[1]Monthly!$D$2:$D$180,0))),0,(INDEX([1]Monthly!AE$2:AE$180,MATCH($A53&$B53,[1]Monthly!$C$2:$C$180&[1]Monthly!$D$2:$D$180,0))))} -> 0
C54: =SUM(C52:C53) -> 132 | D54: =SUM(D52:D53) -> 106 | E54: 03 Sexual assault and related offences | F54: =SUM(F52:F53) -> 13 | G54: =SUM(G52:G53) -> 11 | H54: =SUM(H52:H53) -> 8 | I54: =SUM(I52:I53) -> 17 | J54: =SUM(J52:J53) -> 17 | K54: =SUM(K52:K53) -> 21 | L54: =SUM(L52:L53) -> 7 | M54: =SUM(M52:M53) -> 7 | ... AF54: =SUM(AF52:AF53) -> 15
A55: 11 | B55: 10 | C55: {=IF(ISERROR(INDEX([1]Current!E$2:E$180,MATCH($A55&$B55,[1]Current!$C$2:$C$180&[1]Current!$D$2:$D$180,0))),0,(INDEX([1]Current!E$2:E$180,MATCH($A55&$B55,[1]Current!$C$2:$C$180&[1]Current!$D$2:$D$180,0))))} -> 24 | D55: {=IF(ISERROR(INDEX([1]Current!F$2:F$180,MATCH($A55&$B55,[1]Current!$C$2:$C$180&[1]Current!$D$2:$D$180,0))),0,(INDEX([1]Current!F$2:F$180,MATCH($A55&$B55,[1]Current!$C$2:$C$180&[1]Current!$D$2:$D$180,0))))} -> 25 | E55: 049 Other dangerous or negligent acts endangering persons | F55: {=IF(ISERROR(INDEX([1]Monthly!E$2:E$180,MATCH($A55&$B55,[1]Monthly!$C$2:$C$180&[1]Monthly!$D$2:$D$180,0))),0,(INDEX([1]Monthly!E$2:E$180,MATCH($A55&$B55,[1]Monthly!$C$2:$C$180&[1]Monthly!$D$2:$D$180,0))))} -> 1 | G55: {=IF(ISERROR(INDEX([1]Monthly!F$2:F$180,MATCH($A55&$B55,[1]Monthly!$C$2:$C$180&[1]Monthly!$D$2:$D$180,0))),0,(INDEX([1]Monthly!F$2:F$180,MATCH($A55&$B55,[1]Monthly!$C$2:$C$180&[1]Monthly!$D$2:$D$180,0))))} -> 3 | H55: {=IF(ISERROR(INDEX([1]Monthly!G$2:G$180,MATCH($A55&$B55,[1]Monthly!$C$2:$C$180&[1]Monthly!$D$2:$D$180,0))),0,(INDEX([1]Monthly!G$2:G$180,MATCH($A55&$B55,[1]Monthly!$C$2:$C$180&[1]Monthly!$D$2:$D$180,0))))} -> 1 | I55: {=IF(ISERROR(INDEX([1]Monthly!H$2:H$180,MATCH($A55&$B55,[1]Monthly!$C$2:$C$180&[1]Monthly!$D$2:$D$180,0))),0,(INDEX([1]Monthly!H$2:H$180,MATCH($A55&$B55,[1]Monthly!$C$2:$C$180&[1]Monthly!$D$2:$D$180,0))))} -> 0 | J55: {=IF(ISERROR(INDEX([1]Monthly!I$2:I$180,MATCH($A55&$B55,[1]Monthly!$C$2:$C$180&[1]Monthly!$D$2:$D$180,0))),0,(INDEX([1]Monthly!I$2:I$180,MATCH($A55&$B55,[1]Monthly!$C$2:$C$180&[1]Monthly!$D$2:$D$180,0))))} -> 3 | K55: {=IF(ISERROR(INDEX([1]Monthly!J$2:J$180,MATCH($A55&$B55,[1]Monthly!$C$2:$C$180&[1]Monthly!$D$2:$D$180,0))),0,(INDEX([1]Monthly!J$2:J$180,MATCH($A55&$B55,[1]Monthly!$C$2:$C$180&[1]Monthly!$D$2:$D$180,0))))} -> 3 | L55: {=IF(ISERROR(INDEX([1]Monthly!K$2:K$180,MATCH($A55&$B55,[1]Monthly!$C$2:$C$180&[1]Monthly!$D$2:$D$180,0))),0,(INDEX([1]Monthly!K$2:K$180,MATCH($A55&$B55,[1]Monthly!$C$2:$C$180&[1]Monthly!$D$2:$D$180,0))))} -> 0 | M55: {=IF(ISERROR(INDEX([1]Monthly!L$2:L$180,MATCH($A55&$B55,[1]Monthly!$C$2:$C$180&[1]Monthly!$D$2:$D$180,0))),0,(INDEX([1]Monthly!L$2:L$180,MATCH($A55&$B55,[1]Monthly!$C$2:$C$180&[1]Monthly!$D$2:$D$180,0))))} -> 1 | ... AF55: {=IF(ISERROR(INDEX([1]Monthly!AE$2:AE$180,MATCH($A55&$B55,[1]Monthly!$C$2:$C$180&[1]Monthly!$D$2:$D$180,0))),0,(INDEX([1]Monthly!AE$2:AE$180,MATCH($A55&$B55,[1]Monthly!$C$2:$C$180&[1]Monthly!$D$2:$D$180,0))))} -> 0
A56: 11 | B56: 11 | C56: {=IF(ISERROR(INDEX([1]Current!E$2:E$180,MATCH($A56&$B56,[1]Current!$C$2:$C$180&[1]Current!$D$2:$D$180,0))),0,(INDEX([1]Current!E$2:E$180,MATCH($A56&$B56,[1]Current!$C$2:$C$180&[1]Current!$D$2:$D$180,0))))} -> 0 | D56: {=IF(ISERROR(INDEX([1]Current!F$2:F$180,MATCH($A56&$B56,[1]Current!$C$2:$C$180&[1]Current!$D$2:$D$180,0))),0,(INDEX([1]Current!F$2:F$180,MATCH($A56&$B56,[1]Current!$C$2:$C$180&[1]Current!$D$2:$D$180,0))))} -> 2 | E56: 0511 Abduction and kidnapping | F56: {=IF(ISERROR(INDEX([1]Monthly!E$2:E$180,MATCH($A56&$B56,[1]Monthly!$C$2:$C$180&[1]Monthly!$D$2:$D$180,0))),0,(INDEX([1]Monthly!E$2:E$180,MATCH($A56&$B56,[1]Monthly!$C$2:$C$180&[1]Monthly!$D$2:$D$180,0))))} -> 0 | G56: {=IF(ISERROR(INDEX([1]Monthly!F$2:F$180,MATCH($A56&$B56,[1]Monthly!$C$2:$C$180&[1]Monthly!$D$2:$D$180,0))),0,(INDEX([1]Monthly!F$2:F$180,MATCH($A56&$B56,[1]Monthly!$C$2:$C$180&[1]Monthly!$D$2:$D$180,0))))} -> 0 | H56: {=IF(ISERROR(INDEX([1]Monthly!G$2:G$180,MATCH($A56&$B56,[1]Monthly!$C$2:$C$180&[1]Monthly!$D$2:$D$180,0))),0,(INDEX([1]Monthly!G$2:G$180,MATCH($A56&$B56,[1]Monthly!$C$2:$C$180&[1]Monthly!$D$2:$D$180,0))))} -> 0 | I56: {=IF(ISERROR(INDEX([1]Monthly!H$2:H$180,MATCH($A56&$B56,[1]Monthly!$C$2:$C$180&[1]Monthly!$D$2:$D$180,0))),0,(INDEX([1]Monthly!H$2:H$180,MATCH($A56&$B56,[1]Monthly!$C$2:$C$180&[1]Monthly!$D$2:$D$180,0))))} -> 0 | J56: {=IF(ISERROR(INDEX([1]Monthly!I$2:I$180,MATCH($A56&$B56,[1]Monthly!$C$2:$C$180&[1]Monthly!$D$2:$D$180,0))),0,(INDEX([1]Monthly!I$2:I$180,MATCH($A56&$B56,[1]Monthly!$C$2:$C$180&[1]Monthly!$D$2:$D$180,0))))} -> 0 | K56: {=IF(ISERROR(INDEX([1]Monthly!J$2:J$180,MATCH($A56&$B56,[1]Monthly!$C$2:$C$180&[1]Monthly!$D$2:$D$180,0))),0,(INDEX([1]Monthly!J$2:J$180,MATCH($A56&$B56,[1]Monthly!$C$2:$C$180&[1]Monthly!$D$2:$D$180,0))))} -> 0 | L56: {=IF(ISERROR(INDEX([1]Monthly!K$2:K$180,MATCH($A56&$B56,[1]Monthly!$C$2:$C$180&[1]Monthly!$D$2:$D$180,0))),0,(INDEX([1]Monthly!K$2:K$180,MATCH($A56&$B56,[1]Monthly!$C$2:$C$180&[1]Monthly!$D$2:$D$180,0))))} -> 0 | M56: {=IF(ISERROR(INDEX([1]Monthly!L$2:L$180,MATCH($A56&$B56,[1]Monthly!$C$2:$C$180&[1]Monthly!$D$2:$D$180,0))),0,(INDEX([1]Monthly!L$2:L$180,MATCH($A56&$B56,[1]Monthly!$C$2:$C$180&[1]Monthly!$D$2:$D$180,0))))} -> 0 | ... AF56: {=IF(ISERROR(INDEX([1]Monthly!AE$2:AE$180,MATCH($A56&$B56,[1]Monthly!$C$2:$C$180&[1]Monthly!$D$2:$D$180,0))),0,(INDEX([1]Monthly!AE$2:AE$180,MATCH($A56&$B56,[1]Monthly!$C$2:$C$180&[1]Monthly!$D$2:$D$180,0))))} -> 0
A57: 11 | B57: 12 | C57: {=IF(ISERROR(INDEX([1]Current!E$2:E$180,MATCH($A57&$B57,[1]Current!$C$2:$C$180&[1]Current!$D$2:$D$180,0))),0,(INDEX([1]Current!E$2:E$180,MATCH($A57&$B57,[1]Current!$C$2:$C$180&[1]Current!$D$2:$D$180,0))))} -> 10 | D57: {=IF(ISERROR(INDEX([1]Current!F$2:F$180,MATCH($A57&$B57,[1]Current!$C$2:$C$180&[1]Current!$D$2:$D$180,0))),0,(INDEX([1]Current!F$2:F$180,MATCH($A57&$B57,[1]Current!$C$2:$C$180&[1]Current!$D$2:$D$180,0))))} -> 7 | E57: 0521 Deprivation of liberty/false imprisonment | F57: {=IF(ISERROR(INDEX([1]Monthly!E$2:E$180,MATCH($A57&$B57,[1]Monthly!$C$2:$C$180&[1]Monthly!$D$2:$D$180,0))),0,(INDEX([1]Monthly!E$2:E$180,MATCH($A57&$B57,[1]Monthly!$C$2:$C$180&[1]Monthly!$D$2:$D$180,0))))} -> 3 | G57: {=IF(ISERROR(INDEX([1]Monthly!F$2:F$180,MATCH($A57&$B57,[1]Monthly!$C$2:$C$180&[1]Monthly!$D$2:$D$180,0))),0,(INDEX([1]Monthly!F$2:F$180,MATCH($A57&$B57,[1]Monthly!$C$2:$C$180&[1]Monthly!$D$2:$D$180,0))))} -> 3 | H57: {=IF(ISERROR(INDEX([1]Monthly!G$2:G$180,MATCH($A57&$B57,[1]Monthly!$C$2:$C$180&[1]Monthly!$D$2:$D$180,0))),0,(INDEX([1]Monthly!G$2:G$180,MATCH($A57&$B57,[1]Monthly!$C$2:$C$180&[1]Monthly!$D$2:$D$180,0))))} -> 1 | I57: {=IF(ISERROR(INDEX([1]Monthly!H$2:H$180,MATCH($A57&$B57,[1]Monthly!$C$2:$C$180&[1]Monthly!$D$2:$D$180,0))),0,(INDEX([1]Monthly!H$2:H$180,MATCH($A57&$B57,[1]Monthly!$C$2:$C$180&[1]Monthly!$D$2:$D$180,0))))} -> 0 | J57: {=IF(ISERROR(INDEX([1]Monthly!I$2:I$180,MATCH($A57&$B57,[1]Monthly!$C$2:$C$180&[1]Monthly!$D$2:$D$180,0))),0,(INDEX([1]Monthly!I$2:I$180,MATCH($A57&$B57,[1]Monthly!$C$2:$C$180&[1]Monthly!$D$2:$D$180,0))))} -> 0 | K57: {=IF(ISERROR(INDEX([1]Monthly!J$2:J$180,MATCH($A57&$B57,[1]Monthly!$C$2:$C$180&[1]Monthly!$D$2:$D$180,0))),0,(INDEX([1]Monthly!J$2:J$180,MATCH($A57&$B57,[1]Monthly!$C$2:$C$180&[1]Monthly!$D$2:$D$180,0))))} -> 1 | L57: {=IF(ISERROR(INDEX([1]Monthly!K$2:K$180,MATCH($A57&$B57,[1]Monthly!$C$2:$C$180&[1]Monthly!$D$2:$D$180,0))),0,(INDEX([1]Monthly!K$2:K$180,MATCH($A57&$B57,[1]Monthly!$C$2:$C$180&[1]Monthly!$D$2:$D$180,0))))} -> 0 | M57: {=IF(ISERROR(INDEX([1]Monthly!L$2:L$180,MATCH($A57&$B57,[1]Monthly!$C$2:$C$180&[1]Monthly!$D$2:$D$180,0))),0,(INDEX([1]Monthly!L$2:L$180,MATCH($A57&$B57,[1]Monthly!$C$2:$C$180&[1]Monthly!$D$2:$D$180,0))))} -> 2 | ... AF57: {=IF(ISERROR(INDEX([1]Monthly!AE$2:AE$180,MATCH($A57&$B57,[1]Monthly!$C$2:$C$180&[1]Monthly!$D$2:$D$180,0))),0,(INDEX([1]Monthly!AE$2:AE$180,MATCH($A57&$B57,[1]Monthly!$C$2:$C$180&[1]Monthly!$D$2:$D$180,0))))} -> 0
A58: 11 | B58: 13 | C58: {=IF(ISERROR(INDEX([1]Current!E$2:E$180,MATCH($A58&$B58,[1]Current!$C$2:$C$180&[1]Current!$D$2:$D$180,0))),0,(INDEX([1]Current!E$2:E$180,MATCH($A58&$B58,[1]Current!$C$2:$C$180&[1]Current!$D$2:$D$180,0))))} -> 13 | D58: {=IF(ISERROR(INDEX([1]Current!F$2:F$180,MATCH($A58&$B58,[1]Current!$C$2:$C$180&[1]Current!$D$2:$D$180,0))),0,(INDEX([1]Current!F$2:F$180,MATCH($A58&$B58,[1]Current!$C$2:$C$180&[1]Current!$D$2:$D$180,0))))} -> 12 | E58: 0531 Harassment and private nuisance | F58: {=IF(ISERROR(INDEX([1]Monthly!E$2:E$180,MATCH($A58&$B58,[1]Monthly!$C$2:$C$180&[1]Monthly!$D$2:$D$180,0))),0,(INDEX([1]Monthly!E$2:E$180,MATCH($A58&$B58,[1]Monthly!$C$2:$C$180&[1]Monthly!$D$2:$D$180,0))))} -> 1 | G58: {=IF(ISERROR(INDEX([1]Monthly!F$2:F$180,MATCH($A58&$B58,[1]Monthly!$C$2:$C$180&[1]Monthly!$D$2:$D$180,0))),0,(INDEX([1]Monthly!F$2:F$180,MATCH($A58&$B58,[1]Monthly!$C$2:$C$180&[1]Monthly!$D$2:$D$180,0))))} -> 1 | H58: {=IF(ISERROR(INDEX([1]Monthly!G$2:G$180,MATCH($A58&$B58,[1]Monthly!$C$2:$C$180&[1]Monthly!$D$2:$D$180,0))),0,(INDEX([1]Monthly!G$2:G$180,MATCH($A58&$B58,[1]Monthly!$C$2:$C$180&[1]Monthly!$D$2:$D$180,0))))} -> 2 | I58: {=IF(ISERROR(INDEX([1]Monthly!H$2:H$180,MATCH($A58&$B58,[1]Monthly!$C$2:$C$180&[1]Monthly!$D$2:$D$180,0))),0,(INDEX([1]Monthly!H$2:H$180,MATCH($A58&$B58,[1]Monthly!$C$2:$C$180&[1]Monthly!$D$2:$D$180,0))))} -> 0 | J58: {=IF(ISERROR(INDEX([1]Monthly!I$2:I$180,MATCH($A58&$B58,[1]Monthly!$C$2:$C$180&[1]Monthly!$D$2:$D$180,0))),0,(INDEX([1]Monthly!I$2:I$180,MATCH($A58&$B58,[1]Monthly!$C$2:$C$180&[1]Monthly!$D$2:$D$180,0))))} -> 1 | K58: {=IF(ISERROR(INDEX([1]Monthly!J$2:J$180,MATCH($A58&$B58,[1]Monthly!$C$2:$C$180&[1]Monthly!$D$2:$D$180,0))),0,(INDEX([1]Monthly!J$2:J$180,MATCH($A58&$B58,[1]Monthly!$C$2:$C$180&[1]Monthly!$D$2:$D$180,0))))} -> 0 | L58: {=IF(ISERROR(INDEX([1]Monthly!K$2:K$180,MATCH($A58&$B58,[1]Monthly!$C$2:$C$180&[1]Monthly!$D$2:$D$180,0))),0,(INDEX([1]Monthly!K$2:K$180,MATCH($A58&$B58,[1]Monthly!$C$2:$C$180&[1]Monthly!$D$2:$D$180,0))))} -> 3 | M58: {=IF(ISERROR(INDEX([1]Monthly!L$2:L$180,MATCH($A58&$B58,[1]Monthly!$C$2:$C$180&[1]Monthly!$D$2:$D$180,0))),0,(INDEX([1]Monthly!L$2:L$180,MATCH($A58&$B58,[1]Monthly!$C$2:$C$180&[1]Monthly!$D$2:$D$180,0))))} -> 2 | ... AF58: {=IF(ISERROR(INDEX([1]Monthly!AE$2:AE$180,MATCH($A58&$B58,[1]Monthly!$C$2:$C$180&[1]Monthly!$D$2:$D$180,0))),0,(INDEX([1]Monthly!AE$2:AE$180,MATCH($A58&$B58,[1]Monthly!$C$2:$C$180&[1]Monthly!$D$2:$D$180,0))))} -> 1
A59: 11 | B59: 14 | C59: {=IF(ISERROR(INDEX([1]Current!E$2:E$180,MATCH($A59&$B59,[1]Current!$C$2:$C$180&[1]Current!$D$2:$D$180,0))),0,(INDEX([1]Current!E$2:E$180,MATCH($A59&$B59,[1]Current!$C$2:$C$180&[1]Current!$D$2:$D$180,0))))} -> 45 | D59: {=IF(ISERROR(INDEX([1]Current!F$2:F$180,MATCH($A59&$B59,[1]Current!$C$2:$C$180&[1]Current!$D$2:$D$180,0))),0,(INDEX([1]Current!F$2:F$180,MATCH($A59&$B59,[1]Current!$C$2:$C$180&[1]Current!$D$2:$D$180,0))))} -> 43 | E59: 0532 Threatening behaviour | F59: {=IF(ISERROR(INDEX([1]Monthly!E$2:E$180,MATCH($A59&$B59,[1]Monthly!$C$2:$C$180&[1]Monthly!$D$2:$D$180,0))),0,(INDEX([1]Monthly!E$2:E$180,MATCH($A59&$B59,[1]Monthly!$C$2:$C$180&[1]Monthly!$D$2:$D$180,0))))} -> 1 | G59: {=IF(ISERROR(INDEX([1]Monthly!F$2:F$180,MATCH($A59&$B59,[1]Monthly!$C$2:$C$180&[1]Monthly!$D$2:$D$180,0))),0,(INDEX([1]Monthly!F$2:F$180,MATCH($A59&$B59,[1]Monthly!$C$2:$C$180&[1]Monthly!$D$2:$D$180,0))))} -> 4 | H59: {=IF(ISERROR(INDEX([1]Monthly!G$2:G$180,MATCH($A59&$B59,[1]Monthly!$C$2:$C$180&[1]Monthly!$D$2:$D$180,0))),0,(INDEX([1]Monthly!G$2:G$180,MATCH($A59&$B59,[1]Monthly!$C$2:$C$180&[1]Monthly!$D$2:$D$180,0))))} -> 2 | I59: {=IF(ISERROR(INDEX([1]Monthly!H$2:H$180,MATCH($A59&$B59,[1]Monthly!$C$2:$C$180&[1]Monthly!$D$2:$D$180,0))),0,(INDEX([1]Monthly!H$2:H$180,MATCH($A59&$B59,[1]Monthly!$C$2:$C$180&[1]Monthly!$D$2:$D$180,0))))} -> 8 | J59: {=IF(ISERROR(INDEX([1]Monthly!I$2:I$180,MATCH($A59&$B59,[1]Monthly!$C$2:$C$180&[1]Monthly!$D$2:$D$180,0))),0,(INDEX([1]Monthly!I$2:I$180,MATCH($A59&$B59,[1]Monthly!$C$2:$C$180&[1]Monthly!$D$2:$D$180,0))))} -> 10 | K59: {=IF(ISERROR(INDEX([1]Monthly!J$2:J$180,MATCH($A59&$B59,[1]Monthly!$C$2:$C$180&[1]Monthly!$D$2:$D$180,0))),0,(INDEX([1]Monthly!J$2:J$180,MATCH($A59&$B59,[1]Monthly!$C$2:$C$180&[1]Monthly!$D$2:$D$180,0))))} -> 7 | L59: {=IF(ISERROR(INDEX([1]Monthly!K$2:K$180,MATCH($A59&$B59,[1]Monthly!$C$2:$C$180&[1]Monthly!$D$2:$D$180,0))),0,(INDEX([1]Monthly!K$2:K$180,MATCH($A59&$B59,[1]Monthly!$C$2:$C$180&[1]Monthly!$D$2:$D$180,0))))} -> 2 | M59: {=IF(ISERROR(INDEX([1]Monthly!L$2:L$180,MATCH($A59&$B59,[1]Monthly!$C$2:$C$180&[1]Monthly!$D$2:$D$180,0))),0,(INDEX([1]Monthly!L$2:L$180,MATCH($A59&$B59,[1]Monthly!$C$2:$C$180&[1]Monthly!$D$2:$D$180,0))))} -> 5 | ... AF59: {=IF(ISERROR(INDEX([1]Monthly!AE$2:AE$180,MATCH($A59&$B59,[1]Monthly!$C$2:$C$180&[1]Monthly!$D$2:$D$180,0))),0,(INDEX([1]Monthly!AE$2:AE$180,MATCH($A59&$B59,[1]Monthly!$C$2:$C$180&[1]Monthly!$D$2:$D$180,0))))} -> 1
C60: =SUM(C56:C59) -> 68 | D60: =SUM(D56:D59) -> 64 | E60: 05 Abduction, harassment and other offences | F60: =SUM(F56:F59) -> 5 | G60: =SUM(G56:G59) -> 8 | H60: =SUM(H56:H59) -> 5 | I60: =SUM(I56:I59) -> 8 | J60: =SUM(J56:J59) -> 11 | K60: =SUM(K56:K59) -> 8 | L60: =SUM(L56:L59) -> 5 | M60: =SUM(M56:M59) -> 9 | ... AF60: =SUM(AF56:AF59) -> 2
A61: 11 | B61: 15 | C61: {=IF(ISERROR(INDEX([1]Current!E$2:E$180,MATCH($A61&$B61,[1]Current!$C$2:$C$180&[1]Current!$D$2:$D$180,0))),0,(INDEX([1]Current!E$2:E$180,MATCH($A61&$B61,[1]Current!$C$2:$C$180&[1]Current!$D$2:$D$180,0))))} -> 73 | D61: {=IF(ISERROR(INDEX([1]Current!F$2:F$180,MATCH($A61&$B61,[1]Current!$C$2:$C$180&[1]Current!$D$2:$D$180,0))),0,(INDEX([1]Current!F$2:F$180,MATCH($A61&$B61,[1]Current!$C$2:$C$180&[1]Current!$D$2:$D$180,0))))} -> 110 | E61: 061 Robbery | F61: {=IF(ISERROR(INDEX([1]Monthly!E$2:E$180,MATCH($A61&$B61,[1]Monthly!$C$2:$C$180&[1]Monthly!$D$2:$D$180,0))),0,(INDEX([1]Monthly!E$2:E$180,MATCH($A61&$B61,[1]Monthly!$C$2:$C$180&[1]Monthly!$D$2:$D$180,0))))} -> 12 | G61: {=IF(ISERROR(INDEX([1]Monthly!F$2:F$180,MATCH($A61&$B61,[1]Monthly!$C$2:$C$180&[1]Monthly!$D$2:$D$180,0))),0,(INDEX([1]Monthly!F$2:F$180,MATCH($A61&$B61,[1]Monthly!$C$2:$C$180&[1]Monthly!$D$2:$D$180,0))))} -> 11 | H61: {=IF(ISERROR(INDEX([1]Monthly!G$2:G$180,MATCH($A61&$B61,[1]Monthly!$C$2:$C$180&[1]Monthly!$D$2:$D$180,0))),0,(INDEX([1]Monthly!G$2:G$180,MATCH($A61&$B61,[1]Monthly!$C$2:$C$180&[1]Monthly!$D$2:$D$180,0))))} -> 3 | I61: {=IF(ISERROR(INDEX([1]Monthly!H$2:H$180,MATCH($A61&$B61,[1]Monthly!$C$2:$C$180&[1]Monthly!$D$2:$D$180,0))),0,(INDEX([1]Monthly!H$2:H$180,MATCH($A61&$B61,[1]Monthly!$C$2:$C$180&[1]Monthly!$D$2:$D$180,0))))} -> 3 | J61: {=IF(ISERROR(INDEX([1]Monthly!I$2:I$180,MATCH($A61&$B61,[1]Monthly!$C$2:$C$180&[1]Monthly!$D$2:$D$180,0))),0,(INDEX([1]Monthly!I$2:I$180,MATCH($A61&$B61,[1]Monthly!$C$2:$C$180&[1]Monthly!$D$2:$D$180,0))))} -> 9 | K61: {=IF(ISERROR(INDEX([1]Monthly!J$2:J$180,MATCH($A61&$B61,[1]Monthly!$C$2:$C$180&[1]Monthly!$D$2:$D$180,0))),0,(INDEX([1]Monthly!J$2:J$180,MATCH($A61&$B61,[1]Monthly!$C$2:$C$180&[1]Monthly!$D$2:$D$180,0))))} -> 11 | L61: {=IF(ISERROR(INDEX([1]Monthly!K$2:K$180,MATCH($A61&$B61,[1]Monthly!$C$2:$C$180&[1]Monthly!$D$2:$D$180,0))),0,(INDEX([1]Monthly!K$2:K$180,MATCH($A61&$B61,[1]Monthly!$C$2:$C$180&[1]Monthly!$D$2:$D$180,0))))} -> 7 | M61: {=IF(ISERROR(INDEX([1]Monthly!L$2:L$180,MATCH($A61&$B61,[1]Monthly!$C$2:$C$180&[1]Monthly!$D$2:$D$180,0))),0,(INDEX([1]Monthly!L$2:L$180,MATCH($A61&$B61,[1]Monthly!$C$2:$C$180&[1]Monthly!$D$2:$D$180,0))))} -> 4 | ... AF61: {=IF(ISERROR(INDEX([1]Monthly!AE$2:AE$180,MATCH($A61&$B61,[1]Monthly!$C$2:$C$180&[1]Monthly!$D$2:$D$180,0))),0,(INDEX([1]Monthly!AE$2:AE$180,MATCH($A61&$B61,[1]Monthly!$C$2:$C$180&[1]Monthly!$D$2:$D$180,0))))} -> 13
A62: 11 | B62: 16 | C62: {=IF(ISERROR(INDEX([1]Current!E$2:E$180,MATCH($A62&$B62,[1]Current!$C$2:$C$180&[1]Current!$D$2:$D$180,0))),0,(INDEX([1]Current!E$2:E$180,MATCH($A62&$B62,[1]Current!$C$2:$C$180&[1]Current!$D$2:$D$180,0))))} -> 1 | D62: {=IF(ISERROR(INDEX([1]Current!F$2:F$180,MATCH($A62&$B62,[1]Current!$C$2:$C$180&[1]Current!$D$2:$D$180,0))),0,(INDEX([1]Current!F$2:F$180,MATCH($A62&$B62,[1]Current!$C$2:$C$180&[1]Current!$D$2:$D$180,0))))} -> 0 | E62: 0621 Blackmail and extortion | F62: {=IF(ISERROR(INDEX([1]Monthly!E$2:E$180,MATCH($A62&$B62,[1]Monthly!$C$2:$C$180&[1]Monthly!$D$2:$D$180,0))),0,(INDEX([1]Monthly!E$2:E$180,MATCH($A62&$B62,[1]Monthly!$C$2:$C$180&[1]Monthly!$D$2:$D$180,0))))} -> 0 | G62: {=IF(ISERROR(INDEX([1]Monthly!F$2:F$180,MATCH($A62&$B62,[1]Monthly!$C$2:$C$180&[1]Monthly!$D$2:$D$180,0))),0,(INDEX([1]Monthly!F$2:F$180,MATCH($A62&$B62,[1]Monthly!$C$2:$C$180&[1]Monthly!$D$2:$D$180,0))))} -> 1 | H62: {=IF(ISERROR(INDEX([1]Monthly!G$2:G$180,MATCH($A62&$B62,[1]Monthly!$C$2:$C$180&[1]Monthly!$D$2:$D$180,0))),0,(INDEX([1]Monthly!G$2:G$180,MATCH($A62&$B62,[1]Monthly!$C$2:$C$180&[1]Monthly!$D$2:$D$180,0))))} -> 0 | I62: {=IF(ISERROR(INDEX([1]Monthly!H$2:H$180,MATCH($A62&$B62,[1]Monthly!$C$2:$C$180&[1]Monthly!$D$2:$D$180,0))),0,(INDEX([1]Monthly!H$2:H$180,MATCH($A62&$B62,[1]Monthly!$C$2:$C$180&[1]Monthly!$D$2:$D$180,0))))} -> 0 | J62: {=IF(ISERROR(INDEX([1]Monthly!I$2:I$180,MATCH($A62&$B62,[1]Monthly!$C$2:$C$180&[1]Monthly!$D$2:$D$180,0))),0,(INDEX([1]Monthly!I$2:I$180,MATCH($A62&$B62,[1]Monthly!$C$2:$C$180&[1]Monthly!$D$2:$D$180,0))))} -> 0 | K62: {=IF(ISERROR(INDEX([1]Monthly!J$2:J$180,MATCH($A62&$B62,[1]Monthly!$C$2:$C$180&[1]Monthly!$D$2:$D$180,0))),0,(INDEX([1]Monthly!J$2:J$180,MATCH($A62&$B62,[1]Monthly!$C$2:$C$180&[1]Monthly!$D$2:$D$180,0))))} -> 0 | L62: {=IF(ISERROR(INDEX([1]Monthly!K$2:K$180,MATCH($A62&$B62,[1]Monthly!$C$2:$C$180&[1]Monthly!$D$2:$D$180,0))),0,(INDEX([1]Monthly!K$2:K$180,MATCH($A62&$B62,[1]Monthly!$C$2:$C$180&[1]Monthly!$D$2:$D$180,0))))} -> 0 | M62: {=IF(ISERROR(INDEX([1]Monthly!L$2:L$180,MATCH($A62&$B62,[1]Monthly!$C$2:$C$180&[1]Monthly!$D$2:$D$180,0))),0,(INDEX([1]Monthly!L$2:L$180,MATCH($A62&$B62,[1]Monthly!$C$2:$C$180&[1]Monthly!$D$2:$D$180,0))))} -> 0 | ... AF62: {=IF(ISERROR(INDEX([1]Monthly!AE$2:AE$180,MATCH($A62&$B62,[1]Monthly!$C$2:$C$180&[1]Monthly!$D$2:$D$180,0))),0,(INDEX([1]Monthly!AE$2:AE$180,MATCH($A62&$B62,[1]Monthly!$C$2:$C$180&[1]Monthly!$D$2:$D$180,0))))} -> 0
C63: =SUM(C61:C62) -> 74 | D63: =SUM(D61:D62) -> 110 | E63: 06 Robbery, extortion and related offences | F63: =SUM(F61:F62) -> 12 | G63: =SUM(G61:G62) -> 12 | H63: =SUM(H61:H62) -> 3 | I63: =SUM(I61:I62) -> 3 | J63: =SUM(J61:J62) -> 9 | K63: =SUM(K61:K62) -> 11 | L63: =SUM(L61:L62) -> 7 | M63: =SUM(M61:M62) -> 4 | ... AF63: =SUM(AF61:AF62) -> 13
C64: =C48+C51+C54+C55+C60+C63 -> 2343 | D64: =D48+D51+D54+D55+D60+D63 -> 2359 | E64: Total offences against the person | F64: =F48+F51+F54+F55+F60+F63 -> 173 | G64: =G48+G51+G54+G55+G60+G63 -> 200 | H64: =H48+H51+H54+H55+H60+H63 -> 163 | I64: =I48+I51+I54+I55+I60+I63 -> 148 | J64: =J48+J51+J54+J55+J60+J63 -> 208 | K64: =K48+K51+K54+K55+K60+K63 -> 224 | L64: =L48+L51+L54+L55+L60+L63 -> 190 | M64: =M48+M51+M54+M55+M60+M63 -> 224 | ... AF64: =AF48+AF51+AF54+AF55+AF60+AF63 -> 214
A65: 11 | B65: 17 | C65: {=IF(ISERROR(INDEX([1]Current!E$2:E$180,MATCH($A65&$B65,[1]Current!$C$2:$C$180&[1]Current!$D$2:$D$180,0))),0,(INDEX([1]Current!E$2:E$180,MATCH($A65&$B65,[1]Current!$C$2:$C$180&[1]Current!$D$2:$D$180,0))))} -> 313 | D65: {=IF(ISERROR(INDEX([1]Current!F$2:F$180,MATCH($A65&$B65,[1]Current!$C$2:$C$180&[1]Current!$D$2:$D$180,0))),0,(INDEX([1]Current!F$2:F$180,MATCH($A65&$B65,[1]Current!$C$2:$C$180&[1]Current!$D$2:$D$180,0))))} -> 511 | E65: House break-ins, actual | F65: {=IF(ISERROR(INDEX([1]Monthly!E$2:E$180,MATCH($A65&$B65,[1]Monthly!$C$2:$C$180&[1]Monthly!$D$2:$D$180,0))),0,(INDEX([1]Monthly!E$2:E$180,MATCH($A65&$B65,[1]Monthly!$C$2:$C$180&[1]Monthly!$D$2:$D$180,0))))} -> 76 | G65: {=IF(ISERROR(INDEX([1]Monthly!F$2:F$180,MATCH($A65&$B65,[1]Monthly!$C$2:$C$180&[1]Monthly!$D$2:$D$180,0))),0,(INDEX([1]Monthly!F$2:F$180,MATCH($A65&$B65,[1]Monthly!$C$2:$C$180&[1]Monthly!$D$2:$D$180,0))))} -> 77 | H65: {=IF(ISERROR(INDEX([1]Monthly!G$2:G$180,MATCH($A65&$B65,[1]Monthly!$C$2:$C$180&[1]Monthly!$D$2:$D$180,0))),0,(INDEX([1]Monthly!G$2:G$180,MATCH($A65&$B65,[1]Monthly!$C$2:$C$180&[1]Monthly!$D$2:$D$180,0))))} -> 34 | I65: {=IF(ISERROR(INDEX([1]Monthly!H$2:H$180,MATCH($A65&$B65,[1]Monthly!$C$2:$C$180&[1]Monthly!$D$2:$D$180,0))),0,(INDEX([1]Monthly!H$2:H$180,MATCH($A65&$B65,[1]Monthly!$C$2:$C$180&[1]Monthly!$D$2:$D$180,0))))} -> 27 | J65: {=IF(ISERROR(INDEX([1]Monthly!I$2:I$180,MATCH($A65&$B65,[1]Monthly!$C$2:$C$180&[1]Monthly!$D$2:$D$180,0))),0,(INDEX([1]Monthly!I$2:I$180,MATCH($A65&$B65,[1]Monthly!$C$2:$C$180&[1]Monthly!$D$2:$D$180,0))))} -> 14 | K65: {=IF(ISERROR(INDEX([1]Monthly!J$2:J$180,MATCH($A65&$B65,[1]Monthly!$C$2:$C$180&[1]Monthly!$D$2:$D$180,0))),0,(INDEX([1]Monthly!J$2:J$180,MATCH($A65&$B65,[1]Monthly!$C$2:$C$180&[1]Monthly!$D$2:$D$180,0))))} -> 20 | L65: {=IF(ISERROR(INDEX([1]Monthly!K$2:K$180,MATCH($A65&$B65,[1]Monthly!$C$2:$C$180&[1]Monthly!$D$2:$D$180,0))),0,(INDEX([1]Monthly!K$2:K$180,MATCH($A65&$B65,[1]Monthly!$C$2:$C$180&[1]Monthly!$D$2:$D$180,0))))} -> 11 | M65: {=IF(ISERROR(INDEX([1]Monthly!L$2:L$180,MATCH($A65&$B65,[1]Monthly!$C$2:$C$180&[1]Monthly!$D$2:$D$180,0))),0,(INDEX([1]Monthly!L$2:L$180,MATCH($A65&$B65,[1]Monthly!$C$2:$C$180&[1]Monthly!$D$2:$D$180,0))))} -> 25 | ... AF65: {=IF(ISERROR(INDEX([1]Monthly!AE$2:AE$180,MATCH($A65&$B65,[1]Monthly!$C$2:$C$180&[1]Monthly!$D$2:$D$180,0))),0,(INDEX([1]Monthly!AE$2:AE$180,MATCH($A65&$B65,[1]Monthly!$C$2:$C$180&[1]Monthly!$D$2:$D$180,0))))} -> 67
A66: 11 | B66: 18 | C66: {=IF(ISERROR(INDEX([1]Current!E$2:E$180,MATCH($A66&$B66,[1]Current!$C$2:$C$180&[1]Current!$D$2:$D$180,0))),0,(INDEX([1]Current!E$2:E$180,MATCH($A66&$B66,[1]Current!$C$2:$C$180&[1]Current!$D$2:$D$180,0))))} -> 41 | D66: {=IF(ISERROR(INDEX([1]Current!F$2:F$180,MATCH($A66&$B66,[1]Current!$C$2:$C$180&[1]Current!$D$2:$D$180,0))),0,(INDEX([1]Current!F$2:F$180,MATCH($A66&$B66,[1]Current!$C$2:$C$180&[1]Current!$D$2:$D$180,0))))} -> 80 | E66: House break-ins, attempted | F66: {=IF(ISERROR(INDEX([1]Monthly!E$2:E$180,MATCH($A66&$B66,[1]Monthly!$C$2:$C$180&[1]Monthly!$D$2:$D$180,0))),0,(INDEX([1]Monthly!E$2:E$180,MATCH($A66&$B66,[1]Monthly!$C$2:$C$180&[1]Monthly!$D$2:$D$180,0))))} -> 16 | G66: {=IF(ISERROR(INDEX([1]Monthly!F$2:F$180,MATCH($A66&$B66,[1]Monthly!$C$2:$C$180&[1]Monthly!$D$2:$D$180,0))),0,(INDEX([1]Monthly!F$2:F$180,MATCH($A66&$B66,[1]Monthly!$C$2:$C$180&[1]Monthly!$D$2:$D$180,0))))} -> 14 | H66: {=IF(ISERROR(INDEX([1]Monthly!G$2:G$180,MATCH($A66&$B66,[1]Monthly!$C$2:$C$180&[1]Monthly!$D$2:$D$180,0))),0,(INDEX([1]Monthly!G$2:G$180,MATCH($A66&$B66,[1]Monthly!$C$2:$C$180&[1]Monthly!$D$2:$D$180,0))))} -> 11 | I66: {=IF(ISERROR(INDEX([1]Monthly!H$2:H$180,MATCH($A66&$B66,[1]Monthly!$C$2:$C$180&[1]Monthly!$D$2:$D$180,0))),0,(INDEX([1]Monthly!H$2:H$180,MATCH($A66&$B66,[1]Monthly!$C$2:$C$180&[1]Monthly!$D$2:$D$180,0))))} -> 8 | J66: {=IF(ISERROR(INDEX([1]Monthly!I$2:I$180,MATCH($A66&$B66,[1]Monthly!$C$2:$C$180&[1]Monthly!$D$2:$D$180,0))),0,(INDEX([1]Monthly!I$2:I$180,MATCH($A66&$B66,[1]Monthly!$C$2:$C$180&[1]Monthly!$D$2:$D$180,0))))} -> 2 | K66: {=IF(ISERROR(INDEX([1]Monthly!J$2:J$180,MATCH($A66&$B66,[1]Monthly!$C$2:$C$180&[1]Monthly!$D$2:$D$180,0))),0,(INDEX([1]Monthly!J$2:J$180,MATCH($A66&$B66,[1]Monthly!$C$2:$C$180&[1]Monthly!$D$2:$D$180,0))))} -> 1 | L66: {=IF(ISERROR(INDEX([1]Monthly!K$2:K$180,MATCH($A66&$B66,[1]Monthly!$C$2:$C$180&[1]Monthly!$D$2:$D$180,0))),0,(INDEX([1]Monthly!K$2:K$180,MATCH($A66&$B66,[1]Monthly!$C$2:$C$180&[1]Monthly!$D$2:$D$180,0))))} -> 5 | M66: {=IF(ISERROR(INDEX([1]Monthly!L$2:L$180,MATCH($A66&$B66,[1]Monthly!$C$2:$C$180&[1]Monthly!$D$2:$D$180,0))),0,(INDEX([1]Monthly!L$2:L$180,MATCH($A66&$B66,[1]Monthly!$C$2:$C$180&[1]Monthly!$D$2:$D$180,0))))} -> 3 | ... AF66: {=IF(ISERROR(INDEX([1]Monthly!AE$2:AE$180,MATCH($A66&$B66,[1]Monthly!$C$2:$C$180&[1]Monthly!$D$2:$D$180,0))),0,(INDEX([1]Monthly!AE$2:AE$180,MATCH($A66&$B66,[1]Monthly!$C$2:$C$180&[1]Monthly!$D$2:$D$180,0))))} -> 5
C67: =SUM(C65:C66) -> 354 | D67: =SUM(D65:D66) -> 591 | E67: 0711 House break-ins | F67: =SUM(F65:F66) -> 92 | G67: =SUM(G65:G66) -> 91 | H67: =SUM(H65:H66) -> 45 | I67: =SUM(I65:I66) -> 35 | J67: =SUM(J65:J66) -> 16 | K67: =SUM(K65:K66) -> 21 | L67: =SUM(L65:L66) -> 16 | M67: =SUM(M65:M66) -> 28 | ... AF67: =SUM(AF65:AF66) -> 72
A68: 11 | B68: 19 | C68: {=IF(ISERROR(INDEX([1]Current!E$2:E$180,MATCH($A68&$B68,[1]Current!$C$2:$C$180&[1]Current!$D$2:$D$180,0))),0,(INDEX([1]Current!E$2:E$180,MATCH($A68&$B68,[1]Current!$C$2:$C$180&[1]Current!$D$2:$D$180,0))))} -> 189 | D68: {=IF(ISERROR(INDEX([1]Current!F$2:F$180,MATCH($A68&$B68,[1]Current!$C$2:$C$180&[1]Current!$D$2:$D$180,0))),0,(INDEX([1]Current!F$2:F$180,MATCH($A68&$B68,[1]Current!$C$2:$C$180&[1]Current!$D$2:$D$180,0))))} -> 355 | E68: Commercial break-ins, actual | F68: {=IF(ISERROR(INDEX([1]Monthly!E$2:E$180,MATCH($A68&$B68,[1]Monthly!$C$2:$C$180&[1]Monthly!$D$2:$D$180,0))),0,(INDEX([1]Monthly!E$2:E$180,MATCH($A68&$B68,[1]Monthly!$C$2:$C$180&[1]Monthly!$D$2:$D$180,0))))} -> 28 | G68: {=IF(ISERROR(INDEX([1]Monthly!F$2:F$180,MATCH($A68&$B68,[1]Monthly!$C$2:$C$180&[1]Monthly!$D$2:$D$180,0))),0,(INDEX([1]Monthly!F$2:F$180,MATCH($A68&$B68,[1]Monthly!$C$2:$C$180&[1]Monthly!$D$2:$D$180,0))))} -> 23 | H68: {=IF(ISERROR(INDEX([1]Monthly!G$2:G$180,MATCH($A68&$B68,[1]Monthly!$C$2:$C$180&[1]Monthly!$D$2:$D$180,0))),0,(INDEX([1]Monthly!G$2:G$180,MATCH($A68&$B68,[1]Monthly!$C$2:$C$180&[1]Monthly!$D$2:$D$180,0))))} -> 25 | I68: {=IF(ISERROR(INDEX([1]Monthly!H$2:H$180,MATCH($A68&$B68,[1]Monthly!$C$2:$C$180&[1]Monthly!$D$2:$D$180,0))),0,(INDEX([1]Monthly!H$2:H$180,MATCH($A68&$B68,[1]Monthly!$C$2:$C$180&[1]Monthly!$D$2:$D$180,0))))} -> 17 | J68: {=IF(ISERROR(INDEX([1]Monthly!I$2:I$180,MATCH($A68&$B68,[1]Monthly!$C$2:$C$180&[1]Monthly!$D$2:$D$180,0))),0,(INDEX([1]Monthly!I$2:I$180,MATCH($A68&$B68,[1]Monthly!$C$2:$C$180&[1]Monthly!$D$2:$D$180,0))))} -> 10 | K68: {=IF(ISERROR(INDEX([1]Monthly!J$2:J$180,MATCH($A68&$B68,[1]Monthly!$C$2:$C$180&[1]Monthly!$D$2:$D$180,0))),0,(INDEX([1]Monthly!J$2:J$180,MATCH($A68&$B68,[1]Monthly!$C$2:$C$180&[1]Monthly!$D$2:$D$180,0))))} -> 4 | L68: {=IF(ISERROR(INDEX([1]Monthly!K$2:K$180,MATCH($A68&$B68,[1]Monthly!$C$2:$C$180&[1]Monthly!$D$2:$D$180,0))),0,(INDEX([1]Monthly!K$2:K$180,MATCH($A68&$B68,[1]Monthly!$C$2:$C$180&[1]Monthly!$D$2:$D$180,0))))} -> 6 | M68: {=IF(ISERROR(INDEX([1]Monthly!L$2:L$180,MATCH($A68&$B68,[1]Monthly!$C$2:$C$180&[1]Monthly!$D$2:$D$180,0))),0,(INDEX([1]Monthly!L$2:L$180,MATCH($A68&$B68,[1]Monthly!$C$2:$C$180&[1]Monthly!$D$2:$D$180,0))))} -> 20 | ... AF68: {=IF(ISERROR(INDEX([1]Monthly!AE$2:AE$180,MATCH($A68&$B68,[1]Monthly!$C$2:$C$180&[1]Monthly!$D$2:$D$180,0))),0,(INDEX([1]Monthly!AE$2:AE$180,MATCH($A68&$B68,[1]Monthly!$C$2:$C$180&[1]Monthly!$D$2:$D$180,0))))} -> 58
A69: 11 | B69: 20 | C69: {=IF(ISERROR(INDEX([1]Current!E$2:E$180,MATCH($A69&$B69,[1]Current!$C$2:$C$180&[1]Current!$D$2:$D$180,0))),0,(INDEX([1]Current!E$2:E$180,MATCH($A69&$B69,[1]Current!$C$2:$C$180&[1]Current!$D$2:$D$180,0))))} -> 21 | D69: {=IF(ISERROR(INDEX([1]Current!F$2:F$180,MATCH($A69&$B69,[1]Current!$C$2:$C$180&[1]Current!$D$2:$D$180,0))),0,(INDEX([1]Current!F$2:F$180,MATCH($A69&$B69,[1]Current!$C$2:$C$180&[1]Current!$D$2:$D$180,0))))} -> 51 | E69: Commercial break-ins, attempted | F69: {=IF(ISERROR(INDEX([1]Monthly!E$2:E$180,MATCH($A69&$B69,[1]Monthly!$C$2:$C$180&[1]Monthly!$D$2:$D$180,0))),0,(INDEX([1]Monthly!E$2:E$180,MATCH($A69&$B69,[1]Monthly!$C$2:$C$180&[1]Monthly!$D$2:$D$180,0))))} -> 5 | G69: {=IF(ISERROR(INDEX([1]Monthly!F$2:F$180,MATCH($A69&$B69,[1]Monthly!$C$2:$C$180&[1]Monthly!$D$2:$D$180,0))),0,(INDEX([1]Monthly!F$2:F$180,MATCH($A69&$B69,[1]Monthly!$C$2:$C$180&[1]Monthly!$D$2:$D$180,0))))} -> 3 | H69: {=IF(ISERROR(INDEX([1]Monthly!G$2:G$180,MATCH($A69&$B69,[1]Monthly!$C$2:$C$180&[1]Monthly!$D$2:$D$180,0))),0,(INDEX([1]Monthly!G$2:G$180,MATCH($A69&$B69,[1]Monthly!$C$2:$C$180&[1]Monthly!$D$2:$D$180,0))))} -> 4 | I69: {=IF(ISERROR(INDEX([1]Monthly!H$2:H$180,MATCH($A69&$B69,[1]Monthly!$C$2:$C$180&[1]Monthly!$D$2:$D$180,0))),0,(INDEX([1]Monthly!H$2:H$180,MATCH($A69&$B69,[1]Monthly!$C$2:$C$180&[1]Monthly!$D$2:$D$180,0))))} -> 4 | J69: {=IF(ISERROR(INDEX([1]Monthly!I$2:I$180,MATCH($A69&$B69,[1]Monthly!$C$2:$C$180&[1]Monthly!$D$2:$D$180,0))),0,(INDEX([1]Monthly!I$2:I$180,MATCH($A69&$B69,[1]Monthly!$C$2:$C$180&[1]Monthly!$D$2:$D$180,0))))} -> 2 | K69: {=IF(ISERROR(INDEX([1]Monthly!J$2:J$180,MATCH($A69&$B69,[1]Monthly!$C$2:$C$180&[1]Monthly!$D$2:$D$180,0))),0,(INDEX([1]Monthly!J$2:J$180,MATCH($A69&$B69,[1]Monthly!$C$2:$C$180&[1]Monthly!$D$2:$D$180,0))))} -> 1 | L69: {=IF(ISERROR(INDEX([1]Monthly!K$2:K$180,MATCH($A69&$B69,[1]Monthly!$C$2:$C$180&[1]Monthly!$D$2:$D$180,0))),0,(INDEX([1]Monthly!K$2:K$180,MATCH($A69&$B69,[1]Monthly!$C$2:$C$180&[1]Monthly!$D$2:$D$180,0))))} -> 0 | M69: {=IF(ISERROR(INDEX([1]Monthly!L$2:L$180,MATCH($A69&$B69,[1]Monthly!$C$2:$C$180&[1]Monthly!$D$2:$D$180,0))),0,(INDEX([1]Monthly!L$2:L$180,MATCH($A69&$B69,[1]Monthly!$C$2:$C$180&[1]Monthly!$D$2:$D$180,0))))} -> 1 | ... AF69: {=IF(ISERROR(INDEX([1]Monthly!AE$2:AE$180,MATCH($A69&$B69,[1]Monthly!$C$2:$C$180&[1]Monthly!$D$2:$D$180,0))),0,(INDEX([1]Monthly!AE$2:AE$180,MATCH($A69&$B69,[1]Monthly!$C$2:$C$180&[1]Monthly!$D$2:$D$180,0))))} -> 5
C70: =SUM(C68:C69) -> 210 | D70: =SUM(D68:D69) -> 406 | E70: 0711 Commercial break-ins | F70: =SUM(F68:F69) -> 33 | G70: =SUM(G68:G69) -> 26 | H70: =SUM(H68:H69) -> 29 | I70: =SUM(I68:I69) -> 21 | J70: =SUM(J68:J69) -> 12 | K70: =SUM(K68:K69) -> 5 | L70: =SUM(L68:L69) -> 6 | M70: =SUM(M68:M69) -> 21 | ... AF70: =SUM(AF68:AF69) -> 63
A71: 11 | B71: 23 | C71: {=IF(ISERROR(INDEX([1]Current!E$2:E$180,MATCH($A71&$B71,[1]Current!$C$2:$C$180&[1]Current!$D$2:$D$180,0))),0,(INDEX([1]Current!E$2:E$180,MATCH($A71&$B71,[1]Current!$C$2:$C$180&[1]Current!$D$2:$D$180,0))))} -> 143 | D71: {=IF(ISERROR(INDEX([1]Current!F$2:F$180,MATCH($A71&$B71,[1]Current!$C$2:$C$180&[1]Current!$D$2:$D$180,0))),0,(INDEX([1]Current!F$2:F$180,MATCH($A71&$B71,[1]Current!$C$2:$C$180&[1]Current!$D$2:$D$180,0))))} -> 281 | E71: 0812 Illegal use of a motor vehicle | F71: {=IF(ISERROR(INDEX([1]Monthly!E$2:E$180,MATCH($A71&$B71,[1]Monthly!$C$2:$C$180&[1]Monthly!$D$2:$D$180,0))),0,(INDEX([1]Monthly!E$2:E$180,MATCH($A71&$B71,[1]Monthly!$C$2:$C$180&[1]Monthly!$D$2:$D$180,0))))} -> 19 | G71: {=IF(ISERROR(INDEX([1]Monthly!F$2:F$180,MATCH($A71&$B71,[1]Monthly!$C$2:$C$180&[1]Monthly!$D$2:$D$180,0))),0,(INDEX([1]Monthly!F$2:F$180,MATCH($A71&$B71,[1]Monthly!$C$2:$C$180&[1]Monthly!$D$2:$D$180,0))))} -> 12 | H71: {=IF(ISERROR(INDEX([1]Monthly!G$2:G$180,MATCH($A71&$B71,[1]Monthly!$C$2:$C$180&[1]Monthly!$D$2:$D$180,0))),0,(INDEX([1]Monthly!G$2:G$180,MATCH($A71&$B71,[1]Monthly!$C$2:$C$180&[1]Monthly!$D$2:$D$180,0))))} -> 10 | I71: {=IF(ISERROR(INDEX([1]Monthly!H$2:H$180,MATCH($A71&$B71,[1]Monthly!$C$2:$C$180&[1]Monthly!$D$2:$D$180,0))),0,(INDEX([1]Monthly!H$2:H$180,MATCH($A71&$B71,[1]Monthly!$C$2:$C$180&[1]Monthly!$D$2:$D$180,0))))} -> 15 | J71: {=IF(ISERROR(INDEX([1]Monthly!I$2:I$180,MATCH($A71&$B71,[1]Monthly!$C$2:$C$180&[1]Monthly!$D$2:$D$180,0))),0,(INDEX([1]Monthly!I$2:I$180,MATCH($A71&$B71,[1]Monthly!$C$2:$C$180&[1]Monthly!$D$2:$D$180,0))))} -> 6 | K71: {=IF(ISERROR(INDEX([1]Monthly!J$2:J$180,MATCH($A71&$B71,[1]Monthly!$C$2:$C$180&[1]Monthly!$D$2:$D$180,0))),0,(INDEX([1]Monthly!J$2:J$180,MATCH($A71&$B71,[1]Monthly!$C$2:$C$180&[1]Monthly!$D$2:$D$180,0))))} -> 5 | L71: {=IF(ISERROR(INDEX([1]Monthly!K$2:K$180,MATCH($A71&$B71,[1]Monthly!$C$2:$C$180&[1]Monthly!$D$2:$D$180,0))),0,(INDEX([1]Monthly!K$2:K$180,MATCH($A71&$B71,[1]Monthly!$C$2:$C$180&[1]Monthly!$D$2:$D$180,0))))} -> 6 | M71: {=IF(ISERROR(INDEX([1]Monthly!L$2:L$180,MATCH($A71&$B71,[1]Monthly!$C$2:$C$180&[1]Monthly!$D$2:$D$180,0))),0,(INDEX([1]Monthly!L$2:L$180,MATCH($A71&$B71,[1]Monthly!$C$2:$C$180&[1]Monthly!$D$2:$D$180,0))))} -> 15 | ... AF71: {=IF(ISERROR(INDEX([1]Monthly!AE$2:AE$180,MATCH($A71&$B71,[1]Monthly!$C$2:$C$180&[1]Monthly!$D$2:$D$180,0))),0,(INDEX([1]Monthly!AE$2:AE$180,MATCH($A71&$B71,[1]Monthly!$C$2:$C$180&[1]Monthly!$D$2:$D$180,0))))} -> 43
A72: 11 | B72: 24 | C72: {=IF(ISERROR(INDEX([1]Current!E$2:E$180,MATCH($A72&$B72,[1]Current!$C$2:$C$180&[1]Current!$D$2:$D$180,0))),0,(INDEX([1]Current!E$2:E$180,MATCH($A72&$B72,[1]Current!$C$2:$C$180&[1]Current!$D$2:$D$180,0))))} -> 251 | D72: {=IF(ISERROR(INDEX([1]Current!F$2:F$180,MATCH($A72&$B72,[1]Current!$C$2:$C$180&[1]Current!$D$2:$D$180,0))),0,(INDEX([1]Current!F$2:F$180,MATCH($A72&$B72,[1]Current!$C$2:$C$180&[1]Current!$D$2:$D$180,0))))} -> 257 | E72: 0813 Theft of motor vehicle parts or contents | F72: {=IF(ISERROR(INDEX([1]Monthly!E$2:E$180,MATCH($A72&$B72,[1]Monthly!$C$2:$C$180&[1]Monthly!$D$2:$D$180,0))),0,(INDEX([1]Monthly!E$2:E$180,MATCH($A72&$B72,[1]Monthly!$C$2:$C$180&[1]Monthly!$D$2:$D$180,0))))} -> 66 | G72: {=IF(ISERROR(INDEX([1]Monthly!F$2:F$180,MATCH($A72&$B72,[1]Monthly!$C$2:$C$180&[1]Monthly!$D$2:$D$180,0))),0,(INDEX([1]Monthly!F$2:F$180,MATCH($A72&$B72,[1]Monthly!$C$2:$C$180&[1]Monthly!$D$2:$D$180,0))))} -> 61 | H72: {=IF(ISERROR(INDEX([1]Monthly!G$2:G$180,MATCH($A72&$B72,[1]Monthly!$C$2:$C$180&[1]Monthly!$D$2:$D$180,0))),0,(INDEX([1]Monthly!G$2:G$180,MATCH($A72&$B72,[1]Monthly!$C$2:$C$180&[1]Monthly!$D$2:$D$180,0))))} -> 36 | I72: {=IF(ISERROR(INDEX([1]Monthly!H$2:H$180,MATCH($A72&$B72,[1]Monthly!$C$2:$C$180&[1]Monthly!$D$2:$D$180,0))),0,(INDEX([1]Monthly!H$2:H$180,MATCH($A72&$B72,[1]Monthly!$C$2:$C$180&[1]Monthly!$D$2:$D$180,0))))} -> 27 | J72: {=IF(ISERROR(INDEX([1]Monthly!I$2:I$180,MATCH($A72&$B72,[1]Monthly!$C$2:$C$180&[1]Monthly!$D$2:$D$180,0))),0,(INDEX([1]Monthly!I$2:I$180,MATCH($A72&$B72,[1]Monthly!$C$2:$C$180&[1]Monthly!$D$2:$D$180,0))))} -> 15 | K72: {=IF(ISERROR(INDEX([1]Monthly!J$2:J$180,MATCH($A72&$B72,[1]Monthly!$C$2:$C$180&[1]Monthly!$D$2:$D$180,0))),0,(INDEX([1]Monthly!J$2:J$180,MATCH($A72&$B72,[1]Monthly!$C$2:$C$180&[1]Monthly!$D$2:$D$180,0))))} -> 11 | L72: {=IF(ISERROR(INDEX([1]Monthly!K$2:K$180,MATCH($A72&$B72,[1]Monthly!$C$2:$C$180&[1]Monthly!$D$2:$D$180,0))),0,(INDEX([1]Monthly!K$2:K$180,MATCH($A72&$B72,[1]Monthly!$C$2:$C$180&[1]Monthly!$D$2:$D$180,0))))} -> 11 | M72: {=IF(ISERROR(INDEX([1]Monthly!L$2:L$180,MATCH($A72&$B72,[1]Monthly!$C$2:$C$180&[1]Monthly!$D$2:$D$180,0))),0,(INDEX([1]Monthly!L$2:L$180,MATCH($A72&$B72,[1]Monthly!$C$2:$C$180&[1]Monthly!$D$2:$D$180,0))))} -> 16 | ... AF72: {=IF(ISERROR(INDEX([1]Monthly!AE$2:AE$180,MATCH($A72&$B72,[1]Monthly!$C$2:$C$180&[1]Monthly!$D$2:$D$180,0))),0,(INDEX([1]Monthly!AE$2:AE$180,MATCH($A72&$B72,[1]Monthly!$C$2:$C$180&[1]Monthly!$D$2:$D$180,0))))} -> 23
C73: =SUM(C71:C72) -> 394 | D73: =SUM(D71:D72) -> 538 | E73: 081 Motor vehicle theft and related offences | F73: =SUM(F71:F72) -> 85 | G73: =SUM(G71:G72) -> 73 | H73: =SUM(H71:H72) -> 46 | I73: =SUM(I71:I72) -> 42 | J73: =SUM(J71:J72) -> 21 | K73: =SUM(K71:K72) -> 16 | L73: =SUM(L71:L72) -> 17 | M73: =SUM(M71:M72) -> 31 | ... AF73: =SUM(AF71:AF72) -> 66
A74: 11 | B74: 25 | C74: {=IF(ISERROR(INDEX([1]Current!E$2:E$180,MATCH($A74&$B74,[1]Current!$C$2:$C$180&[1]Current!$D$2:$D$180,0))),0,(INDEX([1]Current!E$2:E$180,MATCH($A74&$B74,[1]Current!$C$2:$C$180&[1]Current!$D$2:$D$180,0))))} -> 2299 | D74: {=IF(ISERROR(INDEX([1]Current!F$2:F$180,MATCH($A74&$B74,[1]Current!$C$2:$C$180&[1]Current!$D$2:$D$180,0))),0,(INDEX([1]Current!F$2:F$180,MATCH($A74&$B74,[1]Current!$C$2:$C$180&[1]Current!$D$2:$D$180,0))))} -> 2603 | E74: 08* Theft and related offences (other than MV) | F74: {=IF(ISERROR(INDEX([1]Monthly!E$2:E$180,MATCH($A74&$B74,[1]Monthly!$C$2:$C$180&[1]Monthly!$D$2:$D$180,0))),0,(INDEX([1]Monthly!E$2:E$180,MATCH($A74&$B74,[1]Monthly!$C$2:$C$180&[1]Monthly!$D$2:$D$180,0))))} -> 286 | G74: {=IF(ISERROR(INDEX([1]Monthly!F$2:F$180,MATCH($A74&$B74,[1]Monthly!$C$2:$C$180&[1]Monthly!$D$2:$D$180,0))),0,(INDEX([1]Monthly!F$2:F$180,MATCH($A74&$B74,[1]Monthly!$C$2:$C$180&[1]Monthly!$D$2:$D$180,0))))} -> 297 | H74: {=IF(ISERROR(INDEX([1]Monthly!G$2:G$180,MATCH($A74&$B74,[1]Monthly!$C$2:$C$180&[1]Monthly!$D$2:$D$180,0))),0,(INDEX([1]Monthly!G$2:G$180,MATCH($A74&$B74,[1]Monthly!$C$2:$C$180&[1]Monthly!$D$2:$D$180,0))))} -> 183 | I74: {=IF(ISERROR(INDEX([1]Monthly!H$2:H$180,MATCH($A74&$B74,[1]Monthly!$C$2:$C$180&[1]Monthly!$D$2:$D$180,0))),0,(INDEX([1]Monthly!H$2:H$180,MATCH($A74&$B74,[1]Monthly!$C$2:$C$180&[1]Monthly!$D$2:$D$180,0))))} -> 135 | J74: {=IF(ISERROR(INDEX([1]Monthly!I$2:I$180,MATCH($A74&$B74,[1]Monthly!$C$2:$C$180&[1]Monthly!$D$2:$D$180,0))),0,(INDEX([1]Monthly!I$2:I$180,MATCH($A74&$B74,[1]Monthly!$C$2:$C$180&[1]Monthly!$D$2:$D$180,0))))} -> 163 | K74: {=IF(ISERROR(INDEX([1]Monthly!J$2:J$180,MATCH($A74&$B74,[1]Monthly!$C$2:$C$180&[1]Monthly!$D$2:$D$180,0))),0,(INDEX([1]Monthly!J$2:J$180,MATCH($A74&$B74,[1]Monthly!$C$2:$C$180&[1]Monthly!$D$2:$D$180,0))))} -> 134 | L74: {=IF(ISERROR(INDEX([1]Monthly!K$2:K$180,MATCH($A74&$B74,[1]Monthly!$C$2:$C$180&[1]Monthly!$D$2:$D$180,0))),0,(INDEX([1]Monthly!K$2:K$180,MATCH($A74&$B74,[1]Monthly!$C$2:$C$180&[1]Monthly!$D$2:$D$180,0))))} -> 150 | M74: {=IF(ISERROR(INDEX([1]Monthly!L$2:L$180,MATCH($A74&$B74,[1]Monthly!$C$2:$C$180&[1]Monthly!$D$2:$D$180,0))),0,(INDEX([1]Monthly!L$2:L$180,MATCH($A74&$B74,[1]Monthly!$C$2:$C$180&[1]Monthly!$D$2:$D$180,0))))} -> 138 | ... AF74: {=IF(ISERROR(INDEX([1]Monthly!AE$2:AE$180,MATCH($A74&$B74,[1]Monthly!$C$2:$C$180&[1]Monthly!$D$2:$D$180,0))),0,(INDEX([1]Monthly!AE$2:AE$180,MATCH($A74&$B74,[1]Monthly!$C$2:$C$180&[1]Monthly!$D$2:$D$180,0))))} -> 282
A75: 11 | B75: 26 | C75: {=IF(ISERROR(INDEX([1]Current!E$2:E$180,MATCH($A75&$B75,[1]Current!$C$2:$C$180&[1]Current!$D$2:$D$180,0))),0,(INDEX([1]Current!E$2:E$180,MATCH($A75&$B75,[1]Current!$C$2:$C$180&[1]Current!$D$2:$D$180,0))))} -> 1914 | D75: {=IF(ISERROR(INDEX([1]Current!F$2:F$180,MATCH($A75&$B75,[1]Current!$C$2:$C$180&[1]Current!$D$2:$D$180,0))),0,(INDEX([1]Current!F$2:F$180,MATCH($A75&$B75,[1]Current!$C$2:$C$180&[1]Current!$D$2:$D$180,0))))} -> 2131 | E75: 12 Property damage offences | F75: {=IF(ISERROR(INDEX([1]Monthly!E$2:E$180,MATCH($A75&$B75,[1]Monthly!$C$2:$C$180&[1]Monthly!$D$2:$D$180,0))),0,(INDEX([1]Monthly!E$2:E$180,MATCH($A75&$B75,[1]Monthly!$C$2:$C$180&[1]Monthly!$D$2:$D$180,0))))} -> 199 | G75: {=IF(ISERROR(INDEX([1]Monthly!F$2:F$180,MATCH($A75&$B75,[1]Monthly!$C$2:$C$180&[1]Monthly!$D$2:$D$180,0))),0,(INDEX([1]Monthly!F$2:F$180,MATCH($A75&$B75,[1]Monthly!$C$2:$C$180&[1]Monthly!$D$2:$D$180,0))))} -> 207 | H75: {=IF(ISERROR(INDEX([1]Monthly!G$2:G$180,MATCH($A75&$B75,[1]Monthly!$C$2:$C$180&[1]Monthly!$D$2:$D$180,0))),0,(INDEX([1]Monthly!G$2:G$180,MATCH($A75&$B75,[1]Monthly!$C$2:$C$180&[1]Monthly!$D$2:$D$180,0))))} -> 131 | I75: {=IF(ISERROR(INDEX([1]Monthly!H$2:H$180,MATCH($A75&$B75,[1]Monthly!$C$2:$C$180&[1]Monthly!$D$2:$D$180,0))),0,(INDEX([1]Monthly!H$2:H$180,MATCH($A75&$B75,[1]Monthly!$C$2:$C$180&[1]Monthly!$D$2:$D$180,0))))} -> 137 | J75: {=IF(ISERROR(INDEX([1]Monthly!I$2:I$180,MATCH($A75&$B75,[1]Monthly!$C$2:$C$180&[1]Monthly!$D$2:$D$180,0))),0,(INDEX([1]Monthly!I$2:I$180,MATCH($A75&$B75,[1]Monthly!$C$2:$C$180&[1]Monthly!$D$2:$D$180,0))))} -> 156 | K75: {=IF(ISERROR(INDEX([1]Monthly!J$2:J$180,MATCH($A75&$B75,[1]Monthly!$C$2:$C$180&[1]Monthly!$D$2:$D$180,0))),0,(INDEX([1]Monthly!J$2:J$180,MATCH($A75&$B75,[1]Monthly!$C$2:$C$180&[1]Monthly!$D$2:$D$180,0))))} -> 164 | L75: {=IF(ISERROR(INDEX([1]Monthly!K$2:K$180,MATCH($A75&$B75,[1]Monthly!$C$2:$C$180&[1]Monthly!$D$2:$D$180,0))),0,(INDEX([1]Monthly!K$2:K$180,MATCH($A75&$B75,[1]Monthly!$C$2:$C$180&[1]Monthly!$D$2:$D$180,0))))} -> 135 | M75: {=IF(ISERROR(INDEX([1]Monthly!L$2:L$180,MATCH($A75&$B75,[1]Monthly!$C$2:$C$180&[1]Monthly!$D$2:$D$180,0))),0,(INDEX([1]Monthly!L$2:L$180,MATCH($A75&$B75,[1]Monthly!$C$2:$C$180&[1]Monthly!$D$2:$D$180,0))))} -> 148 | ... AF75: {=IF(ISERROR(INDEX([1]Monthly!AE$2:AE$180,MATCH($A75&$B75,[1]Monthly!$C$2:$C$180&[1]Monthly!$D$2:$D$180,0))),0,(INDEX([1]Monthly!AE$2:AE$180,MATCH($A75&$B75,[1]Monthly!$C$2:$C$180&[1]Monthly!$D$2:$D$180,0))))} -> 315
C76: =C67+C70+C73+C74+C75 -> 5171 | D76: =D67+D70+D73+D74+D75 -> 6269 | E76: Total property offences | F76: =F67+F70+F73+F74+F75 -> 695 | G76: =G67+G70+G73+G74+G75 -> 694 | H76: =H67+H70+H73+H74+H75 -> 434 | I76: =I67+I70+I73+I74+I75 -> 370 | J76: =J67+J70+J73+J74+J75 -> 368 | K76: =K67+K70+K73+K74+K75 -> 340 | L76: =L67+L70+L73+L74+L75 -> 324 | M76: =M67+M70+M73+M74+M75 -> 366 | ... AF76: =AF67+AF70+AF73+AF74+AF75 -> 798
E77: =$E$39 -> Data extracted from PROMIS on 01/06/2022
E78: =$E$40 -> Shaded months should be treated as provisional
E79: Palmerston Crime Statistics
E80: =$E$4 -> Data through April 2022
C81: =[1]Current!$E$2 -> P1 | D81: =[1]Current!$F$2 -> P2 | E81: Number of offences | F81: =$F$5 -> Feb-20 | G81: =$G$5 -> Mar-20 | H81: =$H$5 -> Apr-20 | I81: =$I$5 -> May-20 | J81: =$J$5 -> Jun-20 | K81: =$K$5 -> Jul-20 | L81: =$L$5 -> Aug-20 | M81: =$M$5 -> Sep-20 | N81: =$N$5 -> Oct-20 | O81: =$O$5 -> Nov-20 | P81: =$P$5 -> Dec-20 | Q81: =$Q$5 -> Jan-21 | R81: =$R$5 -> Feb-21 | S81: =$S$5 -> Mar-21 | T81: =$T$5 -> Apr-21 | U81: =$U$5 -> May-21 | V81: =$V$5 -> Jun-21 | W81: =$W$5 -> Jul-21 | X81: =$X$5 -> Aug-21 | Y81: =$Y$5 -> Sep-21 | Z81: =$Z$5 -> Oct-21 | AA81: =$AA$5 -> Nov-21 | AB81: =$AB$5 -> Dec-21 | AC81: =$AC$5 -> Jan-22 | AD81: =$AD$5 -> Feb-22 | AE81: =$AE$5 -> Mar-22 | AF81: =$AF$5 -> Apr-22
A82: 12 | B82: 1 | C82: {=IF(ISERROR(INDEX([1]Current!E$2:E$180,MATCH($A82&$B82,[1]Current!$C$2:$C$180&[1]Current!$D$2:$D$180,0))),0,(INDEX([1]Current!E$2:E$180,MATCH($A82&$B82,[1]Current!$C$2:$C$180&[1]Current!$D$2:$D$180,0))))} -> 0 | D82: {=IF(ISERROR(INDEX([1]Current!F$2:F$180,MATCH($A82&$B82,[1]Current!$C$2:$C$180&[1]Current!$D$2:$D$180,0))),0,(INDEX([1]Current!F$2:F$180,MATCH($A82&$B82,[1]Current!$C$2:$C$180&[1]Current!$D$2:$D$180,0))))} -> 0 | E82: 0111 Murder | F82: {=IF(ISERROR(INDEX([1]Monthly!E$2:E$180,MATCH($A82&$B82,[1]Monthly!$C$2:$C$180&[1]Monthly!$D$2:$D$180,0))),0,(INDEX([1]Monthly!E$2:E$180,MATCH($A82&$B82,[1]Monthly!$C$2:$C$180&[1]Monthly!$D$2:$D$180,0))))} -> 0 | G82: {=IF(ISERROR(INDEX([1]Monthly!F$2:F$180,MATCH($A82&$B82,[1]Monthly!$C$2:$C$180&[1]Monthly!$D$2:$D$180,0))),0,(INDEX([1]Monthly!F$2:F$180,MATCH($A82&$B82,[1]Monthly!$C$2:$C$180&[1]Monthly!$D$2:$D$180,0))))} -> 0 | H82: {=IF(ISERROR(INDEX([1]Monthly!G$2:G$180,MATCH($A82&$B82,[1]Monthly!$C$2:$C$180&[1]Monthly!$D$2:$D$180,0))),0,(INDEX([1]Monthly!G$2:G$180,MATCH($A82&$B82,[1]Monthly!$C$2:$C$180&[1]Monthly!$D$2:$D$180,0))))} -> 0 | I82: {=IF(ISERROR(INDEX([1]Monthly!H$2:H$180,MATCH($A82&$B82,[1]Monthly!$C$2:$C$180&[1]Monthly!$D$2:$D$180,0))),0,(INDEX([1]Monthly!H$2:H$180,MATCH($A82&$B82,[1]Monthly!$C$2:$C$180&[1]Monthly!$D$2:$D$180,0))))} -> 0 | J82: {=IF(ISERROR(INDEX([1]Monthly!I$2:I$180,MATCH($A82&$B82,[1]Monthly!$C$2:$C$180&[1]Monthly!$D$2:$D$180,0))),0,(INDEX([1]Monthly!I$2:I$180,MATCH($A82&$B82,[1]Monthly!$C$2:$C$180&[1]Monthly!$D$2:$D$180,0))))} -> 0 | K82: {=IF(ISERROR(INDEX([1]Monthly!J$2:J$180,MATCH($A82&$B82,[1]Monthly!$C$2:$C$180&[1]Monthly!$D$2:$D$180,0))),0,(INDEX([1]Monthly!J$2:J$180,MATCH($A82&$B82,[1]Monthly!$C$2:$C$180&[1]Monthly!$D$2:$D$180,0))))} -> 0 | L82: {=IF(ISERROR(INDEX([1]Monthly!K$2:K$180,MATCH($A82&$B82,[1]Monthly!$C$2:$C$180&[1]Monthly!$D$2:$D$180,0))),0,(INDEX([1]Monthly!K$2:K$180,MATCH($A82&$B82,[1]Monthly!$C$2:$C$180&[1]Monthly!$D$2:$D$180,0))))} -> 0 | M82: {=IF(ISERROR(INDEX([1]Monthly!L$2:L$180,MATCH($A82&$B82,[1]Monthly!$C$2:$C$180&[1]Monthly!$D$2:$D$180,0))),0,(INDEX([1]Monthly!L$2:L$180,MATCH($A82&$B82,[1]Monthly!$C$2:$C$180&[1]Monthly!$D$2:$D$180,0))))} -> 0 | ... AF82: {=IF(ISERROR(INDEX([1]Monthly!AE$2:AE$180,MATCH($A82&$B82,[1]Monthly!$C$2:$C$180&[1]Monthly!$D$2:$D$180,0))),0,(INDEX([1]Monthly!AE$2:AE$180,MATCH($A82&$B82,[1]Monthly!$C$2:$C$180&[1]Monthly!$D$2:$D$180,0))))} -> 0
A83: 12 | B83: 2 | C83: {=IF(ISERROR(INDEX([1]Current!E$2:E$180,MATCH($A83&$B83,[1]Current!$C$2:$C$180&[1]Current!$D$2:$D$180,0))),0,(INDEX([1]Current!E$2:E$180,MATCH($A83&$B83,[1]Current!$C$2:$C$180&[1]Current!$D$2:$D$180,0))))} -> 0 | D83: {=IF(ISERROR(INDEX([1]Current!F$2:F$180,MATCH($A83&$B83,[1]Current!$C$2:$C$180&[1]Current!$D$2:$D$180,0))),0,(INDEX([1]Current!F$2:F$180,MATCH($A83&$B83,[1]Current!$C$2:$C$180&[1]Current!$D$2:$D$180,0))))} -> 0 | E83: 0121 Attempted murder | F83: {=IF(ISERROR(INDEX([1]Monthly!E$2:E$180,MATCH($A83&$B83,[1]Monthly!$C$2:$C$180&[1]Monthly!$D$2:$D$180,0))),0,(INDEX([1]Monthly!E$2:E$180,MATCH($A83&$B83,[1]Monthly!$C$2:$C$180&[1]Monthly!$D$2:$D$180,0))))} -> 0 | G83: {=IF(ISERROR(INDEX([1]Monthly!F$2:F$180,MATCH($A83&$B83,[1]Monthly!$C$2:$C$180&[1]Monthly!$D$2:$D$180,0))),0,(INDEX([1]Monthly!F$2:F$180,MATCH($A83&$B83,[1]Monthly!$C$2:$C$180&[1]Monthly!$D$2:$D$180,0))))} -> 0 | H83: {=IF(ISERROR(INDEX([1]Monthly!G$2:G$180,MATCH($A83&$B83,[1]Monthly!$C$2:$C$180&[1]Monthly!$D$2:$D$180,0))),0,(INDEX([1]Monthly!G$2:G$180,MATCH($A83&$B83,[1]Monthly!$C$2:$C$180&[1]Monthly!$D$2:$D$180,0))))} -> 0 | I83: {=IF(ISERROR(INDEX([1]Monthly!H$2:H$180,MATCH($A83&$B83,[1]Monthly!$C$2:$C$180&[1]Monthly!$D$2:$D$180,0))),0,(INDEX([1]Monthly!H$2:H$180,MATCH($A83&$B83,[1]Monthly!$C$2:$C$180&[1]Monthly!$D$2:$D$180,0))))} -> 0 | J83: {=IF(ISERROR(INDEX([1]Monthly!I$2:I$180,MATCH($A83&$B83,[1]Monthly!$C$2:$C$180&[1]Monthly!$D$2:$D$180,0))),0,(INDEX([1]Monthly!I$2:I$180,MATCH($A83&$B83,[1]Monthly!$C$2:$C$180&[1]Monthly!$D$2:$D$180,0))))} -> 0 | K83: {=IF(ISERROR(INDEX([1]Monthly!J$2:J$180,MATCH($A83&$B83,[1]Monthly!$C$2:$C$180&[1]Monthly!$D$2:$D$180,0))),0,(INDEX([1]Monthly!J$2:J$180,MATCH($A83&$B83,[1]Monthly!$C$2:$C$180&[1]Monthly!$D$2:$D$180,0))))} -> 0 | L83: {=IF(ISERROR(INDEX([1]Monthly!K$2:K$180,MATCH($A83&$B83,[1]Monthly!$C$2:$C$180&[1]Monthly!$D$2:$D$180,0))),0,(INDEX([1]Monthly!K$2:K$180,MATCH($A83&$B83,[1]Monthly!$C$2:$C$180&[1]Monthly!$D$2:$D$180,0))))} -> 0 | M83: {=IF(ISERROR(INDEX([1]Monthly!L$2:L$180,MATCH($A83&$B83,[1]Monthly!$C$2:$C$180&[1]Monthly!$D$2:$D$180,0))),0,(INDEX([1]Monthly!L$2:L$180,MATCH($A83&$B83,[1]Monthly!$C$2:$C$180&[1]Monthly!$D$2:$D$180,0))))} -> 0 | ... AF83: {=IF(ISERROR(INDEX([1]Monthly!AE$2:AE$180,MATCH($A83&$B83,[1]Monthly!$C$2:$C$180&[1]Monthly!$D$2:$D$180,0))),0,(INDEX([1]Monthly!AE$2:AE$180,MATCH($A83&$B83,[1]Monthly!$C$2:$C$180&[1]Monthly!$D$2:$D$180,0))))} -> 0
A84: 12 | B84: 4 | C84: {=IF(ISERROR(INDEX([1]Current!E$2:E$180,MATCH($A84&$B84,[1]Current!$C$2:$C$180&[1]Current!$D$2:$D$180,0))),0,(INDEX([1]Current!E$2:E$180,MATCH($A84&$B84,[1]Current!$C$2:$C$180&[1]Current!$D$2:$D$180,0))))} -> 0 | D84: {=IF(ISERROR(INDEX([1]Current!F$2:F$180,MATCH($A84&$B84,[1]Current!$C$2:$C$180&[1]Current!$D$2:$D$180,0))),0,(INDEX([1]Current!F$2:F$180,MATCH($A84&$B84,[1]Current!$C$2:$C$180&[1]Current!$D$2:$D$180,0))))} -> 0 | E84: 0131 Manslaughter | F84: {=IF(ISERROR(INDEX([1]Monthly!E$2:E$180,MATCH($A84&$B84,[1]Monthly!$C$2:$C$180&[1]Monthly!$D$2:$D$180,0))),0,(INDEX([1]Monthly!E$2:E$180,MATCH($A84&$B84,[1]Monthly!$C$2:$C$180&[1]Monthly!$D$2:$D$180,0))))} -> 0 | G84: {=IF(ISERROR(INDEX([1]Monthly!F$2:F$180,MATCH($A84&$B84,[1]Monthly!$C$2:$C$180&[1]Monthly!$D$2:$D$180,0))),0,(INDEX([1]Monthly!F$2:F$180,MATCH($A84&$B84,[1]Monthly!$C$2:$C$180&[1]Monthly!$D$2:$D$180,0))))} -> 0 | H84: {=IF(ISERROR(INDEX([1]Monthly!G$2:G$180,MATCH($A84&$B84,[1]Monthly!$C$2:$C$180&[1]Monthly!$D$2:$D$180,0))),0,(INDEX([1]Monthly!G$2:G$180,MATCH($A84&$B84,[1]Monthly!$C$2:$C$180&[1]Monthly!$D$2:$D$180,0))))} -> 0 | I84: {=IF(ISERROR(INDEX([1]Monthly!H$2:H$180,MATCH($A84&$B84,[1]Monthly!$C$2:$C$180&[1]Monthly!$D$2:$D$180,0))),0,(INDEX([1]Monthly!H$2:H$180,MATCH($A84&$B84,[1]Monthly!$C$2:$C$180&[1]Monthly!$D$2:$D$180,0))))} -> 0 | J84: {=IF(ISERROR(INDEX([1]Monthly!I$2:I$180,MATCH($A84&$B84,[1]Monthly!$C$2:$C$180&[1]Monthly!$D$2:$D$180,0))),0,(INDEX([1]Monthly!I$2:I$180,MATCH($A84&$B84,[1]Monthly!$C$2:$C$180&[1]Monthly!$D$2:$D$180,0))))} -> 0 | K84: {=IF(ISERROR(INDEX([1]Monthly!J$2:J$180,MATCH($A84&$B84,[1]Monthly!$C$2:$C$180&[1]Monthly!$D$2:$D$180,0))),0,(INDEX([1]Monthly!J$2:J$180,MATCH($A84&$B84,[1]Monthly!$C$2:$C$180&[1]Monthly!$D$2:$D$180,0))))} -> 0 | L84: {=IF(ISERROR(INDEX([1]Monthly!K$2:K$180,MATCH($A84&$B84,[1]Monthly!$C$2:$C$180&[1]Monthly!$D$2:$D$180,0))),0,(INDEX([1]Monthly!K$2:K$180,MATCH($A84&$B84,[1]Monthly!$C$2:$C$180&[1]Monthly!$D$2:$D$180,0))))} -> 0 | M84: {=IF(ISERROR(INDEX([1]Monthly!L$2:L$180,MATCH($A84&$B84,[1]Monthly!$C$2:$C$180&[1]Monthly!$D$2:$D$180,0))),0,(INDEX([1]Monthly!L$2:L$180,MATCH($A84&$B84,[1]Monthly!$C$2:$C$180&[1]Monthly!$D$2:$D$180,0))))} -> 0 | ... AF84: {=IF(ISERROR(INDEX([1]Monthly!AE$2:AE$180,MATCH($A84&$B84,[1]Monthly!$C$2:$C$180&[1]Monthly!$D$2:$D$180,0))),0,(INDEX([1]Monthly!AE$2:AE$180,MATCH($A84&$B84,[1]Monthly!$C$2:$C$180&[1]Monthly!$D$2:$D$180,0))))} -> 0
A85: 12 | B85: 5 | C85: {=IF(ISERROR(INDEX([1]Current!E$2:E$180,MATCH($A85&$B85,[1]Current!$C$2:$C$180&[1]Current!$D$2:$D$180,0))),0,(INDEX([1]Current!E$2:E$180,MATCH($A85&$B85,[1]Current!$C$2:$C$180&[1]Current!$D$2:$D$180,0))))} -> 0 | D85: {=IF(ISERROR(INDEX([1]Current!F$2:F$180,MATCH($A85&$B85,[1]Current!$C$2:$C$180&[1]Current!$D$2:$D$180,0))),0,(INDEX([1]Current!F$2:F$180,MATCH($A85&$B85,[1]Current!$C$2:$C$180&[1]Current!$D$2:$D$180,0))))} -> 0 | E85: 0132 Driving causing death | F85: {=IF(ISERROR(INDEX([1]Monthly!E$2:E$180,MATCH($A85&$B85,[1]Monthly!$C$2:$C$180&[1]Monthly!$D$2:$D$180,0))),0,(INDEX([1]Monthly!E$2:E$180,MATCH($A85&$B85,[1]Monthly!$C$2:$C$180&[1]Monthly!$D$2:$D$180,0))))} -> 0 | G85: {=IF(ISERROR(INDEX([1]Monthly!F$2:F$180,MATCH($A85&$B85,[1]Monthly!$C$2:$C$180&[1]Monthly!$D$2:$D$180,0))),0,(INDEX([1]Monthly!F$2:F$180,MATCH($A85&$B85,[1]Monthly!$C$2:$C$180&[1]Monthly!$D$2:$D$180,0))))} -> 0 | H85: {=IF(ISERROR(INDEX([1]Monthly!G$2:G$180,MATCH($A85&$B85,[1]Monthly!$C$2:$C$180&[1]Monthly!$D$2:$D$180,0))),0,(INDEX([1]Monthly!G$2:G$180,MATCH($A85&$B85,[1]Monthly!$C$2:$C$180&[1]Monthly!$D$2:$D$180,0))))} -> 0 | I85: {=IF(ISERROR(INDEX([1]Monthly!H$2:H$180,MATCH($A85&$B85,[1]Monthly!$C$2:$C$180&[1]Monthly!$D$2:$D$180,0))),0,(INDEX([1]Monthly!H$2:H$180,MATCH($A85&$B85,[1]Monthly!$C$2:$C$180&[1]Monthly!$D$2:$D$180,0))))} -> 0 | J85: {=IF(ISERROR(INDEX([1]Monthly!I$2:I$180,MATCH($A85&$B85,[1]Monthly!$C$2:$C$180&[1]Monthly!$D$2:$D$180,0))),0,(INDEX([1]Monthly!I$2:I$180,MATCH($A85&$B85,[1]Monthly!$C$2:$C$180&[1]Monthly!$D$2:$D$180,0))))} -> 0 | K85: {=IF(ISERROR(INDEX([1]Monthly!J$2:J$180,MATCH($A85&$B85,[1]Monthly!$C$2:$C$180&[1]Monthly!$D$2:$D$180,0))),0,(INDEX([1]Monthly!J$2:J$180,MATCH($A85&$B85,[1]Monthly!$C$2:$C$180&[1]Monthly!$D$2:$D$180,0))))} -> 0 | L85: {=IF(ISERROR(INDEX([1]Monthly!K$2:K$180,MATCH($A85&$B85,[1]Monthly!$C$2:$C$180&[1]Monthly!$D$2:$D$180,0))),0,(INDEX([1]Monthly!K$2:K$180,MATCH($A85&$B85,[1]Monthly!$C$2:$C$180&[1]Monthly!$D$2:$D$180,0))))} -> 0 | M85: {=IF(ISERROR(INDEX([1]Monthly!L$2:L$180,MATCH($A85&$B85,[1]Monthly!$C$2:$C$180&[1]Monthly!$D$2:$D$180,0))),0,(INDEX([1]Monthly!L$2:L$180,MATCH($A85&$B85,[1]Monthly!$C$2:$C$180&[1]Monthly!$D$2:$D$180,0))))} -> 0 | ... AF85: {=IF(ISERROR(INDEX([1]Monthly!AE$2:AE$180,MATCH($A85&$B85,[1]Monthly!$C$2:$C$180&[1]Monthly!$D$2:$D$180,0))),0,(INDEX([1]Monthly!AE$2:AE$180,MATCH($A85&$B85,[1]Monthly!$C$2:$C$180&[1]Monthly!$D$2:$D$180,0))))} -> 0
C86: =SUM(C82:C85) -> 0 | D86: =SUM(D82:D85) -> 0 | E86: 01 Homicide and related offences | F86: =SUM(F82:F85) -> 0 | G86: =SUM(G82:G85) -> 0 | H86: =SUM(H82:H85) -> 0 | I86: =SUM(I82:I85) -> 0 | J86: =SUM(J82:J85) -> 0 | K86: =SUM(K82:K85) -> 0 | L86: =SUM(L82:L85) -> 0 | M86: =SUM(M82:M85) -> 0 | ... AF86: =SUM(AF82:AF85) -> 0
A87: 12 | B87: 6 | C87: {=IF(ISERROR(INDEX([1]Current!E$2:E$180,MATCH($A87&$B87,[1]Current!$C$2:$C$180&[1]Current!$D$2:$D$180,0))),0,(INDEX([1]Current!E$2:E$180,MATCH($A87&$B87,[1]Current!$C$2:$C$180&[1]Current!$D$2:$D$180,0))))} -> 751 | D87: {=IF(ISERROR(INDEX([1]Current!F$2:F$180,MATCH($A87&$B87,[1]Current!$C$2:$C$180&[1]Current!$D$2:$D$180,0))),0,(INDEX([1]Current!F$2:F$180,MATCH($A87&$B87,[1]Current!$C$2:$C$180&[1]Current!$D$2:$D$180,0))))} -> 750 | E87: 021 Assault | F87: {=IF(ISERROR(INDEX([1]Monthly!E$2:E$180,MATCH($A87&$B87,[1]Monthly!$C$2:$C$180&[1]Monthly!$D$2:$D$180,0))),0,(INDEX([1]Monthly!E$2:E$180,MATCH($A87&$B87,[1]Monthly!$C$2:$C$180&[1]Monthly!$D$2:$D$180,0))))} -> 42 | G87: {=IF(ISERROR(INDEX([1]Monthly!F$2:F$180,MATCH($A87&$B87,[1]Monthly!$C$2:$C$180&[1]Monthly!$D$2:$D$180,0))),0,(INDEX([1]Monthly!F$2:F$180,MATCH($A87&$B87,[1]Monthly!$C$2:$C$180&[1]Monthly!$D$2:$D$180,0))))} -> 60 | H87: {=IF(ISERROR(INDEX([1]Monthly!G$2:G$180,MATCH($A87&$B87,[1]Monthly!$C$2:$C$180&[1]Monthly!$D$2:$D$180,0))),0,(INDEX([1]Monthly!G$2:G$180,MATCH($A87&$B87,[1]Monthly!$C$2:$C$180&[1]Monthly!$D$2:$D$180,0))))} -> 46 | I87: {=IF(ISERROR(INDEX([1]Monthly!H$2:H$180,MATCH($A87&$B87,[1]Monthly!$C$2:$C$180&[1]Monthly!$D$2:$D$180,0))),0,(INDEX([1]Monthly!H$2:H$180,MATCH($A87&$B87,[1]Monthly!$C$2:$C$180&[1]Monthly!$D$2:$D$180,0))))} -> 61 | J87: {=IF(ISERROR(INDEX([1]Monthly!I$2:I$180,MATCH($A87&$B87,[1]Monthly!$C$2:$C$180&[1]Monthly!$D$2:$D$180,0))),0,(INDEX([1]Monthly!I$2:I$180,MATCH($A87&$B87,[1]Monthly!$C$2:$C$180&[1]Monthly!$D$2:$D$180,0))))} -> 61 | K87: {=IF(ISERROR(INDEX([1]Monthly!J$2:J$180,MATCH($A87&$B87,[1]Monthly!$C$2:$C$180&[1]Monthly!$D$2:$D$180,0))),0,(INDEX([1]Monthly!J$2:J$180,MATCH($A87&$B87,[1]Monthly!$C$2:$C$180&[1]Monthly!$D$2:$D$180,0))))} -> 67 | L87: {=IF(ISERROR(INDEX([1]Monthly!K$2:K$180,MATCH($A87&$B87,[1]Monthly!$C$2:$C$180&[1]Monthly!$D$2:$D$180,0))),0,(INDEX([1]Monthly!K$2:K$180,MATCH($A87&$B87,[1]Monthly!$C$2:$C$180&[1]Monthly!$D$2:$D$180,0))))} -> 52 | M87: {=IF(ISERROR(INDEX([1]Monthly!L$2:L$180,MATCH($A87&$B87,[1]Monthly!$C$2:$C$180&[1]Monthly!$D$2:$D$180,0))),0,(INDEX([1]Monthly!L$2:L$180,MATCH($A87&$B87,[1]Monthly!$C$2:$C$180&[1]Monthly!$D$2:$D$180,0))))} -> 58 | ... AF87: {=IF(ISERROR(INDEX([1]Monthly!AE$2:AE$180,MATCH($A87&$B87,[1]Monthly!$C$2:$C$180&[1]Monthly!$D$2:$D$180,0))),0,(INDEX([1]Monthly!AE$2:AE$180,MATCH($A87&$B87,[1]Monthly!$C$2:$C$180&[1]Monthly!$D$2:$D$180,0))))} -> 81
A88: 12 | B88: 7 | C88: {=IF(ISERROR(INDEX([1]Current!E$2:E$180,MATCH($A88&$B88,[1]Current!$C$2:$C$180&[1]Current!$D$2:$D$180,0))),0,(INDEX([1]Current!E$2:E$180,MATCH($A88&$B88,[1]Current!$C$2:$C$180&[1]Current!$D$2:$D$180,0))))} -> 6 | D88: {=IF(ISERROR(INDEX([1]Current!F$2:F$180,MATCH($A88&$B88,[1]Current!$C$2:$C$180&[1]Current!$D$2:$D$180,0))),0,(INDEX([1]Current!F$2:F$180,MATCH($A88&$B88,[1]Current!$C$2:$C$180&[1]Current!$D$2:$D$180,0))))} -> 1 | E88: 029 Acts intended to cause injury - other | F88: {=IF(ISERROR(INDEX([1]Monthly!E$2:E$180,MATCH($A88&$B88,[1]Monthly!$C$2:$C$180&[1]Monthly!$D$2:$D$180,0))),0,(INDEX([1]Monthly!E$2:E$180,MATCH($A88&$B88,[1]Monthly!$C$2:$C$180&[1]Monthly!$D$2:$D$180,0))))} -> 0 | G88: {=IF(ISERROR(INDEX([1]Monthly!F$2:F$180,MATCH($A88&$B88,[1]Monthly!$C$2:$C$180&[1]Monthly!$D$2:$D$180,0))),0,(INDEX([1]Monthly!F$2:F$180,MATCH($A88&$B88,[1]Monthly!$C$2:$C$180&[1]Monthly!$D$2:$D$180,0))))} -> 0 | H88: {=IF(ISERROR(INDEX([1]Monthly!G$2:G$180,MATCH($A88&$B88,[1]Monthly!$C$2:$C$180&[1]Monthly!$D$2:$D$180,0))),0,(INDEX([1]Monthly!G$2:G$180,MATCH($A88&$B88,[1]Monthly!$C$2:$C$180&[1]Monthly!$D$2:$D$180,0))))} -> 2 | I88: {=IF(ISERROR(INDEX([1]Monthly!H$2:H$180,MATCH($A88&$B88,[1]Monthly!$C$2:$C$180&[1]Monthly!$D$2:$D$180,0))),0,(INDEX([1]Monthly!H$2:H$180,MATCH($A88&$B88,[1]Monthly!$C$2:$C$180&[1]Monthly!$D$2:$D$180,0))))} -> 0 | J88: {=IF(ISERROR(INDEX([1]Monthly!I$2:I$180,MATCH($A88&$B88,[1]Monthly!$C$2:$C$180&[1]Monthly!$D$2:$D$180,0))),0,(INDEX([1]Monthly!I$2:I$180,MATCH($A88&$B88,[1]Monthly!$C$2:$C$180&[1]Monthly!$D$2:$D$180,0))))} -> 0 | K88: {=IF(ISERROR(INDEX([1]Monthly!J$2:J$180,MATCH($A88&$B88,[1]Monthly!$C$2:$C$180&[1]Monthly!$D$2:$D$180,0))),0,(INDEX([1]Monthly!J$2:J$180,MATCH($A88&$B88,[1]Monthly!$C$2:$C$180&[1]Monthly!$D$2:$D$180,0))))} -> 0 | L88: {=IF(ISERROR(INDEX([1]Monthly!K$2:K$180,MATCH($A88&$B88,[1]Monthly!$C$2:$C$180&[1]Monthly!$D$2:$D$180,0))),0,(INDEX([1]Monthly!K$2:K$180,MATCH($A88&$B88,[1]Monthly!$C$2:$C$180&[1]Monthly!$D$2:$D$180,0))))} -> 1 | M88: {=IF(ISERROR(INDEX([1]Monthly!L$2:L$180,MATCH($A88&$B88,[1]Monthly!$C$2:$C$180&[1]Monthly!$D$2:$D$180,0))),0,(INDEX([1]Monthly!L$2:L$180,MATCH($A88&$B88,[1]Monthly!$C$2:$C$180&[1]Monthly!$D$2:$D$180,0))))} -> 0 | ... AF88: {=IF(ISERROR(INDEX([1]Monthly!AE$2:AE$180,MATCH($A88&$B88,[1]Monthly!$C$2:$C$180&[1]Monthly!$D$2:$D$180,0))),0,(INDEX([1]Monthly!AE$2:AE$180,MATCH($A88&$B88,[1]Monthly!$C$2:$C$180&[1]Monthly!$D$2:$D$180,0))))} -> 0
C89: =SUM(C87:C88) -> 757 | D89: =SUM(D87:D88) -> 751 | E89: 02 Acts intended to cause injury | F89: =SUM(F87:F88) -> 42 | G89: =SUM(G87:G88) -> 60 | H89: =SUM(H87:H88) -> 48 | I89: =SUM(I87:I88) -> 61 | J89: =SUM(J87:J88) -> 61 | K89: =SUM(K87:K88) -> 67 | L89: =SUM(L87:L88) -> 53 | M89: =SUM(M87:M88) -> 58 | ... AF89: =SUM(AF87:AF88) -> 81
A90: 12 | B90: 8 | C90: {=IF(ISERROR(INDEX([1]Current!E$2:E$180,MATCH($A90&$B90,[1]Current!$C$2:$C$180&[1]Current!$D$2:$D$180,0))),0,(INDEX([1]Current!E$2:E$180,MATCH($A90&$B90,[1]Current!$C$2:$C$180&[1]Current!$D$2:$D$180,0))))} -> 46 | D90: {=IF(ISERROR(INDEX([1]Current!F$2:F$180,MATCH($A90&$B90,[1]Current!$C$2:$C$180&[1]Current!$D$2:$D$180,0))),0,(INDEX([1]Current!F$2:F$180,MATCH($A90&$B90,[1]Current!$C$2:$C$180&[1]Current!$D$2:$D$180,0))))} -> 35 | E90: 031 Sexual assault | F90: {=IF(ISERROR(INDEX([1]Monthly!E$2:E$180,MATCH($A90&$B90,[1]Monthly!$C$2:$C$180&[1]Monthly!$D$2:$D$180,0))),0,(INDEX([1]Monthly!E$2:E$180,MATCH($A90&$B90,[1]Monthly!$C$2:$C$180&[1]Monthly!$D$2:$D$180,0))))} -> 2 | G90: {=IF(ISERROR(INDEX([1]Monthly!F$2:F$180,MATCH($A90&$B90,[1]Monthly!$C$2:$C$180&[1]Monthly!$D$2:$D$180,0))),0,(INDEX([1]Monthly!F$2:F$180,MATCH($A90&$B90,[1]Monthly!$C$2:$C$180&[1]Monthly!$D$2:$D$180,0))))} -> 2 | H90: {=IF(ISERROR(INDEX([1]Monthly!G$2:G$180,MATCH($A90&$B90,[1]Monthly!$C$2:$C$180&[1]Monthly!$D$2:$D$180,0))),0,(INDEX([1]Monthly!G$2:G$180,MATCH($A90&$B90,[1]Monthly!$C$2:$C$180&[1]Monthly!$D$2:$D$180,0))))} -> 7 | I90: {=IF(ISERROR(INDEX([1]Monthly!H$2:H$180,MATCH($A90&$B90,[1]Monthly!$C$2:$C$180&[1]Monthly!$D$2:$D$180,0))),0,(INDEX([1]Monthly!H$2:H$180,MATCH($A90&$B90,[1]Monthly!$C$2:$C$180&[1]Monthly!$D$2:$D$180,0))))} -> 6 | J90: {=IF(ISERROR(INDEX([1]Monthly!I$2:I$180,MATCH($A90&$B90,[1]Monthly!$C$2:$C$180&[1]Monthly!$D$2:$D$180,0))),0,(INDEX([1]Monthly!I$2:I$180,MATCH($A90&$B90,[1]Monthly!$C$2:$C$180&[1]Monthly!$D$2:$D$180,0))))} -> 5 | K90: {=IF(ISERROR(INDEX([1]Monthly!J$2:J$180,MATCH($A90&$B90,[1]Monthly!$C$2:$C$180&[1]Monthly!$D$2:$D$180,0))),0,(INDEX([1]Monthly!J$2:J$180,MATCH($A90&$B90,[1]Monthly!$C$2:$C$180&[1]Monthly!$D$2:$D$180,0))))} -> 5 | L90: {=IF(ISERROR(INDEX([1]Monthly!K$2:K$180,MATCH($A90&$B90,[1]Monthly!$C$2:$C$180&[1]Monthly!$D$2:$D$180,0))),0,(INDEX([1]Monthly!K$2:K$180,MATCH($A90&$B90,[1]Monthly!$C$2:$C$180&[1]Monthly!$D$2:$D$180,0))))} -> 3 | M90: {=IF(ISERROR(INDEX([1]Monthly!L$2:L$180,MATCH($A90&$B90,[1]Monthly!$C$2:$C$180&[1]Monthly!$D$2:$D$180,0))),0,(INDEX([1]Monthly!L$2:L$180,MATCH($A90&$B90,[1]Monthly!$C$2:$C$180&[1]Monthly!$D$2:$D$180,0))))} -> 5 | ... AF90: {=IF(ISERROR(INDEX([1]Monthly!AE$2:AE$180,MATCH($A90&$B90,[1]Monthly!$C$2:$C$180&[1]Monthly!$D$2:$D$180,0))),0,(INDEX([1]Monthly!AE$2:AE$180,MATCH($A90&$B90,[1]Monthly!$C$2:$C$180&[1]Monthly!$D$2:$D$180,0))))} -> 3
A91: 12 | B91: 9 | C91: {=IF(ISERROR(INDEX([1]Current!E$2:E$180,MATCH($A91&$B91,[1]Current!$C$2:$C$180&[1]Current!$D$2:$D$180,0))),0,(INDEX([1]Current!E$2:E$180,MATCH($A91&$B91,[1]Current!$C$2:$C$180&[1]Current!$D$2:$D$180,0))))} -> 16 | D91: {=IF(ISERROR(INDEX([1]Current!F$2:F$180,MATCH($A91&$B91,[1]Current!$C$2:$C$180&[1]Current!$D$2:$D$180,0))),0,(INDEX([1]Current!F$2:F$180,MATCH($A91&$B91,[1]Current!$C$2:$C$180&[1]Current!$D$2:$D$180,0))))} -> 8 | E91: 032 Non-assaultive sexual offences | F91: {=IF(ISERROR(INDEX([1]Monthly!E$2:E$180,MATCH($A91&$B91,[1]Monthly!$C$2:$C$180&[1]Monthly!$D$2:$D$180,0))),0,(INDEX([1]Monthly!E$2:E$180,MATCH($A91&$B91,[1]Monthly!$C$2:$C$180&[1]Monthly!$D$2:$D$180,0))))} -> 1 | G91: {=IF(ISERROR(INDEX([1]Monthly!F$2:F$180,MATCH($A91&$B91,[1]Monthly!$C$2:$C$180&[1]Monthly!$D$2:$D$180,0))),0,(INDEX([1]Monthly!F$2:F$180,MATCH($A91&$B91,[1]Monthly!$C$2:$C$180&[1]Monthly!$D$2:$D$180,0))))} -> 2 | H91: {=IF(ISERROR(INDEX([1]Monthly!G$2:G$180,MATCH($A91&$B91,[1]Monthly!$C$2:$C$180&[1]Monthly!$D$2:$D$180,0))),0,(INDEX([1]Monthly!G$2:G$180,MATCH($A91&$B91,[1]Monthly!$C$2:$C$180&[1]Monthly!$D$2:$D$180,0))))} -> 0 | I91: {=IF(ISERROR(INDEX([1]Monthly!H$2:H$180,MATCH($A91&$B91,[1]Monthly!$C$2:$C$180&[1]Monthly!$D$2:$D$180,0))),0,(INDEX([1]Monthly!H$2:H$180,MATCH($A91&$B91,[1]Monthly!$C$2:$C$180&[1]Monthly!$D$2:$D$180,0))))} -> 0 | J91: {=IF(ISERROR(INDEX([1]Monthly!I$2:I$180,MATCH($A91&$B91,[1]Monthly!$C$2:$C$180&[1]Monthly!$D$2:$D$180,0))),0,(INDEX([1]Monthly!I$2:I$180,MATCH($A91&$B91,[1]Monthly!$C$2:$C$180&[1]Monthly!$D$2:$D$180,0))))} -> 1 | K91: {=IF(ISERROR(INDEX([1]Monthly!J$2:J$180,MATCH($A91&$B91,[1]Monthly!$C$2:$C$180&[1]Monthly!$D$2:$D$180,0))),0,(INDEX([1]Monthly!J$2:J$180,MATCH($A91&$B91,[1]Monthly!$C$2:$C$180&[1]Monthly!$D$2:$D$180,0))))} -> 1 | L91: {=IF(ISERROR(INDEX([1]Monthly!K$2:K$180,MATCH($A91&$B91,[1]Monthly!$C$2:$C$180&[1]Monthly!$D$2:$D$180,0))),0,(INDEX([1]Monthly!K$2:K$180,MATCH($A91&$B91,[1]Monthly!$C$2:$C$180&[1]Monthly!$D$2:$D$180,0))))} -> 3 | M91: {=IF(ISERROR(INDEX([1]Monthly!L$2:L$180,MATCH($A91&$B91,[1]Monthly!$C$2:$C$180&[1]Monthly!$D$2:$D$180,0))),0,(INDEX([1]Monthly!L$2:L$180,MATCH($A91&$B91,[1]Monthly!$C$2:$C$180&[1]Monthly!$D$2:$D$180,0))))} -> 0 | ... AF91: {=IF(ISERROR(INDEX([1]Monthly!AE$2:AE$180,MATCH($A91&$B91,[1]Monthly!$C$2:$C$180&[1]Monthly!$D$2:$D$180,0))),0,(INDEX([1]Monthly!AE$2:AE$180,MATCH($A91&$B91,[1]Monthly!$C$2:$C$180&[1]Monthly!$D$2:$D$180,0))))} -> 1
C92: =SUM(C90:C91) -> 62 | D92: =SUM(D90:D91) -> 43 | E92: 03 Sexual assault and related offences | F92: =SUM(F90:F91) -> 3 | G92: =SUM(G90:G91) -> 4 | H92: =SUM(H90:H91) -> 7 | I92: =SUM(I90:I91) -> 6 | J92: =SUM(J90:J91) -> 6 | K92: =SUM(K90:K91) -> 6 | L92: =SUM(L90:L91) -> 6 | M92: =SUM(M90:M91) -> 5 | ... AF92: =SUM(AF90:AF91) -> 4
A93: 12 | B93: 10 | C93: {=IF(ISERROR(INDEX([1]Current!E$2:E$180,MATCH($A93&$B93,[1]Current!$C$2:$C$180&[1]Current!$D$2:$D$180,0))),0,(INDEX([1]Current!E$2:E$180,MATCH($A93&$B93,[1]Current!$C$2:$C$180&[1]Current!$D$2:$D$180,0))))} -> 14 | D93: {=IF(ISERROR(INDEX([1]Current!F$2:F$180,MATCH($A93&$B93,[1]Current!$C$2:$C$180&[1]Current!$D$2:$D$180,0))),0,(INDEX([1]Current!F$2:F$180,MATCH($A93&$B93,[1]Current!$C$2:$C$180&[1]Current!$D$2:$D$180,0))))} -> 10 | E93: 049 Other dangerous or negligent acts endangering persons | F93: {=IF(ISERROR(INDEX([1]Monthly!E$2:E$180,MATCH($A93&$B93,[1]Monthly!$C$2:$C$180&[1]Monthly!$D$2:$D$180,0))),0,(INDEX([1]Monthly!E$2:E$180,MATCH($A93&$B93,[1]Monthly!$C$2:$C$180&[1]Monthly!$D$2:$D$180,0))))} -> 1 | G93: {=IF(ISERROR(INDEX([1]Monthly!F$2:F$180,MATCH($A93&$B93,[1]Monthly!$C$2:$C$180&[1]Monthly!$D$2:$D$180,0))),0,(INDEX([1]Monthly!F$2:F$180,MATCH($A93&$B93,[1]Monthly!$C$2:$C$180&[1]Monthly!$D$2:$D$180,0))))} -> 2 | H93: {=IF(ISERROR(INDEX([1]Monthly!G$2:G$180,MATCH($A93&$B93,[1]Monthly!$C$2:$C$180&[1]Monthly!$D$2:$D$180,0))),0,(INDEX([1]Monthly!G$2:G$180,MATCH($A93&$B93,[1]Monthly!$C$2:$C$180&[1]Monthly!$D$2:$D$180,0))))} -> 1 | I93: {=IF(ISERROR(INDEX([1]Monthly!H$2:H$180,MATCH($A93&$B93,[1]Monthly!$C$2:$C$180&[1]Monthly!$D$2:$D$180,0))),0,(INDEX([1]Monthly!H$2:H$180,MATCH($A93&$B93,[1]Monthly!$C$2:$C$180&[1]Monthly!$D$2:$D$180,0))))} -> 2 | J93: {=IF(ISERROR(INDEX([1]Monthly!I$2:I$180,MATCH($A93&$B93,[1]Monthly!$C$2:$C$180&[1]Monthly!$D$2:$D$180,0))),0,(INDEX([1]Monthly!I$2:I$180,MATCH($A93&$B93,[1]Monthly!$C$2:$C$180&[1]Monthly!$D$2:$D$180,0))))} -> 1 | K93: {=IF(ISERROR(INDEX([1]Monthly!J$2:J$180,MATCH($A93&$B93,[1]Monthly!$C$2:$C$180&[1]Monthly!$D$2:$D$180,0))),0,(INDEX([1]Monthly!J$2:J$180,MATCH($A93&$B93,[1]Monthly!$C$2:$C$180&[1]Monthly!$D$2:$D$180,0))))} -> 0 | L93: {=IF(ISERROR(INDEX([1]Monthly!K$2:K$180,MATCH($A93&$B93,[1]Monthly!$C$2:$C$180&[1]Monthly!$D$2:$D$180,0))),0,(INDEX([1]Monthly!K$2:K$180,MATCH($A93&$B93,[1]Monthly!$C$2:$C$180&[1]Monthly!$D$2:$D$180,0))))} -> 0 | M93: {=IF(ISERROR(INDEX([1]Monthly!L$2:L$180,MATCH($A93&$B93,[1]Monthly!$C$2:$C$180&[1]Monthly!$D$2:$D$180,0))),0,(INDEX([1]Monthly!L$2:L$180,MATCH($A93&$B93,[1]Monthly!$C$2:$C$180&[1]Monthly!$D$2:$D$180,0))))} -> 0 | ... AF93: {=IF(ISERROR(INDEX([1]Monthly!AE$2:AE$180,MATCH($A93&$B93,[1]Monthly!$C$2:$C$180&[1]Monthly!$D$2:$D$180,0))),0,(INDEX([1]Monthly!AE$2:AE$180,MATCH($A93&$B93,[1]Monthly!$C$2:$C$180&[1]Monthly!$D$2:$D$180,0))))} -> 2
A94: 12 | B94: 11 | C94: {=IF(ISERROR(INDEX([1]Current!E$2:E$180,MATCH($A94&$B94,[1]Current!$C$2:$C$180&[1]Current!$D$2:$D$180,0))),0,(INDEX([1]Current!E$2:E$180,MATCH($A94&$B94,[1]Current!$C$2:$C$180&[1]Current!$D$2:$D$180,0))))} -> 0 | D94: {=IF(ISERROR(INDEX([1]Current!F$2:F$180,MATCH($A94&$B94,[1]Current!$C$2:$C$180&[1]Current!$D$2:$D$180,0))),0,(INDEX([1]Current!F$2:F$180,MATCH($A94&$B94,[1]Current!$C$2:$C$180&[1]Current!$D$2:$D$180,0))))} -> 0 | E94: 0511 Abduction and kidnapping | F94: {=IF(ISERROR(INDEX([1]Monthly!E$2:E$180,MATCH($A94&$B94,[1]Monthly!$C$2:$C$180&[1]Monthly!$D$2:$D$180,0))),0,(INDEX([1]Monthly!E$2:E$180,MATCH($A94&$B94,[1]Monthly!$C$2:$C$180&[1]Monthly!$D$2:$D$180,0))))} -> 0 | G94: {=IF(ISERROR(INDEX([1]Monthly!F$2:F$180,MATCH($A94&$B94,[1]Monthly!$C$2:$C$180&[1]Monthly!$D$2:$D$180,0))),0,(INDEX([1]Monthly!F$2:F$180,MATCH($A94&$B94,[1]Monthly!$C$2:$C$180&[1]Monthly!$D$2:$D$180,0))))} -> 0 | H94: {=IF(ISERROR(INDEX([1]Monthly!G$2:G$180,MATCH($A94&$B94,[1]Monthly!$C$2:$C$180&[1]Monthly!$D$2:$D$180,0))),0,(INDEX([1]Monthly!G$2:G$180,MATCH($A94&$B94,[1]Monthly!$C$2:$C$180&[1]Monthly!$D$2:$D$180,0))))} -> 0 | I94: {=IF(ISERROR(INDEX([1]Monthly!H$2:H$180,MATCH($A94&$B94,[1]Monthly!$C$2:$C$180&[1]Monthly!$D$2:$D$180,0))),0,(INDEX([1]Monthly!H$2:H$180,MATCH($A94&$B94,[1]Monthly!$C$2:$C$180&[1]Monthly!$D$2:$D$180,0))))} -> 0 | J94: {=IF(ISERROR(INDEX([1]Monthly!I$2:I$180,MATCH($A94&$B94,[1]Monthly!$C$2:$C$180&[1]Monthly!$D$2:$D$180,0))),0,(INDEX([1]Monthly!I$2:I$180,MATCH($A94&$B94,[1]Monthly!$C$2:$C$180&[1]Monthly!$D$2:$D$180,0))))} -> 0 | K94: {=IF(ISERROR(INDEX([1]Monthly!J$2:J$180,MATCH($A94&$B94,[1]Monthly!$C$2:$C$180&[1]Monthly!$D$2:$D$180,0))),0,(INDEX([1]Monthly!J$2:J$180,MATCH($A94&$B94,[1]Monthly!$C$2:$C$180&[1]Monthly!$D$2:$D$180,0))))} -> 0 | L94: {=IF(ISERROR(INDEX([1]Monthly!K$2:K$180,MATCH($A94&$B94,[1]Monthly!$C$2:$C$180&[1]Monthly!$D$2:$D$180,0))),0,(INDEX([1]Monthly!K$2:K$180,MATCH($A94&$B94,[1]Monthly!$C$2:$C$180&[1]Monthly!$D$2:$D$180,0))))} -> 0 | M94: {=IF(ISERROR(INDEX([1]Monthly!L$2:L$180,MATCH($A94&$B94,[1]Monthly!$C$2:$C$180&[1]Monthly!$D$2:$D$180,0))),0,(INDEX([1]Monthly!L$2:L$180,MATCH($A94&$B94,[1]Monthly!$C$2:$C$180&[1]Monthly!$D$2:$D$180,0))))} -> 0 | ... AF94: {=IF(ISERROR(INDEX([1]Monthly!AE$2:AE$180,MATCH($A94&$B94,[1]Monthly!$C$2:$C$180&[1]Monthly!$D$2:$D$180,0))),0,(INDEX([1]Monthly!AE$2:AE$180,MATCH($A94&$B94,[1]Monthly!$C$2:$C$180&[1]Monthly!$D$2:$D$180,0))))} -> 0
A95: 12 | B95: 12 | C95: {=IF(ISERROR(INDEX([1]Current!E$2:E$180,MATCH($A95&$B95,[1]Current!$C$2:$C$180&[1]Current!$D$2:$D$180,0))),0,(INDEX([1]Current!E$2:E$180,MATCH($A95&$B95,[1]Current!$C$2:$C$180&[1]Current!$D$2:$D$180,0))))} -> 6 | D95: {=IF(ISERROR(INDEX([1]Current!F$2:F$180,MATCH($A95&$B95,[1]Current!$C$2:$C$180&[1]Current!$D$2:$D$180,0))),0,(INDEX([1]Current!F$2:F$180,MATCH($A95&$B95,[1]Current!$C$2:$C$180&[1]Current!$D$2:$D$180,0))))} -> 4 | E95: 0521 Deprivation of liberty/false imprisonment | F95: {=IF(ISERROR(INDEX([1]Monthly!E$2:E$180,MATCH($A95&$B95,[1]Monthly!$C$2:$C$180&[1]Monthly!$D$2:$D$180,0))),0,(INDEX([1]Monthly!E$2:E$180,MATCH($A95&$B95,[1]Monthly!$C$2:$C$180&[1]Monthly!$D$2:$D$180,0))))} -> 2 | G95: {=IF(ISERROR(INDEX([1]Monthly!F$2:F$180,MATCH($A95&$B95,[1]Monthly!$C$2:$C$180&[1]Monthly!$D$2:$D$180,0))),0,(INDEX([1]Monthly!F$2:F$180,MATCH($A95&$B95,[1]Monthly!$C$2:$C$180&[1]Monthly!$D$2:$D$180,0))))} -> 0 | H95: {=IF(ISERROR(INDEX([1]Monthly!G$2:G$180,MATCH($A95&$B95,[1]Monthly!$C$2:$C$180&[1]Monthly!$D$2:$D$180,0))),0,(INDEX([1]Monthly!G$2:G$180,MATCH($A95&$B95,[1]Monthly!$C$2:$C$180&[1]Monthly!$D$2:$D$180,0))))} -> 0 | I95: {=IF(ISERROR(INDEX([1]Monthly!H$2:H$180,MATCH($A95&$B95,[1]Monthly!$C$2:$C$180&[1]Monthly!$D$2:$D$180,0))),0,(INDEX([1]Monthly!H$2:H$180,MATCH($A95&$B95,[1]Monthly!$C$2:$C$180&[1]Monthly!$D$2:$D$180,0))))} -> 0 | J95: {=IF(ISERROR(INDEX([1]Monthly!I$2:I$180,MATCH($A95&$B95,[1]Monthly!$C$2:$C$180&[1]Monthly!$D$2:$D$180,0))),0,(INDEX([1]Monthly!I$2:I$180,MATCH($A95&$B95,[1]Monthly!$C$2:$C$180&[1]Monthly!$D$2:$D$180,0))))} -> 1 | K95: {=IF(ISERROR(INDEX([1]Monthly!J$2:J$180,MATCH($A95&$B95,[1]Monthly!$C$2:$C$180&[1]Monthly!$D$2:$D$180,0))),0,(INDEX([1]Monthly!J$2:J$180,MATCH($A95&$B95,[1]Monthly!$C$2:$C$180&[1]Monthly!$D$2:$D$180,0))))} -> 1 | L95: {=IF(ISERROR(INDEX([1]Monthly!K$2:K$180,MATCH($A95&$B95,[1]Monthly!$C$2:$C$180&[1]Monthly!$D$2:$D$180,0))),0,(INDEX([1]Monthly!K$2:K$180,MATCH($A95&$B95,[1]Monthly!$C$2:$C$180&[1]Monthly!$D$2:$D$180,0))))} -> 0 | M95: {=IF(ISERROR(INDEX([1]Monthly!L$2:L$180,MATCH($A95&$B95,[1]Monthly!$C$2:$C$180&[1]Monthly!$D$2:$D$180,0))),0,(INDEX([1]Monthly!L$2:L$180,MATCH($A95&$B95,[1]Monthly!$C$2:$C$180&[1]Monthly!$D$2:$D$180,0))))} -> 1 | ... AF95: {=IF(ISERROR(INDEX([1]Monthly!AE$2:AE$180,MATCH($A95&$B95,[1]Monthly!$C$2:$C$180&[1]Monthly!$D$2:$D$180,0))),0,(INDEX([1]Monthly!AE$2:AE$180,MATCH($A95&$B95,[1]Monthly!$C$2:$C$180&[1]Monthly!$D$2:$D$180,0))))} -> 0
A96: 12 | B96: 13 | C96: {=IF(ISERROR(INDEX([1]Current!E$2:E$180,MATCH($A96&$B96,[1]Current!$C$2:$C$180&[1]Current!$D$2:$D$180,0))),0,(INDEX([1]Current!E$2:E$180,MATCH($A96&$B96,[1]Current!$C$2:$C$180&[1]Current!$D$2:$D$180,0))))} -> 4 | D96: {=IF(ISERROR(INDEX([1]Current!F$2:F$180,MATCH($A96&$B96,[1]Current!$C$2:$C$180&[1]Current!$D$2:$D$180,0))),0,(INDEX([1]Current!F$2:F$180,MATCH($A96&$B96,[1]Current!$C$2:$C$180&[1]Current!$D$2:$D$180,0))))} -> 6 | E96: 0531 Harassment and private nuisance | F96: {=IF(ISERROR(INDEX([1]Monthly!E$2:E$180,MATCH($A96&$B96,[1]Monthly!$C$2:$C$180&[1]Monthly!$D$2:$D$180,0))),0,(INDEX([1]Monthly!E$2:E$180,MATCH($A96&$B96,[1]Monthly!$C$2:$C$180&[1]Monthly!$D$2:$D$180,0))))} -> 0 | G96: {=IF(ISERROR(INDEX([1]Monthly!F$2:F$180,MATCH($A96&$B96,[1]Monthly!$C$2:$C$180&[1]Monthly!$D$2:$D$180,0))),0,(INDEX([1]Monthly!F$2:F$180,MATCH($A96&$B96,[1]Monthly!$C$2:$C$180&[1]Monthly!$D$2:$D$180,0))))} -> 2 | H96: {=IF(ISERROR(INDEX([1]Monthly!G$2:G$180,MATCH($A96&$B96,[1]Monthly!$C$2:$C$180&[1]Monthly!$D$2:$D$180,0))),0,(INDEX([1]Monthly!G$2:G$180,MATCH($A96&$B96,[1]Monthly!$C$2:$C$180&[1]Monthly!$D$2:$D$180,0))))} -> 0 | I96: {=IF(ISERROR(INDEX([1]Monthly!H$2:H$180,MATCH($A96&$B96,[1]Monthly!$C$2:$C$180&[1]Monthly!$D$2:$D$180,0))),0,(INDEX([1]Monthly!H$2:H$180,MATCH($A96&$B96,[1]Monthly!$C$2:$C$180&[1]Monthly!$D$2:$D$180,0))))} -> 0 | J96: {=IF(ISERROR(INDEX([1]Monthly!I$2:I$180,MATCH($A96&$B96,[1]Monthly!$C$2:$C$180&[1]Monthly!$D$2:$D$180,0))),0,(INDEX([1]Monthly!I$2:I$180,MATCH($A96&$B96,[1]Monthly!$C$2:$C$180&[1]Monthly!$D$2:$D$180,0))))} -> 0 | K96: {=IF(ISERROR(INDEX([1]Monthly!J$2:J$180,MATCH($A96&$B96,[1]Monthly!$C$2:$C$180&[1]Monthly!$D$2:$D$180,0))),0,(INDEX([1]Monthly!J$2:J$180,MATCH($A96&$B96,[1]Monthly!$C$2:$C$180&[1]Monthly!$D$2:$D$180,0))))} -> 1 | L96: {=IF(ISERROR(INDEX([1]Monthly!K$2:K$180,MATCH($A96&$B96,[1]Monthly!$C$2:$C$180&[1]Monthly!$D$2:$D$180,0))),0,(INDEX([1]Monthly!K$2:K$180,MATCH($A96&$B96,[1]Monthly!$C$2:$C$180&[1]Monthly!$D$2:$D$180,0))))} -> 2 | M96: {=IF(ISERROR(INDEX([1]Monthly!L$2:L$180,MATCH($A96&$B96,[1]Monthly!$C$2:$C$180&[1]Monthly!$D$2:$D$180,0))),0,(INDEX([1]Monthly!L$2:L$180,MATCH($A96&$B96,[1]Monthly!$C$2:$C$180&[1]Monthly!$D$2:$D$180,0))))} -> 0 | ... AF96: {=IF(ISERROR(INDEX([1]Monthly!AE$2:AE$180,MATCH($A96&$B96,[1]Monthly!$C$2:$C$180&[1]Monthly!$D$2:$D$180,0))),0,(INDEX([1]Monthly!AE$2:AE$180,MATCH($A96&$B96,[1]Monthly!$C$2:$C$180&[1]Monthly!$D$2:$D$180,0))))} -> 0
A97: 12 | B97: 14 | C97: {=IF(ISERROR(INDEX([1]Current!E$2:E$180,MATCH($A97&$B97,[1]Current!$C$2:$C$180&[1]Current!$D$2:$D$180,0))),0,(INDEX([1]Current!E$2:E$180,MATCH($A97&$B97,[1]Current!$C$2:$C$180&[1]Current!$D$2:$D$180,0))))} -> 14 | D97: {=IF(ISERROR(INDEX([1]Current!F$2:F$180,MATCH($A97&$B97,[1]Current!$C$2:$C$180&[1]Current!$D$2:$D$180,0))),0,(INDEX([1]Current!F$2:F$180,MATCH($A97&$B97,[1]Current!$C$2:$C$180&[1]Current!$D$2:$D$180,0))))} -> 15 | E97: 0532 Threatening behaviour | F97: {=IF(ISERROR(INDEX([1]Monthly!E$2:E$180,MATCH($A97&$B97,[1]Monthly!$C$2:$C$180&[1]Monthly!$D$2:$D$180,0))),0,(INDEX([1]Monthly!E$2:E$180,MATCH($A97&$B97,[1]Monthly!$C$2:$C$180&[1]Monthly!$D$2:$D$180,0))))} -> 2 | G97: {=IF(ISERROR(INDEX([1]Monthly!F$2:F$180,MATCH($A97&$B97,[1]Monthly!$C$2:$C$180&[1]Monthly!$D$2:$D$180,0))),0,(INDEX([1]Monthly!F$2:F$180,MATCH($A97&$B97,[1]Monthly!$C$2:$C$180&[1]Monthly!$D$2:$D$180,0))))} -> 1 | H97: {=IF(ISERROR(INDEX([1]Monthly!G$2:G$180,MATCH($A97&$B97,[1]Monthly!$C$2:$C$180&[1]Monthly!$D$2:$D$180,0))),0,(INDEX([1]Monthly!G$2:G$180,MATCH($A97&$B97,[1]Monthly!$C$2:$C$180&[1]Monthly!$D$2:$D$180,0))))} -> 1 | I97: {=IF(ISERROR(INDEX([1]Monthly!H$2:H$180,MATCH($A97&$B97,[1]Monthly!$C$2:$C$180&[1]Monthly!$D$2:$D$180,0))),0,(INDEX([1]Monthly!H$2:H$180,MATCH($A97&$B97,[1]Monthly!$C$2:$C$180&[1]Monthly!$D$2:$D$180,0))))} -> 1 | J97: {=IF(ISERROR(INDEX([1]Monthly!I$2:I$180,MATCH($A97&$B97,[1]Monthly!$C$2:$C$180&[1]Monthly!$D$2:$D$180,0))),0,(INDEX([1]Monthly!I$2:I$180,MATCH($A97&$B97,[1]Monthly!$C$2:$C$180&[1]Monthly!$D$2:$D$180,0))))} -> 2 | K97: {=IF(ISERROR(INDEX([1]Monthly!J$2:J$180,MATCH($A97&$B97,[1]Monthly!$C$2:$C$180&[1]Monthly!$D$2:$D$180,0))),0,(INDEX([1]Monthly!J$2:J$180,MATCH($A97&$B97,[1]Monthly!$C$2:$C$180&[1]Monthly!$D$2:$D$180,0))))} -> 1 | L97: {=IF(ISERROR(INDEX([1]Monthly!K$2:K$180,MATCH($A97&$B97,[1]Monthly!$C$2:$C$180&[1]Monthly!$D$2:$D$180,0))),0,(INDEX([1]Monthly!K$2:K$180,MATCH($A97&$B97,[1]Monthly!$C$2:$C$180&[1]Monthly!$D$2:$D$180,0))))} -> 0 | M97: {=IF(ISERROR(INDEX([1]Monthly!L$2:L$180,MATCH($A97&$B97,[1]Monthly!$C$2:$C$180&[1]Monthly!$D$2:$D$180,0))),0,(INDEX([1]Monthly!L$2:L$180,MATCH($A97&$B97,[1]Monthly!$C$2:$C$180&[1]Monthly!$D$2:$D$180,0))))} -> 2 | ... AF97: {=IF(ISERROR(INDEX([1]Monthly!AE$2:AE$180,MATCH($A97&$B97,[1]Monthly!$C$2:$C$180&[1]Monthly!$D$2:$D$180,0))),0,(INDEX([1]Monthly!AE$2:AE$180,MATCH($A97&$B97,[1]Monthly!$C$2:$C$180&[1]Monthly!$D$2:$D$180,0))))} -> 1
C98: =SUM(C94:C97) -> 24 | D98: =SUM(D94:D97) -> 25 | E98: 05 Abduction, harassment and other offences | F98: =SUM(F94:F97) -> 4 | G98: =SUM(G94:G97) -> 3 | H98: =SUM(H94:H97) -> 1 | I98: =SUM(I94:I97) -> 1 | J98: =SUM(J94:J97) -> 3 | K98: =SUM(K94:K97) -> 3 | L98: =SUM(L94:L97) -> 2 | M98: =SUM(M94:M97) -> 3 | ... AF98: =SUM(AF94:AF97) -> 1
A99: 12 | B99: 15 | C99: {=IF(ISERROR(INDEX([1]Current!E$2:E$180,MATCH($A99&$B99,[1]Current!$C$2:$C$180&[1]Current!$D$2:$D$180,0))),0,(INDEX([1]Current!E$2:E$180,MATCH($A99&$B99,[1]Current!$C$2:$C$180&[1]Current!$D$2:$D$180,0))))} -> 25 | D99: {=IF(ISERROR(INDEX([1]Current!F$2:F$180,MATCH($A99&$B99,[1]Current!$C$2:$C$180&[1]Current!$D$2:$D$180,0))),0,(INDEX([1]Current!F$2:F$180,MATCH($A99&$B99,[1]Current!$C$2:$C$180&[1]Current!$D$2:$D$180,0))))} -> 38 | E99: 061 Robbery | F99: {=IF(ISERROR(INDEX([1]Monthly!E$2:E$180,MATCH($A99&$B99,[1]Monthly!$C$2:$C$180&[1]Monthly!$D$2:$D$180,0))),0,(INDEX([1]Monthly!E$2:E$180,MATCH($A99&$B99,[1]Monthly!$C$2:$C$180&[1]Monthly!$D$2:$D$180,0))))} -> 3 | G99: {=IF(ISERROR(INDEX([1]Monthly!F$2:F$180,MATCH($A99&$B99,[1]Monthly!$C$2:$C$180&[1]Monthly!$D$2:$D$180,0))),0,(INDEX([1]Monthly!F$2:F$180,MATCH($A99&$B99,[1]Monthly!$C$2:$C$180&[1]Monthly!$D$2:$D$180,0))))} -> 4 | H99: {=IF(ISERROR(INDEX([1]Monthly!G$2:G$180,MATCH($A99&$B99,[1]Monthly!$C$2:$C$180&[1]Monthly!$D$2:$D$180,0))),0,(INDEX([1]Monthly!G$2:G$180,MATCH($A99&$B99,[1]Monthly!$C$2:$C$180&[1]Monthly!$D$2:$D$180,0))))} -> 3 | I99: {=IF(ISERROR(INDEX([1]Monthly!H$2:H$180,MATCH($A99&$B99,[1]Monthly!$C$2:$C$180&[1]Monthly!$D$2:$D$180,0))),0,(INDEX([1]Monthly!H$2:H$180,MATCH($A99&$B99,[1]Monthly!$C$2:$C$180&[1]Monthly!$D$2:$D$180,0))))} -> 0 | J99: {=IF(ISERROR(INDEX([1]Monthly!I$2:I$180,MATCH($A99&$B99,[1]Monthly!$C$2:$C$180&[1]Monthly!$D$2:$D$180,0))),0,(INDEX([1]Monthly!I$2:I$180,MATCH($A99&$B99,[1]Monthly!$C$2:$C$180&[1]Monthly!$D$2:$D$180,0))))} -> 1 | K99: {=IF(ISERROR(INDEX([1]Monthly!J$2:J$180,MATCH($A99&$B99,[1]Monthly!$C$2:$C$180&[1]Monthly!$D$2:$D$180,0))),0,(INDEX([1]Monthly!J$2:J$180,MATCH($A99&$B99,[1]Monthly!$C$2:$C$180&[1]Monthly!$D$2:$D$180,0))))} -> 2 | L99: {=IF(ISERROR(INDEX([1]Monthly!K$2:K$180,MATCH($A99&$B99,[1]Monthly!$C$2:$C$180&[1]Monthly!$D$2:$D$180,0))),0,(INDEX([1]Monthly!K$2:K$180,MATCH($A99&$B99,[1]Monthly!$C$2:$C$180&[1]Monthly!$D$2:$D$180,0))))} -> 0 | M99: {=IF(ISERROR(INDEX([1]Monthly!L$2:L$180,MATCH($A99&$B99,[1]Monthly!$C$2:$C$180&[1]Monthly!$D$2:$D$180,0))),0,(INDEX([1]Monthly!L$2:L$180,MATCH($A99&$B99,[1]Monthly!$C$2:$C$180&[1]Monthly!$D$2:$D$180,0))))} -> 3 | ... AF99: {=IF(ISERROR(INDEX([1]Monthly!AE$2:AE$180,MATCH($A99&$B99,[1]Monthly!$C$2:$C$180&[1]Monthly!$D$2:$D$180,0))),0,(INDEX([1]Monthly!AE$2:AE$180,MATCH($A99&$B99,[1]Monthly!$C$2:$C$180&[1]Monthly!$D$2:$D$180,0))))} -> 2
A100: 12 | B100: 16 | C100: {=IF(ISERROR(INDEX([1]Current!E$2:E$180,MATCH($A100&$B100,[1]Current!$C$2:$C$180&[1]Current!$D$2:$D$180,0))),0,(INDEX([1]Current!E$2:E$180,MATCH($A100&$B100,[1]Current!$C$2:$C$180&[1]Current!$D$2:$D$180,0))))} -> 1 | D100: {=IF(ISERROR(INDEX([1]Current!F$2:F$180,MATCH($A100&$B100,[1]Current!$C$2:$C$180&[1]Current!$D$2:$D$180,0))),0,(INDEX([1]Current!F$2:F$180,MATCH($A100&$B100,[1]Current!$C$2:$C$180&[1]Current!$D$2:$D$180,0))))} -> 0 | E100: 0621 Blackmail and extortion | F100: {=IF(ISERROR(INDEX([1]Monthly!E$2:E$180,MATCH($A100&$B100,[1]Monthly!$C$2:$C$180&[1]Monthly!$D$2:$D$180,0))),0,(INDEX([1]Monthly!E$2:E$180,MATCH($A100&$B100,[1]Monthly!$C$2:$C$180&[1]Monthly!$D$2:$D$180,0))))} -> 0 | G100: {=IF(ISERROR(INDEX([1]Monthly!F$2:F$180,MATCH($A100&$B100,[1]Monthly!$C$2:$C$180&[1]Monthly!$D$2:$D$180,0))),0,(INDEX([1]Monthly!F$2:F$180,MATCH($A100&$B100,[1]Monthly!$C$2:$C$180&[1]Monthly!$D$2:$D$180,0))))} -> 0 | H100: {=IF(ISERROR(INDEX([1]Monthly!G$2:G$180,MATCH($A100&$B100,[1]Monthly!$C$2:$C$180&[1]Monthly!$D$2:$D$180,0))),0,(INDEX([1]Monthly!G$2:G$180,MATCH($A100&$B100,[1]Monthly!$C$2:$C$180&[1]Monthly!$D$2:$D$180,0))))} -> 0 | I100: {=IF(ISERROR(INDEX([1]Monthly!H$2:H$180,MATCH($A100&$B100,[1]Monthly!$C$2:$C$180&[1]Monthly!$D$2:$D$180,0))),0,(INDEX([1]Monthly!H$2:H$180,MATCH($A100&$B100,[1]Monthly!$C$2:$C$180&[1]Monthly!$D$2:$D$180,0))))} -> 0 | J100: {=IF(ISERROR(INDEX([1]Monthly!I$2:I$180,MATCH($A100&$B100,[1]Monthly!$C$2:$C$180&[1]Monthly!$D$2:$D$180,0))),0,(INDEX([1]Monthly!I$2:I$180,MATCH($A100&$B100,[1]Monthly!$C$2:$C$180&[1]Monthly!$D$2:$D$180,0))))} -> 0 | K100: {=IF(ISERROR(INDEX([1]Monthly!J$2:J$180,MATCH($A100&$B100,[1]Monthly!$C$2:$C$180&[1]Monthly!$D$2:$D$180,0))),0,(INDEX([1]Monthly!J$2:J$180,MATCH($A100&$B100,[1]Monthly!$C$2:$C$180&[1]Monthly!$D$2:$D$180,0))))} -> 0 | L100: {=IF(ISERROR(INDEX([1]Monthly!K$2:K$180,MATCH($A100&$B100,[1]Monthly!$C$2:$C$180&[1]Monthly!$D$2:$D$180,0))),0,(INDEX([1]Monthly!K$2:K$180,MATCH($A100&$B100,[1]Monthly!$C$2:$C$180&[1]Monthly!$D$2:$D$180,0))))} -> 0 | M100: {=IF(ISERROR(INDEX([1]Monthly!L$2:L$180,MATCH($A100&$B100,[1]Monthly!$C$2:$C$180&[1]Monthly!$D$2:$D$180,0))),0,(INDEX([1]Monthly!L$2:L$180,MATCH($A100&$B100,[1]Monthly!$C$2:$C$180&[1]Monthly!$D$2:$D$180,0))))} -> 0 | ... AF100: {=IF(ISERROR(INDEX([1]Monthly!AE$2:AE$180,MATCH($A100&$B100,[1]Monthly!$C$2:$C$180&[1]Monthly!$D$2:$D$180,0))),0,(INDEX([1]Monthly!AE$2:AE$180,MATCH($A100&$B100,[1]Monthly!$C$2:$C$180&[1]Monthly!$D$2:$D$180,0))))} -> 0
C101: =SUM(C99:C100) -> 26 | D101: =SUM(D99:D100) -> 38 | E101: 06 Robbery, extortion and related offences | F101: =SUM(F99:F100) -> 3 | G101: =SUM(G99:G100) -> 4 | H101: =SUM(H99:H100) -> 3 | I101: =SUM(I99:I100) -> 0 | J101: =SUM(J99:J100) -> 1 | K101: =SUM(K99:K100) -> 2 | L101: =SUM(L99:L100) -> 0 | M101: =SUM(M99:M100) -> 3 | ... AF101: =SUM(AF99:AF100) -> 2
...

Sheet Table 2
A1: 1
F3: Northern Territory Assault Statistics
F4: ="Data through " & [1]A_Quarterly!$A$1 -> Data through April 2022
D5: =[1]A_Current!$G$2 -> P1 | E5: =[1]A_Current!$H$2 -> P2 | F5: Domestic violence | G5: Alcohol involvement | H5: =[1]A_Monthly!G$4 -> Feb-20 | I5: =[1]A_Monthly!H$4 -> Mar-20 | J5: =[1]A_Monthly!I$4 -> Apr-20 | K5: =[1]A_Monthly!J$4 -> May-20 | L5: =[1]A_Monthly!K$4 -> Jun-20 | M5: =[1]A_Monthly!L$4 -> Jul-20 | N5: =[1]A_Monthly!M$4 -> Aug-20 | O5: =[1]A_Monthly!N$4 -> Sep-20 | P5: =[1]A_Monthly!$O$4 -> Oct-20 | Q5: =[1]A_Monthly!$P$4 -> Nov-20 | R5: =[1]A_Monthly!$Q$4 -> Dec-20 | S5: =[1]A_Monthly!R$4 -> Jan-21 | T5: =[1]A_Monthly!S$4 -> Feb-21 | U5: =[1]A_Monthly!T$4 -> Mar-21 | V5: =[1]A_Monthly!U$4 -> Apr-21 | W5: =[1]A_Monthly!V$4 -> May-21 | X5: =[1]A_Monthly!W$4 -> Jun-21 | Y5: =[1]A_Monthly!X$4 -> Jul-21 | Z5: =[1]A_Monthly!Y$4 -> Aug-21 | ... AH5: =[1]A_Monthly!AG$4 -> Apr-22
D6: =D25+D44+D63+D82+D101+D120+D139 -> 2724 | E6: =E25+E44+E63+E82+E101+E120+E139 -> 2551 | F6: DV involved | G6: Alcohol involved | H6: =H25+H44+H63+H82+H101+H120+H139 -> 188 | I6: =I25+I44+I63+I82+I101+I120+I139 -> 200 | J6: =J25+J44+J63+J82+J101+J120+J139 -> 166 | K6: =K25+K44+K63+K82+K101+K120+K139 -> 180 | L6: =L25+L44+L63+L82+L101+L120+L139 -> 210 | M6: =M25+M44+M63+M82+M101+M120+M139 -> 275 | N6: =N25+N44+N63+N82+N101+N120+N139 -> 281 | O6: =O25+O44+O63+O82+O101+O120+O139 -> 297 | ... AH6: =AH25+AH44+AH63+AH82+AH101+AH120+AH139 -> 248
D7: =D26+D45+D64+D83+D102+D121+D140 -> 1347 | E7: =E26+E45+E64+E83+E102+E121+E140 -> 1235 | G7: No alcohol involved | H7: =H26+H45+H64+H83+H102+H121+H140 -> 124 | I7: =I26+I45+I64+I83+I102+I121+I140 -> 140 | J7: =J26+J45+J64+J83+J102+J121+J140 -> 100 | K7: =K26+K45+K64+K83+K102+K121+K140 -> 77 | L7: =L26+L45+L64+L83+L102+L121+L140 -> 86 | M7: =M26+M45+M64+M83+M102+M121+M140 -> 81 | N7: =N26+N45+N64+N83+N102+N121+N140 -> 109 | O7: =O26+O45+O64+O83+O102+O121+O140 -> 134 | ... AH7: =AH26+AH45+AH64+AH83+AH102+AH121+AH140 -> 104
D8: =D27+D46+D65+D84+D103+D122+D141 -> 689 | E8: =E27+E46+E65+E84+E103+E122+E141 -> 885 | G8: Not known | H8: =H27+H46+H65+H84+H103+H122+H141 -> 59 | I8: =I27+I46+I65+I84+I103+I122+I141 -> 47 | J8: =J27+J46+J65+J84+J103+J122+J141 -> 32 | K8: =K27+K46+K65+K84+K103+K122+K141 -> 35 | L8: =L27+L46+L65+L84+L103+L122+L141 -> 33 | M8: =M27+M46+M65+M84+M103+M122+M141 -> 34 | N8: =N27+N46+N65+N84+N103+N122+N141 -> 69 | O8: =O27+O46+O65+O84+O103+O122+O141 -> 82 | ... AH8: =AH27+AH46+AH65+AH84+AH103+AH122+AH141 -> 103
D9: =SUM(D6:D8) -> 4760 | E9: =SUM(E6:E8) -> 4671 | F9: DV involved Total | H9: =SUM(H6:H8) -> 371 | I9: =SUM(I6:I8) -> 387 | J9: =SUM(J6:J8) -> 298 | K9: =SUM(K6:K8) -> 292 | L9: =SUM(L6:L8) -> 329 | M9: =SUM(M6:M8) -> 390 | N9: =SUM(N6:N8) -> 459 | O9: =SUM(O6:O8) -> 513 | ... AH9: =SUM(AH6:AH8) -> 455
D10: =D29+D48+D67+D86+D105+D124+D143 -> 1114 | E10: =E29+E48+E67+E86+E105+E124+E143 -> 1046 | F10: DV not involved | G10: Alcohol involved | H10: =H29+H48+H67+H86+H105+H124+H143 -> 93 | I10: =I29+I48+I67+I86+I105+I124+I143 -> 93 | J10: =J29+J48+J67+J86+J105+J124+J143 -> 63 | K10: =K29+K48+K67+K86+K105+K124+K143 -> 101 | L10: =L29+L48+L67+L86+L105+L124+L143 -> 115 | M10: =M29+M48+M67+M86+M105+M124+M143 -> 116 | N10: =N29+N48+N67+N86+N105+N124+N143 -> 112 | O10: =O29+O48+O67+O86+O105+O124+O143 -> 114 | ... AH10: =AH29+AH48+AH67+AH86+AH105+AH124+AH143 -> 109
D11: =D30+D49+D68+D87+D106+D125+D144 -> 738 | E11: =E30+E49+E68+E87+E106+E125+E144 -> 715 | G11: No alcohol involved | H11: =H30+H49+H68+H87+H106+H125+H144 -> 85 | I11: =I30+I49+I68+I87+I106+I125+I144 -> 103 | J11: =J30+J49+J68+J87+J106+J125+J144 -> 67 | K11: =K30+K49+K68+K87+K106+K125+K144 -> 63 | L11: =L30+L49+L68+L87+L106+L125+L144 -> 60 | M11: =M30+M49+M68+M87+M106+M125+M144 -> 59 | N11: =N30+N49+N68+N87+N106+N125+N144 -> 81 | O11: =O30+O49+O68+O87+O106+O125+O144 -> 73 | ... AH11: =AH30+AH49+AH68+AH87+AH106+AH125+AH144 -> 75
D12: =D31+D50+D69+D88+D107+D126+D145 -> 810 | E12: =E31+E50+E69+E88+E107+E126+E145 -> 1006 | G12: Not known | H12: =H31+H50+H69+H88+H107+H126+H145 -> 76 | I12: =I31+I50+I69+I88+I107+I126+I145 -> 71 | J12: =J31+J50+J69+J88+J107+J126+J145 -> 55 | K12: =K31+K50+K69+K88+K107+K126+K145 -> 40 | L12: =L31+L50+L69+L88+L107+L126+L145 -> 61 | M12: =M31+M50+M69+M88+M107+M126+M145 -> 78 | N12: =N31+N50+N69+N88+N107+N126+N145 -> 57 | O12: =O31+O50+O69+O88+O107+O126+O145 -> 85 | ... AH12: =AH31+AH50+AH69+AH88+AH107+AH126+AH145 -> 113
D13: =SUM(D10:D12) -> 2662 | E13: =SUM(E10:E12) -> 2767 | F13: DV not involved Total | H13: =SUM(H10:H12) -> 254 | I13: =SUM(I10:I12) -> 267 | J13: =SUM(J10:J12) -> 185 | K13: =SUM(K10:K12) -> 204 | L13: =SUM(L10:L12) -> 236 | M13: =SUM(M10:M12) -> 253 | N13: =SUM(N10:N12) -> 250 | O13: =SUM(O10:O12) -> 272 | ... AH13: =SUM(AH10:AH12) -> 297
D14: =D9+D13 -> 7422 | E14: =E9+E13 -> 7438 | F14: Total assaults | H14: =H9+H13 -> 625 | I14: =I9+I13 -> 654 | J14: =J9+J13 -> 483 | K14: =K9+K13 -> 496 | L14: =L9+L13 -> 565 | M14: =M9+M13 -> 643 | N14: =N9+N13 -> 709 | O14: =O9+O13 -> 785 | ... AH14: =AH9+AH13 -> 752
D15: =D6+D10 -> 3838 | E15: =E6+E10 -> 3597 | F15: Assaults with alcohol involved | H15: =H6+H10 -> 281 | I15: =I6+I10 -> 293 | J15: =J6+J10 -> 229 | K15: =K6+K10 -> 281 | L15: =L6+L10 -> 325 | M15: =M6+M10 -> 391 | N15: =N6+N10 -> 393 | O15: =O6+O10 -> 411 | ... AH15: =AH6+AH10 -> 357
D16: =D7+D11 -> 2085 | E16: =E7+E11 -> 1950 | F16: Assaults with no alcohol involved | H16: =H7+H11 -> 209 | I16: =I7+I11 -> 243 | J16: =J7+J11 -> 167 | K16: =K7+K11 -> 140 | L16: =L7+L11 -> 146 | M16: =M7+M11 -> 140 | N16: =N7+N11 -> 190 | O16: =O7+O11 -> 207 | ... AH16: =AH7+AH11 -> 179
D17: =D8+D12 -> 1499 | E17: =E8+E12 -> 1891 | F17: Assaults with alcohol involvement unknown | H17: =H8+H12 -> 135 | I17: =I8+I12 -> 118 | J17: =J8+J12 -> 87 | K17: =K8+K12 -> 75 | L17: =L8+L12 -> 94 | M17: =M8+M12 -> 112 | N17: =N8+N12 -> 126 | O17: =O8+O12 -> 167 | ... AH17: =AH8+AH12 -> 216
F18: % of assaults associated with domestic violence | H18: =H9/H14 -> 0.5936 | I18: =I9/I14 -> 0.59174312 | J18: =J9/J14 -> 0.61697723 | K18: =K9/K14 -> 0.58870968 | L18: =L9/L14 -> 0.58230088 | M18: =M9/M14 -> 0.60653188 | N18: =N9/N14 -> 0.64739069 | O18: =O9/O14 -> 0.65350318 | ... AH18: =AH9/AH14 -> 0.60505319
F19: % of assaults associated with alcohol | H19: =(H6+H10)/H14 -> 0.4496 | I19: =(I6+I10)/I14 -> 0.44801223 | J19: =(J6+J10)/J14 -> 0.47412008 | K19: =(K6+K10)/K14 -> 0.56653226 | L19: =(L6+L10)/L14 -> 0.57522124 | M19: =(M6+M10)/M14 -> 0.60808709 | N19: =(N6+N10)/N14 -> 0.55430183 | O19: =(O6+O10)/O14 -> 0.52356688 | ... AH19: =(AH6+AH10)/AH14 -> 0.47473404
F20: ='Table 1'!E39 -> Data extracted from PROMIS on 01/06/2022
F21: ='Table 1'!E40 -> Shaded months should be treated as provisional
F22: Darwin Assault Statistics
F23: =$F$4 -> Data through April 2022
D24: =[1]A_Current!$G$2 -> P1 | E24: =[1]A_Current!$H$2 -> P2 | F24: Domestic violence | G24: Alcohol involvement | H24: =$H$5 -> Feb-20 | I24: =$I$5 -> Mar-20 | J24: =$J$5 -> Apr-20 | K24: =$K$5 -> May-20 | L24: =$L$5 -> Jun-20 | M24: =$M$5 -> Jul-20 | N24: =$N$5 -> Aug-20 | O24: =$O$5 -> Sep-20 | P24: =$P$5 -> Oct-20 | Q24: =$Q$5 -> Nov-20 | R24: =$R$5 -> Dec-20 | S24: =$S$5 -> Jan-21 | T24: =$T$5 -> Feb-21 | U24: =$U$5 -> Mar-21 | V24: =$V$5 -> Apr-21 | W24: =$W$5 -> May-21 | X24: =$X$5 -> Jun-21 | Y24: =$Y$5 -> Jul-21 | Z24: =$Z$5 -> Aug-21 | AA24: =$AA$5 -> Sep-21 | AB24: =$AB$5 -> Oct-21 | AC24: =$AC$5 -> Nov-21 | AD24: =$AD$5 -> Dec-21 | AE24: =$AE$5 -> Jan-22 | AF24: =$AF$5 -> Feb-22 | AG24: =$AG$5 -> Mar-22 | AH24: =$AH$5 -> Apr-22
A25: 11 | B25: 1 | C25: 1 | D25: {=IF(ISERROR(INDEX([1]A_Current!G$2:G$180,MATCH($A25&$B25&$C25,[1]A_Current!$D$2:$D$180&[1]A_Yearly!$E$2:$E$180&[1]A_Current!$F$2:$F$180,0))),0,(INDEX([1]A_Current!G$2:G$180,MATCH($A25&$B25&$C25,[1]A_Current!$D$2:$D$180&[1]A_Current!$E$2:$E$180&[1]A_Current!$F$2:$F$180,0))))} -> 667 | E25: {=IF(ISERROR(INDEX([1]A_Current!H$2:H$180,MATCH($A25&$B25&$C25,[1]A_Current!$D$2:$D$180&[1]A_Yearly!$E$2:$E$180&[1]A_Current!$F$2:$F$180,0))),0,(INDEX([1]A_Current!H$2:H$180,MATCH($A25&$B25&$C25,[1]A_Current!$D$2:$D$180&[1]A_Current!$E$2:$E$180&[1]A_Current!$F$2:$F$180,0))))} -> 671 | F25: DV involved | G25: Alcohol involved | H25: {=IF(ISERROR(INDEX([1]A_Monthly!G$2:G$180,MATCH($A25&$B25&$C25,[1]A_Monthly!$D$2:$D$180&[1]A_Monthly!$E$2:$E$180&[1]A_Monthly!$F$2:$F$180,0))),0,(INDEX([1]A_Monthly!G$2:G$180,MATCH($A25&$B25&$C25,[1]A_Monthly!$D$2:$D$180&[1]A_Monthly!$E$2:$E$180&[1]A_Monthly!$F$2:$F$180,0))))} -> 37 | I25: {=IF(ISERROR(INDEX([1]A_Monthly!H$2:H$180,MATCH($A25&$B25&$C25,[1]A_Monthly!$D$2:$D$180&[1]A_Monthly!$E$2:$E$180&[1]A_Monthly!$F$2:$F$180,0))),0,(INDEX([1]A_Monthly!H$2:H$180,MATCH($A25&$B25&$C25,[1]A_Monthly!$D$2:$D$180&[1]A_Monthly!$E$2:$E$180&[1]A_Monthly!$F$2:$F$180,0))))} -> 41 | J25: {=IF(ISERROR(INDEX([1]A_Monthly!I$2:I$180,MATCH($A25&$B25&$C25,[1]A_Monthly!$D$2:$D$180&[1]A_Monthly!$E$2:$E$180&[1]A_Monthly!$F$2:$F$180,0))),0,(INDEX([1]A_Monthly!I$2:I$180,MATCH($A25&$B25&$C25,[1]A_Monthly!$D$2:$D$180&[1]A_Monthly!$E$2:$E$180&[1]A_Monthly!$F$2:$F$180,0))))} -> 48 | K25: {=IF(ISERROR(INDEX([1]A_Monthly!J$2:J$180,MATCH($A25&$B25&$C25,[1]A_Monthly!$D$2:$D$180&[1]A_Monthly!$E$2:$E$180&[1]A_Monthly!$F$2:$F$180,0))),0,(INDEX([1]A_Monthly!J$2:J$180,MATCH($A25&$B25&$C25,[1]A_Monthly!$D$2:$D$180&[1]A_Monthly!$E$2:$E$180&[1]A_Monthly!$F$2:$F$180,0))))} -> 32 | L25: {=IF(ISERROR(INDEX([1]A_Monthly!K$2:K$180,MATCH($A25&$B25&$C25,[1]A_Monthly!$D$2:$D$180&[1]A_Monthly!$E$2:$E$180&[1]A_Monthly!$F$2:$F$180,0))),0,(INDEX([1]A_Monthly!K$2:K$180,MATCH($A25&$B25&$C25,[1]A_Monthly!$D$2:$D$180&[1]A_Monthly!$E$2:$E$180&[1]A_Monthly!$F$2:$F$180,0))))} -> 45 | M25: {=IF(ISERROR(INDEX([1]A_Monthly!L$2:L$180,MATCH($A25&$B25&$C25,[1]A_Monthly!$D$2:$D$180&[1]A_Monthly!$E$2:$E$180&[1]A_Monthly!$F$2:$F$180,0))),0,(INDEX([1]A_Monthly!L$2:L$180,MATCH($A25&$B25&$C25,[1]A_Monthly!$D$2:$D$180&[1]A_Monthly!$E$2:$E$180&[1]A_Monthly!$F$2:$F$180,0))))} -> 54 | N25: {=IF(ISERROR(INDEX([1]A_Monthly!M$2:M$180,MATCH($A25&$B25&$C25,[1]A_Monthly!$D$2:$D$180&[1]A_Monthly!$E$2:$E$180&[1]A_Monthly!$F$2:$F$180,0))),0,(INDEX([1]A_Monthly!M$2:M$180,MATCH($A25&$B25&$C25,[1]A_Monthly!$D$2:$D$180&[1]A_Monthly!$E$2:$E$180&[1]A_Monthly!$F$2:$F$180,0))))} -> 51 | O25: {=IF(ISERROR(INDEX([1]A_Monthly!N$2:N$180,MATCH($A25&$B25&$C25,[1]A_Monthly!$D$2:$D$180&[1]A_Monthly!$E$2:$E$180&[1]A_Monthly!$F$2:$F$180,0))),0,(INDEX([1]A_Monthly!N$2:N$180,MATCH($A25&$B25&$C25,[1]A_Monthly!$D$2:$D$180&[1]A_Monthly!$E$2:$E$180&[1]A_Monthly!$F$2:$F$180,0))))} -> 67 | ... AH25: {=IF(ISERROR(INDEX([1]A_Monthly!AG$2:AG$180,MATCH($A25&$B25&$C25,[1]A_Monthly!$D$2:$D$180&[1]A_Monthly!$E$2:$E$180&[1]A_Monthly!$F$2:$F$180,0))),0,(INDEX([1]A_Monthly!AG$2:AG$180,MATCH($A25&$B25&$C25,[1]A_Monthly!$D$2:$D$180&[1]A_Monthly!$E$2:$E$180&[1]A_Monthly!$F$2:$F$180,0))))} -> 57
A26: 11 | B26: 1 | C26: 2 | D26: {=IF(ISERROR(INDEX([1]A_Current!G$2:G$180,MATCH($A26&$B26&$C26,[1]A_Current!$D$2:$D$180&[1]A_Yearly!$E$2:$E$180&[1]A_Current!$F$2:$F$180,0))),0,(INDEX([1]A_Current!G$2:G$180,MATCH($A26&$B26&$C26,[1]A_Current!$D$2:$D$180&[1]A_Current!$E$2:$E$180&[1]A_Current!$F$2:$F$180,0))))} -> 190 | E26: {=IF(ISERROR(INDEX([1]A_Current!H$2:H$180,MATCH($A26&$B26&$C26,[1]A_Current!$D$2:$D$180&[1]A_Yearly!$E$2:$E$180&[1]A_Current!$F$2:$F$180,0))),0,(INDEX([1]A_Current!H$2:H$180,MATCH($A26&$B26&$C26,[1]A_Current!$D$2:$D$180&[1]A_Current!$E$2:$E$180&[1]A_Current!$F$2:$F$180,0))))} -> 170 | G26: No alcohol involved | H26: {=IF(ISERROR(INDEX([1]A_Monthly!G$2:G$180,MATCH($A26&$B26&$C26,[1]A_Monthly!$D$2:$D$180&[1]A_Monthly!$E$2:$E$180&[1]A_Monthly!$F$2:$F$180,0))),0,(INDEX([1]A_Monthly!G$2:G$180,MATCH($A26&$B26&$C26,[1]A_Monthly!$D$2:$D$180&[1]A_Monthly!$E$2:$E$180&[1]A_Monthly!$F$2:$F$180,0))))} -> 13 | I26: {=IF(ISERROR(INDEX([1]A_Monthly!H$2:H$180,MATCH($A26&$B26&$C26,[1]A_Monthly!$D$2:$D$180&[1]A_Monthly!$E$2:$E$180&[1]A_Monthly!$F$2:$F$180,0))),0,(INDEX([1]A_Monthly!H$2:H$180,MATCH($A26&$B26&$C26,[1]A_Monthly!$D$2:$D$180&[1]A_Monthly!$E$2:$E$180&[1]A_Monthly!$F$2:$F$180,0))))} -> 11 | J26: {=IF(ISERROR(INDEX([1]A_Monthly!I$2:I$180,MATCH($A26&$B26&$C26,[1]A_Monthly!$D$2:$D$180&[1]A_Monthly!$E$2:$E$180&[1]A_Monthly!$F$2:$F$180,0))),0,(INDEX([1]A_Monthly!I$2:I$180,MATCH($A26&$B26&$C26,[1]A_Monthly!$D$2:$D$180&[1]A_Monthly!$E$2:$E$180&[1]A_Monthly!$F$2:$F$180,0))))} -> 14 | K26: {=IF(ISERROR(INDEX([1]A_Monthly!J$2:J$180,MATCH($A26&$B26&$C26,[1]A_Monthly!$D$2:$D$180&[1]A_Monthly!$E$2:$E$180&[1]A_Monthly!$F$2:$F$180,0))),0,(INDEX([1]A_Monthly!J$2:J$180,MATCH($A26&$B26&$C26,[1]A_Monthly!$D$2:$D$180&[1]A_Monthly!$E$2:$E$180&[1]A_Monthly!$F$2:$F$180,0))))} -> 4 | L26: {=IF(ISERROR(INDEX([1]A_Monthly!K$2:K$180,MATCH($A26&$B26&$C26,[1]A_Monthly!$D$2:$D$180&[1]A_Monthly!$E$2:$E$180&[1]A_Monthly!$F$2:$F$180,0))),0,(INDEX([1]A_Monthly!K$2:K$180,MATCH($A26&$B26&$C26,[1]A_Monthly!$D$2:$D$180&[1]A_Monthly!$E$2:$E$180&[1]A_Monthly!$F$2:$F$180,0))))} -> 6 | M26: {=IF(ISERROR(INDEX([1]A_Monthly!L$2:L$180,MATCH($A26&$B26&$C26,[1]A_Monthly!$D$2:$D$180&[1]A_Monthly!$E$2:$E$180&[1]A_Monthly!$F$2:$F$180,0))),0,(INDEX([1]A_Monthly!L$2:L$180,MATCH($A26&$B26&$C26,[1]A_Monthly!$D$2:$D$180&[1]A_Monthly!$E$2:$E$180&[1]A_Monthly!$F$2:$F$180,0))))} -> 7 | N26: {=IF(ISERROR(INDEX([1]A_Monthly!M$2:M$180,MATCH($A26&$B26&$C26,[1]A_Monthly!$D$2:$D$180&[1]A_Monthly!$E$2:$E$180&[1]A_Monthly!$F$2:$F$180,0))),0,(INDEX([1]A_Monthly!M$2:M$180,MATCH($A26&$B26&$C26,[1]A_Monthly!$D$2:$D$180&[1]A_Monthly!$E$2:$E$180&[1]A_Monthly!$F$2:$F$180,0))))} -> 16 | O26: {=IF(ISERROR(INDEX([1]A_Monthly!N$2:N$180,MATCH($A26&$B26&$C26,[1]A_Monthly!$D$2:$D$180&[1]A_Monthly!$E$2:$E$180&[1]A_Monthly!$F$2:$F$180,0))),0,(INDEX([1]A_Monthly!N$2:N$180,MATCH($A26&$B26&$C26,[1]A_Monthly!$D$2:$D$180&[1]A_Monthly!$E$2:$E$180&[1]A_Monthly!$F$2:$F$180,0))))} -> 29 | ... AH26: {=IF(ISERROR(INDEX([1]A_Monthly!AG$2:AG$180,MATCH($A26&$B26&$C26,[1]A_Monthly!$D$2:$D$180&[1]A_Monthly!$E$2:$E$180&[1]A_Monthly!$F$2:$F$180,0))),0,(INDEX([1]A_Monthly!AG$2:AG$180,MATCH($A26&$B26&$C26,[1]A_Monthly!$D$2:$D$180&[1]A_Monthly!$E$2:$E$180&[1]A_Monthly!$F$2:$F$180,0))))} -> 13
A27: 11 | B27: 1 | C27: 3 | D27: {=IF(ISERROR(INDEX([1]A_Current!G$2:G$180,MATCH($A27&$B27&$C27,[1]A_Current!$D$2:$D$180&[1]A_Yearly!$E$2:$E$180&[1]A_Current!$F$2:$F$180,0))),0,(INDEX([1]A_Current!G$2:G$180,MATCH($A27&$B27&$C27,[1]A_Current!$D$2:$D$180&[1]A_Current!$E$2:$E$180&[1]A_Current!$F$2:$F$180,0))))} -> 134 | E27: {=IF(ISERROR(INDEX([1]A_Current!H$2:H$180,MATCH($A27&$B27&$C27,[1]A_Current!$D$2:$D$180&[1]A_Yearly!$E$2:$E$180&[1]A_Current!$F$2:$F$180,0))),0,(INDEX([1]A_Current!H$2:H$180,MATCH($A27&$B27&$C27,[1]A_Current!$D$2:$D$180&[1]A_Current!$E$2:$E$180&[1]A_Current!$F$2:$F$180,0))))} -> 124 | G27: Not known | H27: {=IF(ISERROR(INDEX([1]A_Monthly!G$2:G$180,MATCH($A27&$B27&$C27,[1]A_Monthly!$D$2:$D$180&[1]A_Monthly!$E$2:$E$180&[1]A_Monthly!$F$2:$F$180,0))),0,(INDEX([1]A_Monthly!G$2:G$180,MATCH($A27&$B27&$C27,[1]A_Monthly!$D$2:$D$180&[1]A_Monthly!$E$2:$E$180&[1]A_Monthly!$F$2:$F$180,0))))} -> 12 | I27: {=IF(ISERROR(INDEX([1]A_Monthly!H$2:H$180,MATCH($A27&$B27&$C27,[1]A_Monthly!$D$2:$D$180&[1]A_Monthly!$E$2:$E$180&[1]A_Monthly!$F$2:$F$180,0))),0,(INDEX([1]A_Monthly!H$2:H$180,MATCH($A27&$B27&$C27,[1]A_Monthly!$D$2:$D$180&[1]A_Monthly!$E$2:$E$180&[1]A_Monthly!$F$2:$F$180,0))))} -> 12 | J27: {=IF(ISERROR(INDEX([1]A_Monthly!I$2:I$180,MATCH($A27&$B27&$C27,[1]A_Monthly!$D$2:$D$180&[1]A_Monthly!$E$2:$E$180&[1]A_Monthly!$F$2:$F$180,0))),0,(INDEX([1]A_Monthly!I$2:I$180,MATCH($A27&$B27&$C27,[1]A_Monthly!$D$2:$D$180&[1]A_Monthly!$E$2:$E$180&[1]A_Monthly!$F$2:$F$180,0))))} -> 5 | K27: {=IF(ISERROR(INDEX([1]A_Monthly!J$2:J$180,MATCH($A27&$B27&$C27,[1]A_Monthly!$D$2:$D$180&[1]A_Monthly!$E$2:$E$180&[1]A_Monthly!$F$2:$F$180,0))),0,(INDEX([1]A_Monthly!J$2:J$180,MATCH($A27&$B27&$C27,[1]A_Monthly!$D$2:$D$180&[1]A_Monthly!$E$2:$E$180&[1]A_Monthly!$F$2:$F$180,0))))} -> 8 | L27: {=IF(ISERROR(INDEX([1]A_Monthly!K$2:K$180,MATCH($A27&$B27&$C27,[1]A_Monthly!$D$2:$D$180&[1]A_Monthly!$E$2:$E$180&[1]A_Monthly!$F$2:$F$180,0))),0,(INDEX([1]A_Monthly!K$2:K$180,MATCH($A27&$B27&$C27,[1]A_Monthly!$D$2:$D$180&[1]A_Monthly!$E$2:$E$180&[1]A_Monthly!$F$2:$F$180,0))))} -> 9 | M27: {=IF(ISERROR(INDEX([1]A_Monthly!L$2:L$180,MATCH($A27&$B27&$C27,[1]A_Monthly!$D$2:$D$180&[1]A_Monthly!$E$2:$E$180&[1]A_Monthly!$F$2:$F$180,0))),0,(INDEX([1]A_Monthly!L$2:L$180,MATCH($A27&$B27&$C27,[1]A_Monthly!$D$2:$D$180&[1]A_Monthly!$E$2:$E$180&[1]A_Monthly!$F$2:$F$180,0))))} -> 14 | N27: {=IF(ISERROR(INDEX([1]A_Monthly!M$2:M$180,MATCH($A27&$B27&$C27,[1]A_Monthly!$D$2:$D$180&[1]A_Monthly!$E$2:$E$180&[1]A_Monthly!$F$2:$F$180,0))),0,(INDEX([1]A_Monthly!M$2:M$180,MATCH($A27&$B27&$C27,[1]A_Monthly!$D$2:$D$180&[1]A_Monthly!$E$2:$E$180&[1]A_Monthly!$F$2:$F$180,0))))} -> 5 | O27: {=IF(ISERROR(INDEX([1]A_Monthly!N$2:N$180,MATCH($A27&$B27&$C27,[1]A_Monthly!$D$2:$D$180&[1]A_Monthly!$E$2:$E$180&[1]A_Monthly!$F$2:$F$180,0))),0,(INDEX([1]A_Monthly!N$2:N$180,MATCH($A27&$B27&$C27,[1]A_Monthly!$D$2:$D$180&[1]A_Monthly!$E$2:$E$180&[1]A_Monthly!$F$2:$F$180,0))))} -> 12 | ... AH27: {=IF(ISERROR(INDEX([1]A_Monthly!AG$2:AG$180,MATCH($A27&$B27&$C27,[1]A_Monthly!$D$2:$D$180&[1]A_Monthly!$E$2:$E$180&[1]A_Monthly!$F$2:$F$180,0))),0,(INDEX([1]A_Monthly!AG$2:AG$180,MATCH($A27&$B27&$C27,[1]A_Monthly!$D$2:$D$180&[1]A_Monthly!$E$2:$E$180&[1]A_Monthly!$F$2:$F$180,0))))} -> 10
D28: =SUM(D25:D27) -> 991 | E28: =SUM(E25:E27) -> 965 | F28: DV involved Total | H28: =SUM(H25:H27) -> 62 | I28: =SUM(I25:I27) -> 64 | J28: =SUM(J25:J27) -> 67 | K28: =SUM(K25:K27) -> 44 | L28: =SUM(L25:L27) -> 60 | M28: =SUM(M25:M27) -> 75 | N28: =SUM(N25:N27) -> 72 | O28: =SUM(O25:O27) -> 108 | ... AH28: =SUM(AH25:AH27) -> 80
A29: 11 | B29: 2 | C29: 1 | D29: {=IF(ISERROR(INDEX([1]A_Current!G$2:G$180,MATCH($A29&$B29&$C29,[1]A_Current!$D$2:$D$180&[1]A_Yearly!$E$2:$E$180&[1]A_Current!$F$2:$F$180,0))),0,(INDEX([1]A_Current!G$2:G$180,MATCH($A29&$B29&$C29,[1]A_Current!$D$2:$D$180&[1]A_Current!$E$2:$E$180&[1]A_Current!$F$2:$F$180,0))))} -> 514 | E29: {=IF(ISERROR(INDEX([1]A_Current!H$2:H$180,MATCH($A29&$B29&$C29,[1]A_Current!$D$2:$D$180&[1]A_Yearly!$E$2:$E$180&[1]A_Current!$F$2:$F$180,0))),0,(INDEX([1]A_Current!H$2:H$180,MATCH($A29&$B29&$C29,[1]A_Current!$D$2:$D$180&[1]A_Current!$E$2:$E$180&[1]A_Current!$F$2:$F$180,0))))} -> 461 | F29: DV not involved | G29: Alcohol involved | H29: {=IF(ISERROR(INDEX([1]A_Monthly!G$2:G$180,MATCH($A29&$B29&$C29,[1]A_Monthly!$D$2:$D$180&[1]A_Monthly!$E$2:$E$180&[1]A_Monthly!$F$2:$F$180,0))),0,(INDEX([1]A_Monthly!G$2:G$180,MATCH($A29&$B29&$C29,[1]A_Monthly!$D$2:$D$180&[1]A_Monthly!$E$2:$E$180&[1]A_Monthly!$F$2:$F$180,0))))} -> 38 | I29: {=IF(ISERROR(INDEX([1]A_Monthly!H$2:H$180,MATCH($A29&$B29&$C29,[1]A_Monthly!$D$2:$D$180&[1]A_Monthly!$E$2:$E$180&[1]A_Monthly!$F$2:$F$180,0))),0,(INDEX([1]A_Monthly!H$2:H$180,MATCH($A29&$B29&$C29,[1]A_Monthly!$D$2:$D$180&[1]A_Monthly!$E$2:$E$180&[1]A_Monthly!$F$2:$F$180,0))))} -> 35 | J29: {=IF(ISERROR(INDEX([1]A_Monthly!I$2:I$180,MATCH($A29&$B29&$C29,[1]A_Monthly!$D$2:$D$180&[1]A_Monthly!$E$2:$E$180&[1]A_Monthly!$F$2:$F$180,0))),0,(INDEX([1]A_Monthly!I$2:I$180,MATCH($A29&$B29&$C29,[1]A_Monthly!$D$2:$D$180&[1]A_Monthly!$E$2:$E$180&[1]A_Monthly!$F$2:$F$180,0))))} -> 30 | K29: {=IF(ISERROR(INDEX([1]A_Monthly!J$2:J$180,MATCH($A29&$B29&$C29,[1]A_Monthly!$D$2:$D$180&[1]A_Monthly!$E$2:$E$180&[1]A_Monthly!$F$2:$F$180,0))),0,(INDEX([1]A_Monthly!J$2:J$180,MATCH($A29&$B29&$C29,[1]A_Monthly!$D$2:$D$180&[1]A_Monthly!$E$2:$E$180&[1]A_Monthly!$F$2:$F$180,0))))} -> 45 | L29: {=IF(ISERROR(INDEX([1]A_Monthly!K$2:K$180,MATCH($A29&$B29&$C29,[1]A_Monthly!$D$2:$D$180&[1]A_Monthly!$E$2:$E$180&[1]A_Monthly!$F$2:$F$180,0))),0,(INDEX([1]A_Monthly!K$2:K$180,MATCH($A29&$B29&$C29,[1]A_Monthly!$D$2:$D$180&[1]A_Monthly!$E$2:$E$180&[1]A_Monthly!$F$2:$F$180,0))))} -> 58 | M29: {=IF(ISERROR(INDEX([1]A_Monthly!L$2:L$180,MATCH($A29&$B29&$C29,[1]A_Monthly!$D$2:$D$180&[1]A_Monthly!$E$2:$E$180&[1]A_Monthly!$F$2:$F$180,0))),0,(INDEX([1]A_Monthly!L$2:L$180,MATCH($A29&$B29&$C29,[1]A_Monthly!$D$2:$D$180&[1]A_Monthly!$E$2:$E$180&[1]A_Monthly!$F$2:$F$180,0))))} -> 53 | N29: {=IF(ISERROR(INDEX([1]A_Monthly!M$2:M$180,MATCH($A29&$B29&$C29,[1]A_Monthly!$D$2:$D$180&[1]A_Monthly!$E$2:$E$180&[1]A_Monthly!$F$2:$F$180,0))),0,(INDEX([1]A_Monthly!M$2:M$180,MATCH($A29&$B29&$C29,[1]A_Monthly!$D$2:$D$180&[1]A_Monthly!$E$2:$E$180&[1]A_Monthly!$F$2:$F$180,0))))} -> 47 | O29: {=IF(ISERROR(INDEX([1]A_Monthly!N$2:N$180,MATCH($A29&$B29&$C29,[1]A_Monthly!$D$2:$D$180&[1]A_Monthly!$E$2:$E$180&[1]A_Monthly!$F$2:$F$180,0))),0,(INDEX([1]A_Monthly!N$2:N$180,MATCH($A29&$B29&$C29,[1]A_Monthly!$D$2:$D$180&[1]A_Monthly!$E$2:$E$180&[1]A_Monthly!$F$2:$F$180,0))))} -> 43 | ... AH29: {=IF(ISERROR(INDEX([1]A_Monthly!AG$2:AG$180,MATCH($A29&$B29&$C29,[1]A_Monthly!$D$2:$D$180&[1]A_Monthly!$E$2:$E$180&[1]A_Monthly!$F$2:$F$180,0))),0,(INDEX([1]A_Monthly!AG$2:AG$180,MATCH($A29&$B29&$C29,[1]A_Monthly!$D$2:$D$180&[1]A_Monthly!$E$2:$E$180&[1]A_Monthly!$F$2:$F$180,0))))} -> 47
A30: 11 | B30: 2 | C30: 2 | D30: {=IF(ISERROR(INDEX([1]A_Current!G$2:G$180,MATCH($A30&$B30&$C30,[1]A_Current!$D$2:$D$180&[1]A_Yearly!$E$2:$E$180&[1]A_Current!$F$2:$F$180,0))),0,(INDEX([1]A_Current!G$2:G$180,MATCH($A30&$B30&$C30,[1]A_Current!$D$2:$D$180&[1]A_Current!$E$2:$E$180&[1]A_Current!$F$2:$F$180,0))))} -> 242 | E30: {=IF(ISERROR(INDEX([1]A_Current!H$2:H$180,MATCH($A30&$B30&$C30,[1]A_Current!$D$2:$D$180&[1]A_Yearly!$E$2:$E$180&[1]A_Current!$F$2:$F$180,0))),0,(INDEX([1]A_Current!H$2:H$180,MATCH($A30&$B30&$C30,[1]A_Current!$D$2:$D$180&[1]A_Current!$E$2:$E$180&[1]A_Current!$F$2:$F$180,0))))} -> 220 | G30: No alcohol involved | H30: {=IF(ISERROR(INDEX([1]A_Monthly!G$2:G$180,MATCH($A30&$B30&$C30,[1]A_Monthly!$D$2:$D$180&[1]A_Monthly!$E$2:$E$180&[1]A_Monthly!$F$2:$F$180,0))),0,(INDEX([1]A_Monthly!G$2:G$180,MATCH($A30&$B30&$C30,[1]A_Monthly!$D$2:$D$180&[1]A_Monthly!$E$2:$E$180&[1]A_Monthly!$F$2:$F$180,0))))} -> 13 | I30: {=IF(ISERROR(INDEX([1]A_Monthly!H$2:H$180,MATCH($A30&$B30&$C30,[1]A_Monthly!$D$2:$D$180&[1]A_Monthly!$E$2:$E$180&[1]A_Monthly!$F$2:$F$180,0))),0,(INDEX([1]A_Monthly!H$2:H$180,MATCH($A30&$B30&$C30,[1]A_Monthly!$D$2:$D$180&[1]A_Monthly!$E$2:$E$180&[1]A_Monthly!$F$2:$F$180,0))))} -> 28 | J30: {=IF(ISERROR(INDEX([1]A_Monthly!I$2:I$180,MATCH($A30&$B30&$C30,[1]A_Monthly!$D$2:$D$180&[1]A_Monthly!$E$2:$E$180&[1]A_Monthly!$F$2:$F$180,0))),0,(INDEX([1]A_Monthly!I$2:I$180,MATCH($A30&$B30&$C30,[1]A_Monthly!$D$2:$D$180&[1]A_Monthly!$E$2:$E$180&[1]A_Monthly!$F$2:$F$180,0))))} -> 19 | K30: {=IF(ISERROR(INDEX([1]A_Monthly!J$2:J$180,MATCH($A30&$B30&$C30,[1]A_Monthly!$D$2:$D$180&[1]A_Monthly!$E$2:$E$180&[1]A_Monthly!$F$2:$F$180,0))),0,(INDEX([1]A_Monthly!J$2:J$180,MATCH($A30&$B30&$C30,[1]A_Monthly!$D$2:$D$180&[1]A_Monthly!$E$2:$E$180&[1]A_Monthly!$F$2:$F$180,0))))} -> 15 | L30: {=IF(ISERROR(INDEX([1]A_Monthly!K$2:K$180,MATCH($A30&$B30&$C30,[1]A_Monthly!$D$2:$D$180&[1]A_Monthly!$E$2:$E$180&[1]A_Monthly!$F$2:$F$180,0))),0,(INDEX([1]A_Monthly!K$2:K$180,MATCH($A30&$B30&$C30,[1]A_Monthly!$D$2:$D$180&[1]A_Monthly!$E$2:$E$180&[1]A_Monthly!$F$2:$F$180,0))))} -> 15 | M30: {=IF(ISERROR(INDEX([1]A_Monthly!L$2:L$180,MATCH($A30&$B30&$C30,[1]A_Monthly!$D$2:$D$180&[1]A_Monthly!$E$2:$E$180&[1]A_Monthly!$F$2:$F$180,0))),0,(INDEX([1]A_Monthly!L$2:L$180,MATCH($A30&$B30&$C30,[1]A_Monthly!$D$2:$D$180&[1]A_Monthly!$E$2:$E$180&[1]A_Monthly!$F$2:$F$180,0))))} -> 24 | N30: {=IF(ISERROR(INDEX([1]A_Monthly!M$2:M$180,MATCH($A30&$B30&$C30,[1]A_Monthly!$D$2:$D$180&[1]A_Monthly!$E$2:$E$180&[1]A_Monthly!$F$2:$F$180,0))),0,(INDEX([1]A_Monthly!M$2:M$180,MATCH($A30&$B30&$C30,[1]A_Monthly!$D$2:$D$180&[1]A_Monthly!$E$2:$E$180&[1]A_Monthly!$F$2:$F$180,0))))} -> 29 | O30: {=IF(ISERROR(INDEX([1]A_Monthly!N$2:N$180,MATCH($A30&$B30&$C30,[1]A_Monthly!$D$2:$D$180&[1]A_Monthly!$E$2:$E$180&[1]A_Monthly!$F$2:$F$180,0))),0,(INDEX([1]A_Monthly!N$2:N$180,MATCH($A30&$B30&$C30,[1]A_Monthly!$D$2:$D$180&[1]A_Monthly!$E$2:$E$180&[1]A_Monthly!$F$2:$F$180,0))))} -> 29 | ... AH30: {=IF(ISERROR(INDEX([1]A_Monthly!AG$2:AG$180,MATCH($A30&$B30&$C30,[1]A_Monthly!$D$2:$D$180&[1]A_Monthly!$E$2:$E$180&[1]A_Monthly!$F$2:$F$180,0))),0,(INDEX([1]A_Monthly!AG$2:AG$180,MATCH($A30&$B30&$C30,[1]A_Monthly!$D$2:$D$180&[1]A_Monthly!$E$2:$E$180&[1]A_Monthly!$F$2:$F$180,0))))} -> 21
A31: 11 | B31: 2 | C31: 3 | D31: {=IF(ISERROR(INDEX([1]A_Current!G$2:G$180,MATCH($A31&$B31&$C31,[1]A_Current!$D$2:$D$180&[1]A_Yearly!$E$2:$E$180&[1]A_Current!$F$2:$F$180,0))),0,(INDEX([1]A_Current!G$2:G$180,MATCH($A31&$B31&$C31,[1]A_Current!$D$2:$D$180&[1]A_Current!$E$2:$E$180&[1]A_Current!$F$2:$F$180,0))))} -> 286 | E31: {=IF(ISERROR(INDEX([1]A_Current!H$2:H$180,MATCH($A31&$B31&$C31,[1]A_Current!$D$2:$D$180&[1]A_Yearly!$E$2:$E$180&[1]A_Current!$F$2:$F$180,0))),0,(INDEX([1]A_Current!H$2:H$180,MATCH($A31&$B31&$C31,[1]A_Current!$D$2:$D$180&[1]A_Current!$E$2:$E$180&[1]A_Current!$F$2:$F$180,0))))} -> 394 | G31: Not known | H31: {=IF(ISERROR(INDEX([1]A_Monthly!G$2:G$180,MATCH($A31&$B31&$C31,[1]A_Monthly!$D$2:$D$180&[1]A_Monthly!$E$2:$E$180&[1]A_Monthly!$F$2:$F$180,0))),0,(INDEX([1]A_Monthly!G$2:G$180,MATCH($A31&$B31&$C31,[1]A_Monthly!$D$2:$D$180&[1]A_Monthly!$E$2:$E$180&[1]A_Monthly!$F$2:$F$180,0))))} -> 28 | I31: {=IF(ISERROR(INDEX([1]A_Monthly!H$2:H$180,MATCH($A31&$B31&$C31,[1]A_Monthly!$D$2:$D$180&[1]A_Monthly!$E$2:$E$180&[1]A_Monthly!$F$2:$F$180,0))),0,(INDEX([1]A_Monthly!H$2:H$180,MATCH($A31&$B31&$C31,[1]A_Monthly!$D$2:$D$180&[1]A_Monthly!$E$2:$E$180&[1]A_Monthly!$F$2:$F$180,0))))} -> 39 | J31: {=IF(ISERROR(INDEX([1]A_Monthly!I$2:I$180,MATCH($A31&$B31&$C31,[1]A_Monthly!$D$2:$D$180&[1]A_Monthly!$E$2:$E$180&[1]A_Monthly!$F$2:$F$180,0))),0,(INDEX([1]A_Monthly!I$2:I$180,MATCH($A31&$B31&$C31,[1]A_Monthly!$D$2:$D$180&[1]A_Monthly!$E$2:$E$180&[1]A_Monthly!$F$2:$F$180,0))))} -> 28 | K31: {=IF(ISERROR(INDEX([1]A_Monthly!J$2:J$180,MATCH($A31&$B31&$C31,[1]A_Monthly!$D$2:$D$180&[1]A_Monthly!$E$2:$E$180&[1]A_Monthly!$F$2:$F$180,0))),0,(INDEX([1]A_Monthly!J$2:J$180,MATCH($A31&$B31&$C31,[1]A_Monthly!$D$2:$D$180&[1]A_Monthly!$E$2:$E$180&[1]A_Monthly!$F$2:$F$180,0))))} -> 14 | L31: {=IF(ISERROR(INDEX([1]A_Monthly!K$2:K$180,MATCH($A31&$B31&$C31,[1]A_Monthly!$D$2:$D$180&[1]A_Monthly!$E$2:$E$180&[1]A_Monthly!$F$2:$F$180,0))),0,(INDEX([1]A_Monthly!K$2:K$180,MATCH($A31&$B31&$C31,[1]A_Monthly!$D$2:$D$180&[1]A_Monthly!$E$2:$E$180&[1]A_Monthly!$F$2:$F$180,0))))} -> 33 | M31: {=IF(ISERROR(INDEX([1]A_Monthly!L$2:L$180,MATCH($A31&$B31&$C31,[1]A_Monthly!$D$2:$D$180&[1]A_Monthly!$E$2:$E$180&[1]A_Monthly!$F$2:$F$180,0))),0,(INDEX([1]A_Monthly!L$2:L$180,MATCH($A31&$B31&$C31,[1]A_Monthly!$D$2:$D$180&[1]A_Monthly!$E$2:$E$180&[1]A_Monthly!$F$2:$F$180,0))))} -> 27 | N31: {=IF(ISERROR(INDEX([1]A_Monthly!M$2:M$180,MATCH($A31&$B31&$C31,[1]A_Monthly!$D$2:$D$180&[1]A_Monthly!$E$2:$E$180&[1]A_Monthly!$F$2:$F$180,0))),0,(INDEX([1]A_Monthly!M$2:M$180,MATCH($A31&$B31&$C31,[1]A_Monthly!$D$2:$D$180&[1]A_Monthly!$E$2:$E$180&[1]A_Monthly!$F$2:$F$180,0))))} -> 21 | O31: {=IF(ISERROR(INDEX([1]A_Monthly!N$2:N$180,MATCH($A31&$B31&$C31,[1]A_Monthly!$D$2:$D$180&[1]A_Monthly!$E$2:$E$180&[1]A_Monthly!$F$2:$F$180,0))),0,(INDEX([1]A_Monthly!N$2:N$180,MATCH($A31&$B31&$C31,[1]A_Monthly!$D$2:$D$180&[1]A_Monthly!$E$2:$E$180&[1]A_Monthly!$F$2:$F$180,0))))} -> 23 | ... AH31: {=IF(ISERROR(INDEX([1]A_Monthly!AG$2:AG$180,MATCH($A31&$B31&$C31,[1]A_Monthly!$D$2:$D$180&[1]A_Monthly!$E$2:$E$180&[1]A_Monthly!$F$2:$F$180,0))),0,(INDEX([1]A_Monthly!AG$2:AG$180,MATCH($A31&$B31&$C31,[1]A_Monthly!$D$2:$D$180&[1]A_Monthly!$E$2:$E$180&[1]A_Monthly!$F$2:$F$180,0))))} -> 33
D32: =SUM(D29:D31) -> 1042 | E32: =SUM(E29:E31) -> 1075 | F32: DV not involved Total | H32: =SUM(H29:H31) -> 79 | I32: =SUM(I29:I31) -> 102 | J32: =SUM(J29:J31) -> 77 | K32: =SUM(K29:K31) -> 74 | L32: =SUM(L29:L31) -> 106 | M32: =SUM(M29:M31) -> 104 | N32: =SUM(N29:N31) -> 97 | O32: =SUM(O29:O31) -> 95 | ... AH32: =SUM(AH29:AH31) -> 101
D33: =D28+D32 -> 2033 | E33: =E28+E32 -> 2040 | F33: Total assaults | H33: =H28+H32 -> 141 | I33: =I28+I32 -> 166 | J33: =J28+J32 -> 144 | K33: =K28+K32 -> 118 | L33: =L28+L32 -> 166 | M33: =M28+M32 -> 179 | N33: =N28+N32 -> 169 | O33: =O28+O32 -> 203 | ... AH33: =AH28+AH32 -> 181
D34: =D25+D29 -> 1181 | E34: =E25+E29 -> 1132 | F34: Assaults with alcohol involved | H34: =H25+H29 -> 75 | I34: =I25+I29 -> 76 | J34: =J25+J29 -> 78 | K34: =K25+K29 -> 77 | L34: =L25+L29 -> 103 | M34: =M25+M29 -> 107 | N34: =N25+N29 -> 98 | O34: =O25+O29 -> 110 | ... AH34: =AH25+AH29 -> 104
D35: =D26+D30 -> 432 | E35: =E26+E30 -> 390 | F35: Assaults with no alcohol involved | H35: =H26+H30 -> 26 | I35: =I26+I30 -> 39 | J35: =J26+J30 -> 33 | K35: =K26+K30 -> 19 | L35: =L26+L30 -> 21 | M35: =M26+M30 -> 31 | N35: =N26+N30 -> 45 | O35: =O26+O30 -> 58 | ... AH35: =AH26+AH30 -> 34
D36: =D27+D31 -> 420 | E36: =E27+E31 -> 518 | F36: Assaults with alcohol involvement unknown | H36: =H27+H31 -> 40 | I36: =I27+I31 -> 51 | J36: =J27+J31 -> 33 | K36: =K27+K31 -> 22 | L36: =L27+L31 -> 42 | M36: =M27+M31 -> 41 | N36: =N27+N31 -> 26 | O36: =O27+O31 -> 35 | ... AH36: =AH27+AH31 -> 43
F37: % of assaults associated with domestic violence | H37: =H28/H33 -> 0.43971631 | I37: =I28/I33 -> 0.38554217 | J37: =J28/J33 -> 0.46527778 | K37: =K28/K33 -> 0.37288136 | L37: =L28/L33 -> 0.36144578 | M37: =M28/M33 -> 0.41899441 | N37: =N28/N33 -> 0.4260355 | O37: =O28/O33 -> 0.5320197 | ... AH37: =AH28/AH33 -> 0.44198895
F38: % of assaults associated with alcohol | H38: =(H25+H29)/H33 -> 0.53191489 | I38: =(I25+I29)/I33 -> 0.45783133 | J38: =(J25+J29)/J33 -> 0.54166667 | K38: =(K25+K29)/K33 -> 0.65254237 | L38: =(L25+L29)/L33 -> 0.62048193 | M38: =(M25+M29)/M33 -> 0.59776536 | N38: =(N25+N29)/N33 -> 0.57988166 | O38: =(O25+O29)/O33 -> 0.54187192 | ... AH38: =(AH25+AH29)/AH33 -> 0.57458564
F39: =$F$20 -> Data extracted from PROMIS on 01/06/2022
F40: =$F$21 -> Shaded months should be treated as provisional
F41: Palmerston Assault Statistics
F42: =$F$4 -> Data through April 2022
D43: =[1]A_Current!$G$2 -> P1 | E43: =[1]A_Current!$H$2 -> P2 | F43: Domestic violence | G43: Alcohol involvement | H43: =$H$5 -> Feb-20 | I43: =$I$5 -> Mar-20 | J43: =$J$5 -> Apr-20 | K43: =$K$5 -> May-20 | L43: =$L$5 -> Jun-20 | M43: =$M$5 -> Jul-20 | N43: =$N$5 -> Aug-20 | O43: =$O$5 -> Sep-20 | P43: =$P$5 -> Oct-20 | Q43: =$Q$5 -> Nov-20 | R43: =$R$5 -> Dec-20 | S43: =$S$5 -> Jan-21 | T43: =$T$5 -> Feb-21 | U43: =$U$5 -> Mar-21 | V43: =$V$5 -> Apr-21 | W43: =$W$5 -> May-21 | X43: =$X$5 -> Jun-21 | Y43: =$Y$5 -> Jul-21 | Z43: =$Z$5 -> Aug-21 | AA43: =$AA$5 -> Sep-21 | AB43: =$AB$5 -> Oct-21 | AC43: =$AC$5 -> Nov-21 | AD43: =$AD$5 -> Dec-21 | AE43: =$AE$5 -> Jan-22 | AF43: =$AF$5 -> Feb-22 | AG43: =$AG$5 -> Mar-22 | AH43: =$AH$5 -> Apr-22
A44: 12 | B44: 1 | C44: 1 | D44: {=IF(ISERROR(INDEX([1]A_Current!G$2:G$180,MATCH($A44&$B44&$C44,[1]A_Current!$D$2:$D$180&[1]A_Yearly!$E$2:$E$180&[1]A_Current!$F$2:$F$180,0))),0,(INDEX([1]A_Current!G$2:G$180,MATCH($A44&$B44&$C44,[1]A_Current!$D$2:$D$180&[1]A_Current!$E$2:$E$180&[1]A_Current!$F$2:$F$180,0))))} -> 296 | E44: {=IF(ISERROR(INDEX([1]A_Current!H$2:H$180,MATCH($A44&$B44&$C44,[1]A_Current!$D$2:$D$180&[1]A_Yearly!$E$2:$E$180&[1]A_Current!$F$2:$F$180,0))),0,(INDEX([1]A_Current!H$2:H$180,MATCH($A44&$B44&$C44,[1]A_Current!$D$2:$D$180&[1]A_Current!$E$2:$E$180&[1]A_Current!$F$2:$F$180,0))))} -> 269 | F44: DV involved | G44: Alcohol involved | H44: {=IF(ISERROR(INDEX([1]A_Monthly!G$2:G$180,MATCH($A44&$B44&$C44,[1]A_Monthly!$D$2:$D$180&[1]A_Monthly!$E$2:$E$180&[1]A_Monthly!$F$2:$F$180,0))),0,(INDEX([1]A_Monthly!G$2:G$180,MATCH($A44&$B44&$C44,[1]A_Monthly!$D$2:$D$180&[1]A_Monthly!$E$2:$E$180&[1]A_Monthly!$F$2:$F$180,0))))} -> 10 | I44: {=IF(ISERROR(INDEX([1]A_Monthly!H$2:H$180,MATCH($A44&$B44&$C44,[1]A_Monthly!$D$2:$D$180&[1]A_Monthly!$E$2:$E$180&[1]A_Monthly!$F$2:$F$180,0))),0,(INDEX([1]A_Monthly!H$2:H$180,MATCH($A44&$B44&$C44,[1]A_Monthly!$D$2:$D$180&[1]A_Monthly!$E$2:$E$180&[1]A_Monthly!$F$2:$F$180,0))))} -> 17 | J44: {=IF(ISERROR(INDEX([1]A_Monthly!I$2:I$180,MATCH($A44&$B44&$C44,[1]A_Monthly!$D$2:$D$180&[1]A_Monthly!$E$2:$E$180&[1]A_Monthly!$F$2:$F$180,0))),0,(INDEX([1]A_Monthly!I$2:I$180,MATCH($A44&$B44&$C44,[1]A_Monthly!$D$2:$D$180&[1]A_Monthly!$E$2:$E$180&[1]A_Monthly!$F$2:$F$180,0))))} -> 25 | K44: {=IF(ISERROR(INDEX([1]A_Monthly!J$2:J$180,MATCH($A44&$B44&$C44,[1]A_Monthly!$D$2:$D$180&[1]A_Monthly!$E$2:$E$180&[1]A_Monthly!$F$2:$F$180,0))),0,(INDEX([1]A_Monthly!J$2:J$180,MATCH($A44&$B44&$C44,[1]A_Monthly!$D$2:$D$180&[1]A_Monthly!$E$2:$E$180&[1]A_Monthly!$F$2:$F$180,0))))} -> 24 | L44: {=IF(ISERROR(INDEX([1]A_Monthly!K$2:K$180,MATCH($A44&$B44&$C44,[1]A_Monthly!$D$2:$D$180&[1]A_Monthly!$E$2:$E$180&[1]A_Monthly!$F$2:$F$180,0))),0,(INDEX([1]A_Monthly!K$2:K$180,MATCH($A44&$B44&$C44,[1]A_Monthly!$D$2:$D$180&[1]A_Monthly!$E$2:$E$180&[1]A_Monthly!$F$2:$F$180,0))))} -> 18 | M44: {=IF(ISERROR(INDEX([1]A_Monthly!L$2:L$180,MATCH($A44&$B44&$C44,[1]A_Monthly!$D$2:$D$180&[1]A_Monthly!$E$2:$E$180&[1]A_Monthly!$F$2:$F$180,0))),0,(INDEX([1]A_Monthly!L$2:L$180,MATCH($A44&$B44&$C44,[1]A_Monthly!$D$2:$D$180&[1]A_Monthly!$E$2:$E$180&[1]A_Monthly!$F$2:$F$180,0))))} -> 26 | N44: {=IF(ISERROR(INDEX([1]A_Monthly!M$2:M$180,MATCH($A44&$B44&$C44,[1]A_Monthly!$D$2:$D$180&[1]A_Monthly!$E$2:$E$180&[1]A_Monthly!$F$2:$F$180,0))),0,(INDEX([1]A_Monthly!M$2:M$180,MATCH($A44&$B44&$C44,[1]A_Monthly!$D$2:$D$180&[1]A_Monthly!$E$2:$E$180&[1]A_Monthly!$F$2:$F$180,0))))} -> 20 | O44: {=IF(ISERROR(INDEX([1]A_Monthly!N$2:N$180,MATCH($A44&$B44&$C44,[1]A_Monthly!$D$2:$D$180&[1]A_Monthly!$E$2:$E$180&[1]A_Monthly!$F$2:$F$180,0))),0,(INDEX([1]A_Monthly!N$2:N$180,MATCH($A44&$B44&$C44,[1]A_Monthly!$D$2:$D$180&[1]A_Monthly!$E$2:$E$180&[1]A_Monthly!$F$2:$F$180,0))))} -> 13 | ... AH44: {=IF(ISERROR(INDEX([1]A_Monthly!AG$2:AG$180,MATCH($A44&$B44&$C44,[1]A_Monthly!$D$2:$D$180&[1]A_Monthly!$E$2:$E$180&[1]A_Monthly!$F$2:$F$180,0))),0,(INDEX([1]A_Monthly!AG$2:AG$180,MATCH($A44&$B44&$C44,[1]A_Monthly!$D$2:$D$180&[1]A_Monthly!$E$2:$E$180&[1]A_Monthly!$F$2:$F$180,0))))} -> 30
A45: 12 | B45: 1 | C45: 2 | D45: {=IF(ISERROR(INDEX([1]A_Current!G$2:G$180,MATCH($A45&$B45&$C45,[1]A_Current!$D$2:$D$180&[1]A_Yearly!$E$2:$E$180&[1]A_Current!$F$2:$F$180,0))),0,(INDEX([1]A_Current!G$2:G$180,MATCH($A45&$B45&$C45,[1]A_Current!$D$2:$D$180&[1]A_Current!$E$2:$E$180&[1]A_Current!$F$2:$F$180,0))))} -> 108 | E45: {=IF(ISERROR(INDEX([1]A_Current!H$2:H$180,MATCH($A45&$B45&$C45,[1]A_Current!$D$2:$D$180&[1]A_Yearly!$E$2:$E$180&[1]A_Current!$F$2:$F$180,0))),0,(INDEX([1]A_Current!H$2:H$180,MATCH($A45&$B45&$C45,[1]A_Current!$D$2:$D$180&[1]A_Current!$E$2:$E$180&[1]A_Current!$F$2:$F$180,0))))} -> 101 | G45: No alcohol involved | H45: {=IF(ISERROR(INDEX([1]A_Monthly!G$2:G$180,MATCH($A45&$B45&$C45,[1]A_Monthly!$D$2:$D$180&[1]A_Monthly!$E$2:$E$180&[1]A_Monthly!$F$2:$F$180,0))),0,(INDEX([1]A_Monthly!G$2:G$180,MATCH($A45&$B45&$C45,[1]A_Monthly!$D$2:$D$180&[1]A_Monthly!$E$2:$E$180&[1]A_Monthly!$F$2:$F$180,0))))} -> 6 | I45: {=IF(ISERROR(INDEX([1]A_Monthly!H$2:H$180,MATCH($A45&$B45&$C45,[1]A_Monthly!$D$2:$D$180&[1]A_Monthly!$E$2:$E$180&[1]A_Monthly!$F$2:$F$180,0))),0,(INDEX([1]A_Monthly!H$2:H$180,MATCH($A45&$B45&$C45,[1]A_Monthly!$D$2:$D$180&[1]A_Monthly!$E$2:$E$180&[1]A_Monthly!$F$2:$F$180,0))))} -> 10 | J45: {=IF(ISERROR(INDEX([1]A_Monthly!I$2:I$180,MATCH($A45&$B45&$C45,[1]A_Monthly!$D$2:$D$180&[1]A_Monthly!$E$2:$E$180&[1]A_Monthly!$F$2:$F$180,0))),0,(INDEX([1]A_Monthly!I$2:I$180,MATCH($A45&$B45&$C45,[1]A_Monthly!$D$2:$D$180&[1]A_Monthly!$E$2:$E$180&[1]A_Monthly!$F$2:$F$180,0))))} -> 6 | K45: {=IF(ISERROR(INDEX([1]A_Monthly!J$2:J$180,MATCH($A45&$B45&$C45,[1]A_Monthly!$D$2:$D$180&[1]A_Monthly!$E$2:$E$180&[1]A_Monthly!$F$2:$F$180,0))),0,(INDEX([1]A_Monthly!J$2:J$180,MATCH($A45&$B45&$C45,[1]A_Monthly!$D$2:$D$180&[1]A_Monthly!$E$2:$E$180&[1]A_Monthly!$F$2:$F$180,0))))} -> 7 | L45: {=IF(ISERROR(INDEX([1]A_Monthly!K$2:K$180,MATCH($A45&$B45&$C45,[1]A_Monthly!$D$2:$D$180&[1]A_Monthly!$E$2:$E$180&[1]A_Monthly!$F$2:$F$180,0))),0,(INDEX([1]A_Monthly!K$2:K$180,MATCH($A45&$B45&$C45,[1]A_Monthly!$D$2:$D$180&[1]A_Monthly!$E$2:$E$180&[1]A_Monthly!$F$2:$F$180,0))))} -> 9 | M45: {=IF(ISERROR(INDEX([1]A_Monthly!L$2:L$180,MATCH($A45&$B45&$C45,[1]A_Monthly!$D$2:$D$180&[1]A_Monthly!$E$2:$E$180&[1]A_Monthly!$F$2:$F$180,0))),0,(INDEX([1]A_Monthly!L$2:L$180,MATCH($A45&$B45&$C45,[1]A_Monthly!$D$2:$D$180&[1]A_Monthly!$E$2:$E$180&[1]A_Monthly!$F$2:$F$180,0))))} -> 4 | N45: {=IF(ISERROR(INDEX([1]A_Monthly!M$2:M$180,MATCH($A45&$B45&$C45,[1]A_Monthly!$D$2:$D$180&[1]A_Monthly!$E$2:$E$180&[1]A_Monthly!$F$2:$F$180,0))),0,(INDEX([1]A_Monthly!M$2:M$180,MATCH($A45&$B45&$C45,[1]A_Monthly!$D$2:$D$180&[1]A_Monthly!$E$2:$E$180&[1]A_Monthly!$F$2:$F$180,0))))} -> 13 | O45: {=IF(ISERROR(INDEX([1]A_Monthly!N$2:N$180,MATCH($A45&$B45&$C45,[1]A_Monthly!$D$2:$D$180&[1]A_Monthly!$E$2:$E$180&[1]A_Monthly!$F$2:$F$180,0))),0,(INDEX([1]A_Monthly!N$2:N$180,MATCH($A45&$B45&$C45,[1]A_Monthly!$D$2:$D$180&[1]A_Monthly!$E$2:$E$180&[1]A_Monthly!$F$2:$F$180,0))))} -> 8 | ... AH45: {=IF(ISERROR(INDEX([1]A_Monthly!AG$2:AG$180,MATCH($A45&$B45&$C45,[1]A_Monthly!$D$2:$D$180&[1]A_Monthly!$E$2:$E$180&[1]A_Monthly!$F$2:$F$180,0))),0,(INDEX([1]A_Monthly!AG$2:AG$180,MATCH($A45&$B45&$C45,[1]A_Monthly!$D$2:$D$180&[1]A_Monthly!$E$2:$E$180&[1]A_Monthly!$F$2:$F$180,0))))} -> 10
A46: 12 | B46: 1 | C46: 3 | D46: {=IF(ISERROR(INDEX([1]A_Current!G$2:G$180,MATCH($A46&$B46&$C46,[1]A_Current!$D$2:$D$180&[1]A_Yearly!$E$2:$E$180&[1]A_Current!$F$2:$F$180,0))),0,(INDEX([1]A_Current!G$2:G$180,MATCH($A46&$B46&$C46,[1]A_Current!$D$2:$D$180&[1]A_Current!$E$2:$E$180&[1]A_Current!$F$2:$F$180,0))))} -> 59 | E46: {=IF(ISERROR(INDEX([1]A_Current!H$2:H$180,MATCH($A46&$B46&$C46,[1]A_Current!$D$2:$D$180&[1]A_Yearly!$E$2:$E$180&[1]A_Current!$F$2:$F$180,0))),0,(INDEX([1]A_Current!H$2:H$180,MATCH($A46&$B46&$C46,[1]A_Current!$D$2:$D$180&[1]A_Current!$E$2:$E$180&[1]A_Current!$F$2:$F$180,0))))} -> 69 | G46: Not known | H46: {=IF(ISERROR(INDEX([1]A_Monthly!G$2:G$180,MATCH($A46&$B46&$C46,[1]A_Monthly!$D$2:$D$180&[1]A_Monthly!$E$2:$E$180&[1]A_Monthly!$F$2:$F$180,0))),0,(INDEX([1]A_Monthly!G$2:G$180,MATCH($A46&$B46&$C46,[1]A_Monthly!$D$2:$D$180&[1]A_Monthly!$E$2:$E$180&[1]A_Monthly!$F$2:$F$180,0))))} -> 3 | I46: {=IF(ISERROR(INDEX([1]A_Monthly!H$2:H$180,MATCH($A46&$B46&$C46,[1]A_Monthly!$D$2:$D$180&[1]A_Monthly!$E$2:$E$180&[1]A_Monthly!$F$2:$F$180,0))),0,(INDEX([1]A_Monthly!H$2:H$180,MATCH($A46&$B46&$C46,[1]A_Monthly!$D$2:$D$180&[1]A_Monthly!$E$2:$E$180&[1]A_Monthly!$F$2:$F$180,0))))} -> 1 | J46: {=IF(ISERROR(INDEX([1]A_Monthly!I$2:I$180,MATCH($A46&$B46&$C46,[1]A_Monthly!$D$2:$D$180&[1]A_Monthly!$E$2:$E$180&[1]A_Monthly!$F$2:$F$180,0))),0,(INDEX([1]A_Monthly!I$2:I$180,MATCH($A46&$B46&$C46,[1]A_Monthly!$D$2:$D$180&[1]A_Monthly!$E$2:$E$180&[1]A_Monthly!$F$2:$F$180,0))))} -> 2 | K46: {=IF(ISERROR(INDEX([1]A_Monthly!J$2:J$180,MATCH($A46&$B46&$C46,[1]A_Monthly!$D$2:$D$180&[1]A_Monthly!$E$2:$E$180&[1]A_Monthly!$F$2:$F$180,0))),0,(INDEX([1]A_Monthly!J$2:J$180,MATCH($A46&$B46&$C46,[1]A_Monthly!$D$2:$D$180&[1]A_Monthly!$E$2:$E$180&[1]A_Monthly!$F$2:$F$180,0))))} -> 2 | L46: {=IF(ISERROR(INDEX([1]A_Monthly!K$2:K$180,MATCH($A46&$B46&$C46,[1]A_Monthly!$D$2:$D$180&[1]A_Monthly!$E$2:$E$180&[1]A_Monthly!$F$2:$F$180,0))),0,(INDEX([1]A_Monthly!K$2:K$180,MATCH($A46&$B46&$C46,[1]A_Monthly!$D$2:$D$180&[1]A_Monthly!$E$2:$E$180&[1]A_Monthly!$F$2:$F$180,0))))} -> 5 | M46: {=IF(ISERROR(INDEX([1]A_Monthly!L$2:L$180,MATCH($A46&$B46&$C46,[1]A_Monthly!$D$2:$D$180&[1]A_Monthly!$E$2:$E$180&[1]A_Monthly!$F$2:$F$180,0))),0,(INDEX([1]A_Monthly!L$2:L$180,MATCH($A46&$B46&$C46,[1]A_Monthly!$D$2:$D$180&[1]A_Monthly!$E$2:$E$180&[1]A_Monthly!$F$2:$F$180,0))))} -> 3 | N46: {=IF(ISERROR(INDEX([1]A_Monthly!M$2:M$180,MATCH($A46&$B46&$C46,[1]A_Monthly!$D$2:$D$180&[1]A_Monthly!$E$2:$E$180&[1]A_Monthly!$F$2:$F$180,0))),0,(INDEX([1]A_Monthly!M$2:M$180,MATCH($A46&$B46&$C46,[1]A_Monthly!$D$2:$D$180&[1]A_Monthly!$E$2:$E$180&[1]A_Monthly!$F$2:$F$180,0))))} -> 3 | O46: {=IF(ISERROR(INDEX([1]A_Monthly!N$2:N$180,MATCH($A46&$B46&$C46,[1]A_Monthly!$D$2:$D$180&[1]A_Monthly!$E$2:$E$180&[1]A_Monthly!$F$2:$F$180,0))),0,(INDEX([1]A_Monthly!N$2:N$180,MATCH($A46&$B46&$C46,[1]A_Monthly!$D$2:$D$180&[1]A_Monthly!$E$2:$E$180&[1]A_Monthly!$F$2:$F$180,0))))} -> 3 | ... AH46: {=IF(ISERROR(INDEX([1]A_Monthly!AG$2:AG$180,MATCH($A46&$B46&$C46,[1]A_Monthly!$D$2:$D$180&[1]A_Monthly!$E$2:$E$180&[1]A_Monthly!$F$2:$F$180,0))),0,(INDEX([1]A_Monthly!AG$2:AG$180,MATCH($A46&$B46&$C46,[1]A_Monthly!$D$2:$D$180&[1]A_Monthly!$E$2:$E$180&[1]A_Monthly!$F$2:$F$180,0))))} -> 7
D47: =SUM(D44:D46) -> 463 | E47: =SUM(E44:E46) -> 439 | F47: DV involved Total | H47: =SUM(H44:H46) -> 19 | I47: =SUM(I44:I46) -> 28 | J47: =SUM(J44:J46) -> 33 | K47: =SUM(K44:K46) -> 33 | L47: =SUM(L44:L46) -> 32 | M47: =SUM(M44:M46) -> 33 | N47: =SUM(N44:N46) -> 36 | O47: =SUM(O44:O46) -> 24 | ... AH47: =SUM(AH44:AH46) -> 47
A48: 12 | B48: 2 | C48: 1 | D48: {=IF(ISERROR(INDEX([1]A_Current!G$2:G$180,MATCH($A48&$B48&$C48,[1]A_Current!$D$2:$D$180&[1]A_Yearly!$E$2:$E$180&[1]A_Current!$F$2:$F$180,0))),0,(INDEX([1]A_Current!G$2:G$180,MATCH($A48&$B48&$C48,[1]A_Current!$D$2:$D$180&[1]A_Current!$E$2:$E$180&[1]A_Current!$F$2:$F$180,0))))} -> 119 | E48: {=IF(ISERROR(INDEX([1]A_Current!H$2:H$180,MATCH($A48&$B48&$C48,[1]A_Current!$D$2:$D$180&[1]A_Yearly!$E$2:$E$180&[1]A_Current!$F$2:$F$180,0))),0,(INDEX([1]A_Current!H$2:H$180,MATCH($A48&$B48&$C48,[1]A_Current!$D$2:$D$180&[1]A_Current!$E$2:$E$180&[1]A_Current!$F$2:$F$180,0))))} -> 141 | F48: DV not involved | G48: Alcohol involved | H48: {=IF(ISERROR(INDEX([1]A_Monthly!G$2:G$180,MATCH($A48&$B48&$C48,[1]A_Monthly!$D$2:$D$180&[1]A_Monthly!$E$2:$E$180&[1]A_Monthly!$F$2:$F$180,0))),0,(INDEX([1]A_Monthly!G$2:G$180,MATCH($A48&$B48&$C48,[1]A_Monthly!$D$2:$D$180&[1]A_Monthly!$E$2:$E$180&[1]A_Monthly!$F$2:$F$180,0))))} -> 7 | I48: {=IF(ISERROR(INDEX([1]A_Monthly!H$2:H$180,MATCH($A48&$B48&$C48,[1]A_Monthly!$D$2:$D$180&[1]A_Monthly!$E$2:$E$180&[1]A_Monthly!$F$2:$F$180,0))),0,(INDEX([1]A_Monthly!H$2:H$180,MATCH($A48&$B48&$C48,[1]A_Monthly!$D$2:$D$180&[1]A_Monthly!$E$2:$E$180&[1]A_Monthly!$F$2:$F$180,0))))} -> 10 | J48: {=IF(ISERROR(INDEX([1]A_Monthly!I$2:I$180,MATCH($A48&$B48&$C48,[1]A_Monthly!$D$2:$D$180&[1]A_Monthly!$E$2:$E$180&[1]A_Monthly!$F$2:$F$180,0))),0,(INDEX([1]A_Monthly!I$2:I$180,MATCH($A48&$B48&$C48,[1]A_Monthly!$D$2:$D$180&[1]A_Monthly!$E$2:$E$180&[1]A_Monthly!$F$2:$F$180,0))))} -> 5 | K48: {=IF(ISERROR(INDEX([1]A_Monthly!J$2:J$180,MATCH($A48&$B48&$C48,[1]A_Monthly!$D$2:$D$180&[1]A_Monthly!$E$2:$E$180&[1]A_Monthly!$F$2:$F$180,0))),0,(INDEX([1]A_Monthly!J$2:J$180,MATCH($A48&$B48&$C48,[1]A_Monthly!$D$2:$D$180&[1]A_Monthly!$E$2:$E$180&[1]A_Monthly!$F$2:$F$180,0))))} -> 13 | L48: {=IF(ISERROR(INDEX([1]A_Monthly!K$2:K$180,MATCH($A48&$B48&$C48,[1]A_Monthly!$D$2:$D$180&[1]A_Monthly!$E$2:$E$180&[1]A_Monthly!$F$2:$F$180,0))),0,(INDEX([1]A_Monthly!K$2:K$180,MATCH($A48&$B48&$C48,[1]A_Monthly!$D$2:$D$180&[1]A_Monthly!$E$2:$E$180&[1]A_Monthly!$F$2:$F$180,0))))} -> 14 | M48: {=IF(ISERROR(INDEX([1]A_Monthly!L$2:L$180,MATCH($A48&$B48&$C48,[1]A_Monthly!$D$2:$D$180&[1]A_Monthly!$E$2:$E$180&[1]A_Monthly!$F$2:$F$180,0))),0,(INDEX([1]A_Monthly!L$2:L$180,MATCH($A48&$B48&$C48,[1]A_Monthly!$D$2:$D$180&[1]A_Monthly!$E$2:$E$180&[1]A_Monthly!$F$2:$F$180,0))))} -> 18 | N48: {=IF(ISERROR(INDEX([1]A_Monthly!M$2:M$180,MATCH($A48&$B48&$C48,[1]A_Monthly!$D$2:$D$180&[1]A_Monthly!$E$2:$E$180&[1]A_Monthly!$F$2:$F$180,0))),0,(INDEX([1]A_Monthly!M$2:M$180,MATCH($A48&$B48&$C48,[1]A_Monthly!$D$2:$D$180&[1]A_Monthly!$E$2:$E$180&[1]A_Monthly!$F$2:$F$180,0))))} -> 7 | O48: {=IF(ISERROR(INDEX([1]A_Monthly!N$2:N$180,MATCH($A48&$B48&$C48,[1]A_Monthly!$D$2:$D$180&[1]A_Monthly!$E$2:$E$180&[1]A_Monthly!$F$2:$F$180,0))),0,(INDEX([1]A_Monthly!N$2:N$180,MATCH($A48&$B48&$C48,[1]A_Monthly!$D$2:$D$180&[1]A_Monthly!$E$2:$E$180&[1]A_Monthly!$F$2:$F$180,0))))} -> 14 | ... AH48: {=IF(ISERROR(INDEX([1]A_Monthly!AG$2:AG$180,MATCH($A48&$B48&$C48,[1]A_Monthly!$D$2:$D$180&[1]A_Monthly!$E$2:$E$180&[1]A_Monthly!$F$2:$F$180,0))),0,(INDEX([1]A_Monthly!AG$2:AG$180,MATCH($A48&$B48&$C48,[1]A_Monthly!$D$2:$D$180&[1]A_Monthly!$E$2:$E$180&[1]A_Monthly!$F$2:$F$180,0))))} -> 17
A49: 12 | B49: 2 | C49: 2 | D49: {=IF(ISERROR(INDEX([1]A_Current!G$2:G$180,MATCH($A49&$B49&$C49,[1]A_Current!$D$2:$D$180&[1]A_Yearly!$E$2:$E$180&[1]A_Current!$F$2:$F$180,0))),0,(INDEX([1]A_Current!G$2:G$180,MATCH($A49&$B49&$C49,[1]A_Current!$D$2:$D$180&[1]A_Current!$E$2:$E$180&[1]A_Current!$F$2:$F$180,0))))} -> 84 | E49: {=IF(ISERROR(INDEX([1]A_Current!H$2:H$180,MATCH($A49&$B49&$C49,[1]A_Current!$D$2:$D$180&[1]A_Yearly!$E$2:$E$180&[1]A_Current!$F$2:$F$180,0))),0,(INDEX([1]A_Current!H$2:H$180,MATCH($A49&$B49&$C49,[1]A_Current!$D$2:$D$180&[1]A_Current!$E$2:$E$180&[1]A_Current!$F$2:$F$180,0))))} -> 67 | G49: No alcohol involved | H49: {=IF(ISERROR(INDEX([1]A_Monthly!G$2:G$180,MATCH($A49&$B49&$C49,[1]A_Monthly!$D$2:$D$180&[1]A_Monthly!$E$2:$E$180&[1]A_Monthly!$F$2:$F$180,0))),0,(INDEX([1]A_Monthly!G$2:G$180,MATCH($A49&$B49&$C49,[1]A_Monthly!$D$2:$D$180&[1]A_Monthly!$E$2:$E$180&[1]A_Monthly!$F$2:$F$180,0))))} -> 8 | I49: {=IF(ISERROR(INDEX([1]A_Monthly!H$2:H$180,MATCH($A49&$B49&$C49,[1]A_Monthly!$D$2:$D$180&[1]A_Monthly!$E$2:$E$180&[1]A_Monthly!$F$2:$F$180,0))),0,(INDEX([1]A_Monthly!H$2:H$180,MATCH($A49&$B49&$C49,[1]A_Monthly!$D$2:$D$180&[1]A_Monthly!$E$2:$E$180&[1]A_Monthly!$F$2:$F$180,0))))} -> 14 | J49: {=IF(ISERROR(INDEX([1]A_Monthly!I$2:I$180,MATCH($A49&$B49&$C49,[1]A_Monthly!$D$2:$D$180&[1]A_Monthly!$E$2:$E$180&[1]A_Monthly!$F$2:$F$180,0))),0,(INDEX([1]A_Monthly!I$2:I$180,MATCH($A49&$B49&$C49,[1]A_Monthly!$D$2:$D$180&[1]A_Monthly!$E$2:$E$180&[1]A_Monthly!$F$2:$F$180,0))))} -> 6 | K49: {=IF(ISERROR(INDEX([1]A_Monthly!J$2:J$180,MATCH($A49&$B49&$C49,[1]A_Monthly!$D$2:$D$180&[1]A_Monthly!$E$2:$E$180&[1]A_Monthly!$F$2:$F$180,0))),0,(INDEX([1]A_Monthly!J$2:J$180,MATCH($A49&$B49&$C49,[1]A_Monthly!$D$2:$D$180&[1]A_Monthly!$E$2:$E$180&[1]A_Monthly!$F$2:$F$180,0))))} -> 12 | L49: {=IF(ISERROR(INDEX([1]A_Monthly!K$2:K$180,MATCH($A49&$B49&$C49,[1]A_Monthly!$D$2:$D$180&[1]A_Monthly!$E$2:$E$180&[1]A_Monthly!$F$2:$F$180,0))),0,(INDEX([1]A_Monthly!K$2:K$180,MATCH($A49&$B49&$C49,[1]A_Monthly!$D$2:$D$180&[1]A_Monthly!$E$2:$E$180&[1]A_Monthly!$F$2:$F$180,0))))} -> 9 | M49: {=IF(ISERROR(INDEX([1]A_Monthly!L$2:L$180,MATCH($A49&$B49&$C49,[1]A_Monthly!$D$2:$D$180&[1]A_Monthly!$E$2:$E$180&[1]A_Monthly!$F$2:$F$180,0))),0,(INDEX([1]A_Monthly!L$2:L$180,MATCH($A49&$B49&$C49,[1]A_Monthly!$D$2:$D$180&[1]A_Monthly!$E$2:$E$180&[1]A_Monthly!$F$2:$F$180,0))))} -> 6 | N49: {=IF(ISERROR(INDEX([1]A_Monthly!M$2:M$180,MATCH($A49&$B49&$C49,[1]A_Monthly!$D$2:$D$180&[1]A_Monthly!$E$2:$E$180&[1]A_Monthly!$F$2:$F$180,0))),0,(INDEX([1]A_Monthly!M$2:M$180,MATCH($A49&$B49&$C49,[1]A_Monthly!$D$2:$D$180&[1]A_Monthly!$E$2:$E$180&[1]A_Monthly!$F$2:$F$180,0))))} -> 8 | O49: {=IF(ISERROR(INDEX([1]A_Monthly!N$2:N$180,MATCH($A49&$B49&$C49,[1]A_Monthly!$D$2:$D$180&[1]A_Monthly!$E$2:$E$180&[1]A_Monthly!$F$2:$F$180,0))),0,(INDEX([1]A_Monthly!N$2:N$180,MATCH($A49&$B49&$C49,[1]A_Monthly!$D$2:$D$180&[1]A_Monthly!$E$2:$E$180&[1]A_Monthly!$F$2:$F$180,0))))} -> 11 | ... AH49: {=IF(ISERROR(INDEX([1]A_Monthly!AG$2:AG$180,MATCH($A49&$B49&$C49,[1]A_Monthly!$D$2:$D$180&[1]A_Monthly!$E$2:$E$180&[1]A_Monthly!$F$2:$F$180,0))),0,(INDEX([1]A_Monthly!AG$2:AG$180,MATCH($A49&$B49&$C49,[1]A_Monthly!$D$2:$D$180&[1]A_Monthly!$E$2:$E$180&[1]A_Monthly!$F$2:$F$180,0))))} -> 8
A50: 12 | B50: 2 | C50: 3 | D50: {=IF(ISERROR(INDEX([1]A_Current!G$2:G$180,MATCH($A50&$B50&$C50,[1]A_Current!$D$2:$D$180&[1]A_Yearly!$E$2:$E$180&[1]A_Current!$F$2:$F$180,0))),0,(INDEX([1]A_Current!G$2:G$180,MATCH($A50&$B50&$C50,[1]A_Current!$D$2:$D$180&[1]A_Current!$E$2:$E$180&[1]A_Current!$F$2:$F$180,0))))} -> 85 | E50: {=IF(ISERROR(INDEX([1]A_Current!H$2:H$180,MATCH($A50&$B50&$C50,[1]A_Current!$D$2:$D$180&[1]A_Yearly!$E$2:$E$180&[1]A_Current!$F$2:$F$180,0))),0,(INDEX([1]A_Current!H$2:H$180,MATCH($A50&$B50&$C50,[1]A_Current!$D$2:$D$180&[1]A_Current!$E$2:$E$180&[1]A_Current!$F$2:$F$180,0))))} -> 103 | G50: Not known | H50: {=IF(ISERROR(INDEX([1]A_Monthly!G$2:G$180,MATCH($A50&$B50&$C50,[1]A_Monthly!$D$2:$D$180&[1]A_Monthly!$E$2:$E$180&[1]A_Monthly!$F$2:$F$180,0))),0,(INDEX([1]A_Monthly!G$2:G$180,MATCH($A50&$B50&$C50,[1]A_Monthly!$D$2:$D$180&[1]A_Monthly!$E$2:$E$180&[1]A_Monthly!$F$2:$F$180,0))))} -> 8 | I50: {=IF(ISERROR(INDEX([1]A_Monthly!H$2:H$180,MATCH($A50&$B50&$C50,[1]A_Monthly!$D$2:$D$180&[1]A_Monthly!$E$2:$E$180&[1]A_Monthly!$F$2:$F$180,0))),0,(INDEX([1]A_Monthly!H$2:H$180,MATCH($A50&$B50&$C50,[1]A_Monthly!$D$2:$D$180&[1]A_Monthly!$E$2:$E$180&[1]A_Monthly!$F$2:$F$180,0))))} -> 8 | J50: {=IF(ISERROR(INDEX([1]A_Monthly!I$2:I$180,MATCH($A50&$B50&$C50,[1]A_Monthly!$D$2:$D$180&[1]A_Monthly!$E$2:$E$180&[1]A_Monthly!$F$2:$F$180,0))),0,(INDEX([1]A_Monthly!I$2:I$180,MATCH($A50&$B50&$C50,[1]A_Monthly!$D$2:$D$180&[1]A_Monthly!$E$2:$E$180&[1]A_Monthly!$F$2:$F$180,0))))} -> 2 | K50: {=IF(ISERROR(INDEX([1]A_Monthly!J$2:J$180,MATCH($A50&$B50&$C50,[1]A_Monthly!$D$2:$D$180&[1]A_Monthly!$E$2:$E$180&[1]A_Monthly!$F$2:$F$180,0))),0,(INDEX([1]A_Monthly!J$2:J$180,MATCH($A50&$B50&$C50,[1]A_Monthly!$D$2:$D$180&[1]A_Monthly!$E$2:$E$180&[1]A_Monthly!$F$2:$F$180,0))))} -> 3 | L50: {=IF(ISERROR(INDEX([1]A_Monthly!K$2:K$180,MATCH($A50&$B50&$C50,[1]A_Monthly!$D$2:$D$180&[1]A_Monthly!$E$2:$E$180&[1]A_Monthly!$F$2:$F$180,0))),0,(INDEX([1]A_Monthly!K$2:K$180,MATCH($A50&$B50&$C50,[1]A_Monthly!$D$2:$D$180&[1]A_Monthly!$E$2:$E$180&[1]A_Monthly!$F$2:$F$180,0))))} -> 6 | M50: {=IF(ISERROR(INDEX([1]A_Monthly!L$2:L$180,MATCH($A50&$B50&$C50,[1]A_Monthly!$D$2:$D$180&[1]A_Monthly!$E$2:$E$180&[1]A_Monthly!$F$2:$F$180,0))),0,(INDEX([1]A_Monthly!L$2:L$180,MATCH($A50&$B50&$C50,[1]A_Monthly!$D$2:$D$180&[1]A_Monthly!$E$2:$E$180&[1]A_Monthly!$F$2:$F$180,0))))} -> 10 | N50: {=IF(ISERROR(INDEX([1]A_Monthly!M$2:M$180,MATCH($A50&$B50&$C50,[1]A_Monthly!$D$2:$D$180&[1]A_Monthly!$E$2:$E$180&[1]A_Monthly!$F$2:$F$180,0))),0,(INDEX([1]A_Monthly!M$2:M$180,MATCH($A50&$B50&$C50,[1]A_Monthly!$D$2:$D$180&[1]A_Monthly!$E$2:$E$180&[1]A_Monthly!$F$2:$F$180,0))))} -> 1 | O50: {=IF(ISERROR(INDEX([1]A_Monthly!N$2:N$180,MATCH($A50&$B50&$C50,[1]A_Monthly!$D$2:$D$180&[1]A_Monthly!$E$2:$E$180&[1]A_Monthly!$F$2:$F$180,0))),0,(INDEX([1]A_Monthly!N$2:N$180,MATCH($A50&$B50&$C50,[1]A_Monthly!$D$2:$D$180&[1]A_Monthly!$E$2:$E$180&[1]A_Monthly!$F$2:$F$180,0))))} -> 9 | ... AH50: {=IF(ISERROR(INDEX([1]A_Monthly!AG$2:AG$180,MATCH($A50&$B50&$C50,[1]A_Monthly!$D$2:$D$180&[1]A_Monthly!$E$2:$E$180&[1]A_Monthly!$F$2:$F$180,0))),0,(INDEX([1]A_Monthly!AG$2:AG$180,MATCH($A50&$B50&$C50,[1]A_Monthly!$D$2:$D$180&[1]A_Monthly!$E$2:$E$180&[1]A_Monthly!$F$2:$F$180,0))))} -> 9
D51: =SUM(D48:D50) -> 288 | E51: =SUM(E48:E50) -> 311 | F51: DV not involved Total | H51: =SUM(H48:H50) -> 23 | I51: =SUM(I48:I50) -> 32 | J51: =SUM(J48:J50) -> 13 | K51: =SUM(K48:K50) -> 28 | L51: =SUM(L48:L50) -> 29 | M51: =SUM(M48:M50) -> 34 | N51: =SUM(N48:N50) -> 16 | O51: =SUM(O48:O50) -> 34 | ... AH51: =SUM(AH48:AH50) -> 34
D52: =D47+D51 -> 751 | E52: =E47+E51 -> 750 | F52: Total assaults | H52: =H47+H51 -> 42 | I52: =I47+I51 -> 60 | J52: =J47+J51 -> 46 | K52: =K47+K51 -> 61 | L52: =L47+L51 -> 61 | M52: =M47+M51 -> 67 | N52: =N47+N51 -> 52 | O52: =O47+O51 -> 58 | ... AH52: =AH47+AH51 -> 81
D53: =D44+D48 -> 415 | E53: =E44+E48 -> 410 | F53: Assaults with alcohol involved | H53: =H44+H48 -> 17 | I53: =I44+I48 -> 27 | J53: =J44+J48 -> 30 | K53: =K44+K48 -> 37 | L53: =L44+L48 -> 32 | M53: =M44+M48 -> 44 | N53: =N44+N48 -> 27 | O53: =O44+O48 -> 27 | ... AH53: =AH44+AH48 -> 47
D54: =D45+D49 -> 192 | E54: =E45+E49 -> 168 | F54: Assaults with no alcohol involved | H54: =H45+H49 -> 14 | I54: =I45+I49 -> 24 | J54: =J45+J49 -> 12 | K54: =K45+K49 -> 19 | L54: =L45+L49 -> 18 | M54: =M45+M49 -> 10 | N54: =N45+N49 -> 21 | O54: =O45+O49 -> 19 | ... AH54: =AH45+AH49 -> 18
D55: =D46+D50 -> 144 | E55: =E46+E50 -> 172 | F55: Assaults with alcohol involvement unknown | H55: =H46+H50 -> 11 | I55: =I46+I50 -> 9 | J55: =J46+J50 -> 4 | K55: =K46+K50 -> 5 | L55: =L46+L50 -> 11 | M55: =M46+M50 -> 13 | N55: =N46+N50 -> 4 | O55: =O46+O50 -> 12 | ... AH55: =AH46+AH50 -> 16
F56: % of assaults associated with domestic violence | H56: =H47/H52 -> 0.45238095 | I56: =I47/I52 -> 0.46666667 | J56: =J47/J52 -> 0.7173913 | K56: =K47/K52 -> 0.54098361 | L56: =L47/L52 -> 0.52459016 | M56: =M47/M52 -> 0.49253731 | N56: =N47/N52 -> 0.69230769 | O56: =O47/O52 -> 0.4137931 | ... AH56: =AH47/AH52 -> 0.58024691
F57: % of assaults associated with alcohol | H57: =(H44+H48)/H52 -> 0.4047619 | I57: =(I44+I48)/I52 -> 0.45 | J57: =(J44+J48)/J52 -> 0.65217391 | K57: =(K44+K48)/K52 -> 0.60655738 | L57: =(L44+L48)/L52 -> 0.52459016 | M57: =(M44+M48)/M52 -> 0.65671642 | N57: =(N44+N48)/N52 -> 0.51923077 | O57: =(O44+O48)/O52 -> 0.46551724 | ... AH57: =(AH44+AH48)/AH52 -> 0.58024691
F58: =$F$20 -> Data extracted from PROMIS on 01/06/2022
F59: =$F$21 -> Shaded months should be treated as provisional
F60: Alice Springs Assault Statistics
F61: =$F$4 -> Data through April 2022
D62: =[1]A_Current!$G$2 -> P1 | E62: =[1]A_Current!$H$2 -> P2 | F62: Domestic violence | G62: Alcohol involvement | H62: =$H$5 -> Feb-20 | I62: =$I$5 -> Mar-20 | J62: =$J$5 -> Apr-20 | K62: =$K$5 -> May-20 | L62: =$L$5 -> Jun-20 | M62: =$M$5 -> Jul-20 | N62: =$N$5 -> Aug-20 | O62: =$O$5 -> Sep-20 | P62: =$P$5 -> Oct-20 | Q62: =$Q$5 -> Nov-20 | R62: =$R$5 -> Dec-20 | S62: =$S$5 -> Jan-21 | T62: =$T$5 -> Feb-21 | U62: =$U$5 -> Mar-21 | V62: =$V$5 -> Apr-21 | W62: =$W$5 -> May-21 | X62: =$X$5 -> Jun-21 | Y62: =$Y$5 -> Jul-21 | Z62: =$Z$5 -> Aug-21 | AA62: =$AA$5 -> Sep-21 | AB62: =$AB$5 -> Oct-21 | AC62: =$AC$5 -> Nov-21 | AD62: =$AD$5 -> Dec-21 | AE62: =$AE$5 -> Jan-22 | AF62: =$AF$5 -> Feb-22 | AG62: =$AG$5 -> Mar-22 | AH62: =$AH$5 -> Apr-22
A63: 13 | B63: 1 | C63: 1 | D63: {=IF(ISERROR(INDEX([1]A_Current!G$2:G$180,MATCH($A63&$B63&$C63,[1]A_Current!$D$2:$D$180&[1]A_Yearly!$E$2:$E$180&[1]A_Current!$F$2:$F$180,0))),0,(INDEX([1]A_Current!G$2:G$180,MATCH($A63&$B63&$C63,[1]A_Current!$D$2:$D$180&[1]A_Current!$E$2:$E$180&[1]A_Current!$F$2:$F$180,0))))} -> 573 | E63: {=IF(ISERROR(INDEX([1]A_Current!H$2:H$180,MATCH($A63&$B63&$C63,[1]A_Current!$D$2:$D$180&[1]A_Yearly!$E$2:$E$180&[1]A_Current!$F$2:$F$180,0))),0,(INDEX([1]A_Current!H$2:H$180,MATCH($A63&$B63&$C63,[1]A_Current!$D$2:$D$180&[1]A_Current!$E$2:$E$180&[1]A_Current!$F$2:$F$180,0))))} -> 621 | F63: DV involved | G63: Alcohol involved | H63: {=IF(ISERROR(INDEX([1]A_Monthly!G$2:G$180,MATCH($A63&$B63&$C63,[1]A_Monthly!$D$2:$D$180&[1]A_Monthly!$E$2:$E$180&[1]A_Monthly!$F$2:$F$180,0))),0,(INDEX([1]A_Monthly!G$2:G$180,MATCH($A63&$B63&$C63,[1]A_Monthly!$D$2:$D$180&[1]A_Monthly!$E$2:$E$180&[1]A_Monthly!$F$2:$F$180,0))))} -> 60 | I63: {=IF(ISERROR(INDEX([1]A_Monthly!H$2:H$180,MATCH($A63&$B63&$C63,[1]A_Monthly!$D$2:$D$180&[1]A_Monthly!$E$2:$E$180&[1]A_Monthly!$F$2:$F$180,0))),0,(INDEX([1]A_Monthly!H$2:H$180,MATCH($A63&$B63&$C63,[1]A_Monthly!$D$2:$D$180&[1]A_Monthly!$E$2:$E$180&[1]A_Monthly!$F$2:$F$180,0))))} -> 61 | J63: {=IF(ISERROR(INDEX([1]A_Monthly!I$2:I$180,MATCH($A63&$B63&$C63,[1]A_Monthly!$D$2:$D$180&[1]A_Monthly!$E$2:$E$180&[1]A_Monthly!$F$2:$F$180,0))),0,(INDEX([1]A_Monthly!I$2:I$180,MATCH($A63&$B63&$C63,[1]A_Monthly!$D$2:$D$180&[1]A_Monthly!$E$2:$E$180&[1]A_Monthly!$F$2:$F$180,0))))} -> 44 | K63: {=IF(ISERROR(INDEX([1]A_Monthly!J$2:J$180,MATCH($A63&$B63&$C63,[1]A_Monthly!$D$2:$D$180&[1]A_Monthly!$E$2:$E$180&[1]A_Monthly!$F$2:$F$180,0))),0,(INDEX([1]A_Monthly!J$2:J$180,MATCH($A63&$B63&$C63,[1]A_Monthly!$D$2:$D$180&[1]A_Monthly!$E$2:$E$180&[1]A_Monthly!$F$2:$F$180,0))))} -> 52 | L63: {=IF(ISERROR(INDEX([1]A_Monthly!K$2:K$180,MATCH($A63&$B63&$C63,[1]A_Monthly!$D$2:$D$180&[1]A_Monthly!$E$2:$E$180&[1]A_Monthly!$F$2:$F$180,0))),0,(INDEX([1]A_Monthly!K$2:K$180,MATCH($A63&$B63&$C63,[1]A_Monthly!$D$2:$D$180&[1]A_Monthly!$E$2:$E$180&[1]A_Monthly!$F$2:$F$180,0))))} -> 37 | M63: {=IF(ISERROR(INDEX([1]A_Monthly!L$2:L$180,MATCH($A63&$B63&$C63,[1]A_Monthly!$D$2:$D$180&[1]A_Monthly!$E$2:$E$180&[1]A_Monthly!$F$2:$F$180,0))),0,(INDEX([1]A_Monthly!L$2:L$180,MATCH($A63&$B63&$C63,[1]A_Monthly!$D$2:$D$180&[1]A_Monthly!$E$2:$E$180&[1]A_Monthly!$F$2:$F$180,0))))} -> 60 | N63: {=IF(ISERROR(INDEX([1]A_Monthly!M$2:M$180,MATCH($A63&$B63&$C63,[1]A_Monthly!$D$2:$D$180&[1]A_Monthly!$E$2:$E$180&[1]A_Monthly!$F$2:$F$180,0))),0,(INDEX([1]A_Monthly!M$2:M$180,MATCH($A63&$B63&$C63,[1]A_Monthly!$D$2:$D$180&[1]A_Monthly!$E$2:$E$180&[1]A_Monthly!$F$2:$F$180,0))))} -> 60 | O63: {=IF(ISERROR(INDEX([1]A_Monthly!N$2:N$180,MATCH($A63&$B63&$C63,[1]A_Monthly!$D$2:$D$180&[1]A_Monthly!$E$2:$E$180&[1]A_Monthly!$F$2:$F$180,0))),0,(INDEX([1]A_Monthly!N$2:N$180,MATCH($A63&$B63&$C63,[1]A_Monthly!$D$2:$D$180&[1]A_Monthly!$E$2:$E$180&[1]A_Monthly!$F$2:$F$180,0))))} -> 75 | ... AH63: {=IF(ISERROR(INDEX([1]A_Monthly!AG$2:AG$180,MATCH($A63&$B63&$C63,[1]A_Monthly!$D$2:$D$180&[1]A_Monthly!$E$2:$E$180&[1]A_Monthly!$F$2:$F$180,0))),0,(INDEX([1]A_Monthly!AG$2:AG$180,MATCH($A63&$B63&$C63,[1]A_Monthly!$D$2:$D$180&[1]A_Monthly!$E$2:$E$180&[1]A_Monthly!$F$2:$F$180,0))))} -> 70
A64: 13 | B64: 1 | C64: 2 | D64: {=IF(ISERROR(INDEX([1]A_Current!G$2:G$180,MATCH($A64&$B64&$C64,[1]A_Current!$D$2:$D$180&[1]A_Yearly!$E$2:$E$180&[1]A_Current!$F$2:$F$180,0))),0,(INDEX([1]A_Current!G$2:G$180,MATCH($A64&$B64&$C64,[1]A_Current!$D$2:$D$180&[1]A_Current!$E$2:$E$180&[1]A_Current!$F$2:$F$180,0))))} -> 186 | E64: {=IF(ISERROR(INDEX([1]A_Current!H$2:H$180,MATCH($A64&$B64&$C64,[1]A_Current!$D$2:$D$180&[1]A_Yearly!$E$2:$E$180&[1]A_Current!$F$2:$F$180,0))),0,(INDEX([1]A_Current!H$2:H$180,MATCH($A64&$B64&$C64,[1]A_Current!$D$2:$D$180&[1]A_Current!$E$2:$E$180&[1]A_Current!$F$2:$F$180,0))))} -> 206 | G64: No alcohol involved | H64: {=IF(ISERROR(INDEX([1]A_Monthly!G$2:G$180,MATCH($A64&$B64&$C64,[1]A_Monthly!$D$2:$D$180&[1]A_Monthly!$E$2:$E$180&[1]A_Monthly!$F$2:$F$180,0))),0,(INDEX([1]A_Monthly!G$2:G$180,MATCH($A64&$B64&$C64,[1]A_Monthly!$D$2:$D$180&[1]A_Monthly!$E$2:$E$180&[1]A_Monthly!$F$2:$F$180,0))))} -> 16 | I64: {=IF(ISERROR(INDEX([1]A_Monthly!H$2:H$180,MATCH($A64&$B64&$C64,[1]A_Monthly!$D$2:$D$180&[1]A_Monthly!$E$2:$E$180&[1]A_Monthly!$F$2:$F$180,0))),0,(INDEX([1]A_Monthly!H$2:H$180,MATCH($A64&$B64&$C64,[1]A_Monthly!$D$2:$D$180&[1]A_Monthly!$E$2:$E$180&[1]A_Monthly!$F$2:$F$180,0))))} -> 28 | J64: {=IF(ISERROR(INDEX([1]A_Monthly!I$2:I$180,MATCH($A64&$B64&$C64,[1]A_Monthly!$D$2:$D$180&[1]A_Monthly!$E$2:$E$180&[1]A_Monthly!$F$2:$F$180,0))),0,(INDEX([1]A_Monthly!I$2:I$180,MATCH($A64&$B64&$C64,[1]A_Monthly!$D$2:$D$180&[1]A_Monthly!$E$2:$E$180&[1]A_Monthly!$F$2:$F$180,0))))} -> 14 | K64: {=IF(ISERROR(INDEX([1]A_Monthly!J$2:J$180,MATCH($A64&$B64&$C64,[1]A_Monthly!$D$2:$D$180&[1]A_Monthly!$E$2:$E$180&[1]A_Monthly!$F$2:$F$180,0))),0,(INDEX([1]A_Monthly!J$2:J$180,MATCH($A64&$B64&$C64,[1]A_Monthly!$D$2:$D$180&[1]A_Monthly!$E$2:$E$180&[1]A_Monthly!$F$2:$F$180,0))))} -> 12 | L64: {=IF(ISERROR(INDEX([1]A_Monthly!K$2:K$180,MATCH($A64&$B64&$C64,[1]A_Monthly!$D$2:$D$180&[1]A_Monthly!$E$2:$E$180&[1]A_Monthly!$F$2:$F$180,0))),0,(INDEX([1]A_Monthly!K$2:K$180,MATCH($A64&$B64&$C64,[1]A_Monthly!$D$2:$D$180&[1]A_Monthly!$E$2:$E$180&[1]A_Monthly!$F$2:$F$180,0))))} -> 12 | M64: {=IF(ISERROR(INDEX([1]A_Monthly!L$2:L$180,MATCH($A64&$B64&$C64,[1]A_Monthly!$D$2:$D$180&[1]A_Monthly!$E$2:$E$180&[1]A_Monthly!$F$2:$F$180,0))),0,(INDEX([1]A_Monthly!L$2:L$180,MATCH($A64&$B64&$C64,[1]A_Monthly!$D$2:$D$180&[1]A_Monthly!$E$2:$E$180&[1]A_Monthly!$F$2:$F$180,0))))} -> 11 | N64: {=IF(ISERROR(INDEX([1]A_Monthly!M$2:M$180,MATCH($A64&$B64&$C64,[1]A_Monthly!$D$2:$D$180&[1]A_Monthly!$E$2:$E$180&[1]A_Monthly!$F$2:$F$180,0))),0,(INDEX([1]A_Monthly!M$2:M$180,MATCH($A64&$B64&$C64,[1]A_Monthly!$D$2:$D$180&[1]A_Monthly!$E$2:$E$180&[1]A_Monthly!$F$2:$F$180,0))))} -> 12 | O64: {=IF(ISERROR(INDEX([1]A_Monthly!N$2:N$180,MATCH($A64&$B64&$C64,[1]A_Monthly!$D$2:$D$180&[1]A_Monthly!$E$2:$E$180&[1]A_Monthly!$F$2:$F$180,0))),0,(INDEX([1]A_Monthly!N$2:N$180,MATCH($A64&$B64&$C64,[1]A_Monthly!$D$2:$D$180&[1]A_Monthly!$E$2:$E$180&[1]A_Monthly!$F$2:$F$180,0))))} -> 20 | ... AH64: {=IF(ISERROR(INDEX([1]A_Monthly!AG$2:AG$180,MATCH($A64&$B64&$C64,[1]A_Monthly!$D$2:$D$180&[1]A_Monthly!$E$2:$E$180&[1]A_Monthly!$F$2:$F$180,0))),0,(INDEX([1]A_Monthly!AG$2:AG$180,MATCH($A64&$B64&$C64,[1]A_Monthly!$D$2:$D$180&[1]A_Monthly!$E$2:$E$180&[1]A_Monthly!$F$2:$F$180,0))))} -> 15
A65: 13 | B65: 1 | C65: 3 | D65: {=IF(ISERROR(INDEX([1]A_Current!G$2:G$180,MATCH($A65&$B65&$C65,[1]A_Current!$D$2:$D$180&[1]A_Yearly!$E$2:$E$180&[1]A_Current!$F$2:$F$180,0))),0,(INDEX([1]A_Current!G$2:G$180,MATCH($A65&$B65&$C65,[1]A_Current!$D$2:$D$180&[1]A_Current!$E$2:$E$180&[1]A_Current!$F$2:$F$180,0))))} -> 245 | E65: {=IF(ISERROR(INDEX([1]A_Current!H$2:H$180,MATCH($A65&$B65&$C65,[1]A_Current!$D$2:$D$180&[1]A_Yearly!$E$2:$E$180&[1]A_Current!$F$2:$F$180,0))),0,(INDEX([1]A_Current!H$2:H$180,MATCH($A65&$B65&$C65,[1]A_Current!$D$2:$D$180&[1]A_Current!$E$2:$E$180&[1]A_Current!$F$2:$F$180,0))))} -> 279 | G65: Not known | H65: {=IF(ISERROR(INDEX([1]A_Monthly!G$2:G$180,MATCH($A65&$B65&$C65,[1]A_Monthly!$D$2:$D$180&[1]A_Monthly!$E$2:$E$180&[1]A_Monthly!$F$2:$F$180,0))),0,(INDEX([1]A_Monthly!G$2:G$180,MATCH($A65&$B65&$C65,[1]A_Monthly!$D$2:$D$180&[1]A_Monthly!$E$2:$E$180&[1]A_Monthly!$F$2:$F$180,0))))} -> 19 | I65: {=IF(ISERROR(INDEX([1]A_Monthly!H$2:H$180,MATCH($A65&$B65&$C65,[1]A_Monthly!$D$2:$D$180&[1]A_Monthly!$E$2:$E$180&[1]A_Monthly!$F$2:$F$180,0))),0,(INDEX([1]A_Monthly!H$2:H$180,MATCH($A65&$B65&$C65,[1]A_Monthly!$D$2:$D$180&[1]A_Monthly!$E$2:$E$180&[1]A_Monthly!$F$2:$F$180,0))))} -> 9 | J65: {=IF(ISERROR(INDEX([1]A_Monthly!I$2:I$180,MATCH($A65&$B65&$C65,[1]A_Monthly!$D$2:$D$180&[1]A_Monthly!$E$2:$E$180&[1]A_Monthly!$F$2:$F$180,0))),0,(INDEX([1]A_Monthly!I$2:I$180,MATCH($A65&$B65&$C65,[1]A_Monthly!$D$2:$D$180&[1]A_Monthly!$E$2:$E$180&[1]A_Monthly!$F$2:$F$180,0))))} -> 9 | K65: {=IF(ISERROR(INDEX([1]A_Monthly!J$2:J$180,MATCH($A65&$B65&$C65,[1]A_Monthly!$D$2:$D$180&[1]A_Monthly!$E$2:$E$180&[1]A_Monthly!$F$2:$F$180,0))),0,(INDEX([1]A_Monthly!J$2:J$180,MATCH($A65&$B65&$C65,[1]A_Monthly!$D$2:$D$180&[1]A_Monthly!$E$2:$E$180&[1]A_Monthly!$F$2:$F$180,0))))} -> 12 | L65: {=IF(ISERROR(INDEX([1]A_Monthly!K$2:K$180,MATCH($A65&$B65&$C65,[1]A_Monthly!$D$2:$D$180&[1]A_Monthly!$E$2:$E$180&[1]A_Monthly!$F$2:$F$180,0))),0,(INDEX([1]A_Monthly!K$2:K$180,MATCH($A65&$B65&$C65,[1]A_Monthly!$D$2:$D$180&[1]A_Monthly!$E$2:$E$180&[1]A_Monthly!$F$2:$F$180,0))))} -> 12 | M65: {=IF(ISERROR(INDEX([1]A_Monthly!L$2:L$180,MATCH($A65&$B65&$C65,[1]A_Monthly!$D$2:$D$180&[1]A_Monthly!$E$2:$E$180&[1]A_Monthly!$F$2:$F$180,0))),0,(INDEX([1]A_Monthly!L$2:L$180,MATCH($A65&$B65&$C65,[1]A_Monthly!$D$2:$D$180&[1]A_Monthly!$E$2:$E$180&[1]A_Monthly!$F$2:$F$180,0))))} -> 8 | N65: {=IF(ISERROR(INDEX([1]A_Monthly!M$2:M$180,MATCH($A65&$B65&$C65,[1]A_Monthly!$D$2:$D$180&[1]A_Monthly!$E$2:$E$180&[1]A_Monthly!$F$2:$F$180,0))),0,(INDEX([1]A_Monthly!M$2:M$180,MATCH($A65&$B65&$C65,[1]A_Monthly!$D$2:$D$180&[1]A_Monthly!$E$2:$E$180&[1]A_Monthly!$F$2:$F$180,0))))} -> 37 | O65: {=IF(ISERROR(INDEX([1]A_Monthly!N$2:N$180,MATCH($A65&$B65&$C65,[1]A_Monthly!$D$2:$D$180&[1]A_Monthly!$E$2:$E$180&[1]A_Monthly!$F$2:$F$180,0))),0,(INDEX([1]A_Monthly!N$2:N$180,MATCH($A65&$B65&$C65,[1]A_Monthly!$D$2:$D$180&[1]A_Monthly!$E$2:$E$180&[1]A_Monthly!$F$2:$F$180,0))))} -> 31 | ... AH65: {=IF(ISERROR(INDEX([1]A_Monthly!AG$2:AG$180,MATCH($A65&$B65&$C65,[1]A_Monthly!$D$2:$D$180&[1]A_Monthly!$E$2:$E$180&[1]A_Monthly!$F$2:$F$180,0))),0,(INDEX([1]A_Monthly!AG$2:AG$180,MATCH($A65&$B65&$C65,[1]A_Monthly!$D$2:$D$180&[1]A_Monthly!$E$2:$E$180&[1]A_Monthly!$F$2:$F$180,0))))} -> 30
D66: =SUM(D63:D65) -> 1004 | E66: =SUM(E63:E65) -> 1106 | F66: DV involved Total | H66: =SUM(H63:H65) -> 95 | I66: =SUM(I63:I65) -> 98 | J66: =SUM(J63:J65) -> 67 | K66: =SUM(K63:K65) -> 76 | L66: =SUM(L63:L65) -> 61 | M66: =SUM(M63:M65) -> 79 | N66: =SUM(N63:N65) -> 109 | O66: =SUM(O63:O65) -> 126 | ... AH66: =SUM(AH63:AH65) -> 115
A67: 13 | B67: 2 | C67: 1 | D67: {=IF(ISERROR(INDEX([1]A_Current!G$2:G$180,MATCH($A67&$B67&$C67,[1]A_Current!$D$2:$D$180&[1]A_Yearly!$E$2:$E$180&[1]A_Current!$F$2:$F$180,0))),0,(INDEX([1]A_Current!G$2:G$180,MATCH($A67&$B67&$C67,[1]A_Current!$D$2:$D$180&[1]A_Current!$E$2:$E$180&[1]A_Current!$F$2:$F$180,0))))} -> 198 | E67: {=IF(ISERROR(INDEX([1]A_Current!H$2:H$180,MATCH($A67&$B67&$C67,[1]A_Current!$D$2:$D$180&[1]A_Yearly!$E$2:$E$180&[1]A_Current!$F$2:$F$180,0))),0,(INDEX([1]A_Current!H$2:H$180,MATCH($A67&$B67&$C67,[1]A_Current!$D$2:$D$180&[1]A_Current!$E$2:$E$180&[1]A_Current!$F$2:$F$180,0))))} -> 216 | F67: DV not involved | G67: Alcohol involved | H67: {=IF(ISERROR(INDEX([1]A_Monthly!G$2:G$180,MATCH($A67&$B67&$C67,[1]A_Monthly!$D$2:$D$180&[1]A_Monthly!$E$2:$E$180&[1]A_Monthly!$F$2:$F$180,0))),0,(INDEX([1]A_Monthly!G$2:G$180,MATCH($A67&$B67&$C67,[1]A_Monthly!$D$2:$D$180&[1]A_Monthly!$E$2:$E$180&[1]A_Monthly!$F$2:$F$180,0))))} -> 28 | I67: {=IF(ISERROR(INDEX([1]A_Monthly!H$2:H$180,MATCH($A67&$B67&$C67,[1]A_Monthly!$D$2:$D$180&[1]A_Monthly!$E$2:$E$180&[1]A_Monthly!$F$2:$F$180,0))),0,(INDEX([1]A_Monthly!H$2:H$180,MATCH($A67&$B67&$C67,[1]A_Monthly!$D$2:$D$180&[1]A_Monthly!$E$2:$E$180&[1]A_Monthly!$F$2:$F$180,0))))} -> 23 | J67: {=IF(ISERROR(INDEX([1]A_Monthly!I$2:I$180,MATCH($A67&$B67&$C67,[1]A_Monthly!$D$2:$D$180&[1]A_Monthly!$E$2:$E$180&[1]A_Monthly!$F$2:$F$180,0))),0,(INDEX([1]A_Monthly!I$2:I$180,MATCH($A67&$B67&$C67,[1]A_Monthly!$D$2:$D$180&[1]A_Monthly!$E$2:$E$180&[1]A_Monthly!$F$2:$F$180,0))))} -> 12 | K67: {=IF(ISERROR(INDEX([1]A_Monthly!J$2:J$180,MATCH($A67&$B67&$C67,[1]A_Monthly!$D$2:$D$180&[1]A_Monthly!$E$2:$E$180&[1]A_Monthly!$F$2:$F$180,0))),0,(INDEX([1]A_Monthly!J$2:J$180,MATCH($A67&$B67&$C67,[1]A_Monthly!$D$2:$D$180&[1]A_Monthly!$E$2:$E$180&[1]A_Monthly!$F$2:$F$180,0))))} -> 18 | L67: {=IF(ISERROR(INDEX([1]A_Monthly!K$2:K$180,MATCH($A67&$B67&$C67,[1]A_Monthly!$D$2:$D$180&[1]A_Monthly!$E$2:$E$180&[1]A_Monthly!$F$2:$F$180,0))),0,(INDEX([1]A_Monthly!K$2:K$180,MATCH($A67&$B67&$C67,[1]A_Monthly!$D$2:$D$180&[1]A_Monthly!$E$2:$E$180&[1]A_Monthly!$F$2:$F$180,0))))} -> 25 | M67: {=IF(ISERROR(INDEX([1]A_Monthly!L$2:L$180,MATCH($A67&$B67&$C67,[1]A_Monthly!$D$2:$D$180&[1]A_Monthly!$E$2:$E$180&[1]A_Monthly!$F$2:$F$180,0))),0,(INDEX([1]A_Monthly!L$2:L$180,MATCH($A67&$B67&$C67,[1]A_Monthly!$D$2:$D$180&[1]A_Monthly!$E$2:$E$180&[1]A_Monthly!$F$2:$F$180,0))))} -> 12 | N67: {=IF(ISERROR(INDEX([1]A_Monthly!M$2:M$180,MATCH($A67&$B67&$C67,[1]A_Monthly!$D$2:$D$180&[1]A_Monthly!$E$2:$E$180&[1]A_Monthly!$F$2:$F$180,0))),0,(INDEX([1]A_Monthly!M$2:M$180,MATCH($A67&$B67&$C67,[1]A_Monthly!$D$2:$D$180&[1]A_Monthly!$E$2:$E$180&[1]A_Monthly!$F$2:$F$180,0))))} -> 23 | O67: {=IF(ISERROR(INDEX([1]A_Monthly!N$2:N$180,MATCH($A67&$B67&$C67,[1]A_Monthly!$D$2:$D$180&[1]A_Monthly!$E$2:$E$180&[1]A_Monthly!$F$2:$F$180,0))),0,(INDEX([1]A_Monthly!N$2:N$180,MATCH($A67&$B67&$C67,[1]A_Monthly!$D$2:$D$180&[1]A_Monthly!$E$2:$E$180&[1]A_Monthly!$F$2:$F$180,0))))} -> 22 | ... AH67: {=IF(ISERROR(INDEX([1]A_Monthly!AG$2:AG$180,MATCH($A67&$B67&$C67,[1]A_Monthly!$D$2:$D$180&[1]A_Monthly!$E$2:$E$180&[1]A_Monthly!$F$2:$F$180,0))),0,(INDEX([1]A_Monthly!AG$2:AG$180,MATCH($A67&$B67&$C67,[1]A_Monthly!$D$2:$D$180&[1]A_Monthly!$E$2:$E$180&[1]A_Monthly!$F$2:$F$180,0))))} -> 22
A68: 13 | B68: 2 | C68: 2 | D68: {=IF(ISERROR(INDEX([1]A_Current!G$2:G$180,MATCH($A68&$B68&$C68,[1]A_Current!$D$2:$D$180&[1]A_Yearly!$E$2:$E$180&[1]A_Current!$F$2:$F$180,0))),0,(INDEX([1]A_Current!G$2:G$180,MATCH($A68&$B68&$C68,[1]A_Current!$D$2:$D$180&[1]A_Current!$E$2:$E$180&[1]A_Current!$F$2:$F$180,0))))} -> 168 | E68: {=IF(ISERROR(INDEX([1]A_Current!H$2:H$180,MATCH($A68&$B68&$C68,[1]A_Current!$D$2:$D$180&[1]A_Yearly!$E$2:$E$180&[1]A_Current!$F$2:$F$180,0))),0,(INDEX([1]A_Current!H$2:H$180,MATCH($A68&$B68&$C68,[1]A_Current!$D$2:$D$180&[1]A_Current!$E$2:$E$180&[1]A_Current!$F$2:$F$180,0))))} -> 180 | G68: No alcohol involved | H68: {=IF(ISERROR(INDEX([1]A_Monthly!G$2:G$180,MATCH($A68&$B68&$C68,[1]A_Monthly!$D$2:$D$180&[1]A_Monthly!$E$2:$E$180&[1]A_Monthly!$F$2:$F$180,0))),0,(INDEX([1]A_Monthly!G$2:G$180,MATCH($A68&$B68&$C68,[1]A_Monthly!$D$2:$D$180&[1]A_Monthly!$E$2:$E$180&[1]A_Monthly!$F$2:$F$180,0))))} -> 23 | I68: {=IF(ISERROR(INDEX([1]A_Monthly!H$2:H$180,MATCH($A68&$B68&$C68,[1]A_Monthly!$D$2:$D$180&[1]A_Monthly!$E$2:$E$180&[1]A_Monthly!$F$2:$F$180,0))),0,(INDEX([1]A_Monthly!H$2:H$180,MATCH($A68&$B68&$C68,[1]A_Monthly!$D$2:$D$180&[1]A_Monthly!$E$2:$E$180&[1]A_Monthly!$F$2:$F$180,0))))} -> 22 | J68: {=IF(ISERROR(INDEX([1]A_Monthly!I$2:I$180,MATCH($A68&$B68&$C68,[1]A_Monthly!$D$2:$D$180&[1]A_Monthly!$E$2:$E$180&[1]A_Monthly!$F$2:$F$180,0))),0,(INDEX([1]A_Monthly!I$2:I$180,MATCH($A68&$B68&$C68,[1]A_Monthly!$D$2:$D$180&[1]A_Monthly!$E$2:$E$180&[1]A_Monthly!$F$2:$F$180,0))))} -> 9 | K68: {=IF(ISERROR(INDEX([1]A_Monthly!J$2:J$180,MATCH($A68&$B68&$C68,[1]A_Monthly!$D$2:$D$180&[1]A_Monthly!$E$2:$E$180&[1]A_Monthly!$F$2:$F$180,0))),0,(INDEX([1]A_Monthly!J$2:J$180,MATCH($A68&$B68&$C68,[1]A_Monthly!$D$2:$D$180&[1]A_Monthly!$E$2:$E$180&[1]A_Monthly!$F$2:$F$180,0))))} -> 12 | L68: {=IF(ISERROR(INDEX([1]A_Monthly!K$2:K$180,MATCH($A68&$B68&$C68,[1]A_Monthly!$D$2:$D$180&[1]A_Monthly!$E$2:$E$180&[1]A_Monthly!$F$2:$F$180,0))),0,(INDEX([1]A_Monthly!K$2:K$180,MATCH($A68&$B68&$C68,[1]A_Monthly!$D$2:$D$180&[1]A_Monthly!$E$2:$E$180&[1]A_Monthly!$F$2:$F$180,0))))} -> 13 | M68: {=IF(ISERROR(INDEX([1]A_Monthly!L$2:L$180,MATCH($A68&$B68&$C68,[1]A_Monthly!$D$2:$D$180&[1]A_Monthly!$E$2:$E$180&[1]A_Monthly!$F$2:$F$180,0))),0,(INDEX([1]A_Monthly!L$2:L$180,MATCH($A68&$B68&$C68,[1]A_Monthly!$D$2:$D$180&[1]A_Monthly!$E$2:$E$180&[1]A_Monthly!$F$2:$F$180,0))))} -> 16 | N68: {=IF(ISERROR(INDEX([1]A_Monthly!M$2:M$180,MATCH($A68&$B68&$C68,[1]A_Monthly!$D$2:$D$180&[1]A_Monthly!$E$2:$E$180&[1]A_Monthly!$F$2:$F$180,0))),0,(INDEX([1]A_Monthly!M$2:M$180,MATCH($A68&$B68&$C68,[1]A_Monthly!$D$2:$D$180&[1]A_Monthly!$E$2:$E$180&[1]A_Monthly!$F$2:$F$180,0))))} -> 11 | O68: {=IF(ISERROR(INDEX([1]A_Monthly!N$2:N$180,MATCH($A68&$B68&$C68,[1]A_Monthly!$D$2:$D$180&[1]A_Monthly!$E$2:$E$180&[1]A_Monthly!$F$2:$F$180,0))),0,(INDEX([1]A_Monthly!N$2:N$180,MATCH($A68&$B68&$C68,[1]A_Monthly!$D$2:$D$180&[1]A_Monthly!$E$2:$E$180&[1]A_Monthly!$F$2:$F$180,0))))} -> 16 | ... AH68: {=IF(ISERROR(INDEX([1]A_Monthly!AG$2:AG$180,MATCH($A68&$B68&$C68,[1]A_Monthly!$D$2:$D$180&[1]A_Monthly!$E$2:$E$180&[1]A_Monthly!$F$2:$F$180,0))),0,(INDEX([1]A_Monthly!AG$2:AG$180,MATCH($A68&$B68&$C68,[1]A_Monthly!$D$2:$D$180&[1]A_Monthly!$E$2:$E$180&[1]A_Monthly!$F$2:$F$180,0))))} -> 20
A69: 13 | B69: 2 | C69: 3 | D69: {=IF(ISERROR(INDEX([1]A_Current!G$2:G$180,MATCH($A69&$B69&$C69,[1]A_Current!$D$2:$D$180&[1]A_Yearly!$E$2:$E$180&[1]A_Current!$F$2:$F$180,0))),0,(INDEX([1]A_Current!G$2:G$180,MATCH($A69&$B69&$C69,[1]A_Current!$D$2:$D$180&[1]A_Current!$E$2:$E$180&[1]A_Current!$F$2:$F$180,0))))} -> 248 | E69: {=IF(ISERROR(INDEX([1]A_Current!H$2:H$180,MATCH($A69&$B69&$C69,[1]A_Current!$D$2:$D$180&[1]A_Yearly!$E$2:$E$180&[1]A_Current!$F$2:$F$180,0))),0,(INDEX([1]A_Current!H$2:H$180,MATCH($A69&$B69&$C69,[1]A_Current!$D$2:$D$180&[1]A_Current!$E$2:$E$180&[1]A_Current!$F$2:$F$180,0))))} -> 272 | G69: Not known | H69: {=IF(ISERROR(INDEX([1]A_Monthly!G$2:G$180,MATCH($A69&$B69&$C69,[1]A_Monthly!$D$2:$D$180&[1]A_Monthly!$E$2:$E$180&[1]A_Monthly!$F$2:$F$180,0))),0,(INDEX([1]A_Monthly!G$2:G$180,MATCH($A69&$B69&$C69,[1]A_Monthly!$D$2:$D$180&[1]A_Monthly!$E$2:$E$180&[1]A_Monthly!$F$2:$F$180,0))))} -> 18 | I69: {=IF(ISERROR(INDEX([1]A_Monthly!H$2:H$180,MATCH($A69&$B69&$C69,[1]A_Monthly!$D$2:$D$180&[1]A_Monthly!$E$2:$E$180&[1]A_Monthly!$F$2:$F$180,0))),0,(INDEX([1]A_Monthly!H$2:H$180,MATCH($A69&$B69&$C69,[1]A_Monthly!$D$2:$D$180&[1]A_Monthly!$E$2:$E$180&[1]A_Monthly!$F$2:$F$180,0))))} -> 11 | J69: {=IF(ISERROR(INDEX([1]A_Monthly!I$2:I$180,MATCH($A69&$B69&$C69,[1]A_Monthly!$D$2:$D$180&[1]A_Monthly!$E$2:$E$180&[1]A_Monthly!$F$2:$F$180,0))),0,(INDEX([1]A_Monthly!I$2:I$180,MATCH($A69&$B69&$C69,[1]A_Monthly!$D$2:$D$180&[1]A_Monthly!$E$2:$E$180&[1]A_Monthly!$F$2:$F$180,0))))} -> 13 | K69: {=IF(ISERROR(INDEX([1]A_Monthly!J$2:J$180,MATCH($A69&$B69&$C69,[1]A_Monthly!$D$2:$D$180&[1]A_Monthly!$E$2:$E$180&[1]A_Monthly!$F$2:$F$180,0))),0,(INDEX([1]A_Monthly!J$2:J$180,MATCH($A69&$B69&$C69,[1]A_Monthly!$D$2:$D$180&[1]A_Monthly!$E$2:$E$180&[1]A_Monthly!$F$2:$F$180,0))))} -> 12 | L69: {=IF(ISERROR(INDEX([1]A_Monthly!K$2:K$180,MATCH($A69&$B69&$C69,[1]A_Monthly!$D$2:$D$180&[1]A_Monthly!$E$2:$E$180&[1]A_Monthly!$F$2:$F$180,0))),0,(INDEX([1]A_Monthly!K$2:K$180,MATCH($A69&$B69&$C69,[1]A_Monthly!$D$2:$D$180&[1]A_Monthly!$E$2:$E$180&[1]A_Monthly!$F$2:$F$180,0))))} -> 9 | M69: {=IF(ISERROR(INDEX([1]A_Monthly!L$2:L$180,MATCH($A69&$B69&$C69,[1]A_Monthly!$D$2:$D$180&[1]A_Monthly!$E$2:$E$180&[1]A_Monthly!$F$2:$F$180,0))),0,(INDEX([1]A_Monthly!L$2:L$180,MATCH($A69&$B69&$C69,[1]A_Monthly!$D$2:$D$180&[1]A_Monthly!$E$2:$E$180&[1]A_Monthly!$F$2:$F$180,0))))} -> 23 | N69: {=IF(ISERROR(INDEX([1]A_Monthly!M$2:M$180,MATCH($A69&$B69&$C69,[1]A_Monthly!$D$2:$D$180&[1]A_Monthly!$E$2:$E$180&[1]A_Monthly!$F$2:$F$180,0))),0,(INDEX([1]A_Monthly!M$2:M$180,MATCH($A69&$B69&$C69,[1]A_Monthly!$D$2:$D$180&[1]A_Monthly!$E$2:$E$180&[1]A_Monthly!$F$2:$F$180,0))))} -> 21 | O69: {=IF(ISERROR(INDEX([1]A_Monthly!N$2:N$180,MATCH($A69&$B69&$C69,[1]A_Monthly!$D$2:$D$180&[1]A_Monthly!$E$2:$E$180&[1]A_Monthly!$F$2:$F$180,0))),0,(INDEX([1]A_Monthly!N$2:N$180,MATCH($A69&$B69&$C69,[1]A_Monthly!$D$2:$D$180&[1]A_Monthly!$E$2:$E$180&[1]A_Monthly!$F$2:$F$180,0))))} -> 32 | ... AH69: {=IF(ISERROR(INDEX([1]A_Monthly!AG$2:AG$180,MATCH($A69&$B69&$C69,[1]A_Monthly!$D$2:$D$180&[1]A_Monthly!$E$2:$E$180&[1]A_Monthly!$F$2:$F$180,0))),0,(INDEX([1]A_Monthly!AG$2:AG$180,MATCH($A69&$B69&$C69,[1]A_Monthly!$D$2:$D$180&[1]A_Monthly!$E$2:$E$180&[1]A_Monthly!$F$2:$F$180,0))))} -> 47
D70: =SUM(D67:D69) -> 614 | E70: =SUM(E67:E69) -> 668 | F70: DV not involved Total | H70: =SUM(H67:H69) -> 69 | I70: =SUM(I67:I69) -> 56 | J70: =SUM(J67:J69) -> 34 | K70: =SUM(K67:K69) -> 42 | L70: =SUM(L67:L69) -> 47 | M70: =SUM(M67:M69) -> 51 | N70: =SUM(N67:N69) -> 55 | O70: =SUM(O67:O69) -> 70 | ... AH70: =SUM(AH67:AH69) -> 89
D71: =D66+D70 -> 1618 | E71: =E66+E70 -> 1774 | F71: Total assaults | H71: =H66+H70 -> 164 | I71: =I66+I70 -> 154 | J71: =J66+J70 -> 101 | K71: =K66+K70 -> 118 | L71: =L66+L70 -> 108 | M71: =M66+M70 -> 130 | N71: =N66+N70 -> 164 | O71: =O66+O70 -> 196 | ... AH71: =AH66+AH70 -> 204
